BEGIN:VCALENDAR
VERSION:2.0
PRODID:-//amacma（アマクマ） - ECPv6.15.17.1//NONSGML v1.0//EN
CALSCALE:GREGORIAN
METHOD:PUBLISH
X-ORIGINAL-URL:https://amacma.jp
X-WR-CALDESC:amacma（アマクマ） のイベント
REFRESH-INTERVAL;VALUE=DURATION:PT1H
X-Robots-Tag:noindex
X-PUBLISHED-TTL:PT1H
BEGIN:VTIMEZONE
TZID:Asia/Tokyo
BEGIN:STANDARD
TZOFFSETFROM:+0900
TZOFFSETTO:+0900
TZNAME:JST
DTSTART:20240101T000000
END:STANDARD
END:VTIMEZONE
BEGIN:VEVENT
DTSTART;TZID=Asia/Tokyo:20251124T130000
DTEND;TZID=Asia/Tokyo:20251124T130000
DTSTAMP:20260426T114623
CREATED:20251006T191215Z
LAST-MODIFIED:20251006T191218Z
UID:1071-1763989200-1763989200@amacma.jp
SUMMARY:笑顔いっぱいの時間を！「ケロポンズ ファミリーコンサート」
DESCRIPTION:子どもたちに大人気のユニット・ケロポンズが、沖縄市のミュージックタウン音市場にやってきます。歌って、踊って、笑って——親子でたっぷり楽しめる「ケロポンズ ファミリーコンサート」が11月24日（月・祝）に開かれます。 \n\n\n\n「エビカニクス」でおなじみのケロポンズが届けるステージは、はじめてのコンサート体験にもぴったり。0歳から入場できるので、小さなお子さんも安心して楽しめます。カラフルな衣装と元気いっぱいの音楽に包まれて、家族みんなで思いきり体を動かしましょう。 \n\n\n\n会場は沖縄市・ミュージックタウン音市場\n\n\n\n今回の会場は、沖縄市のミュージックタウン音市場。屋内ステージなので天気を気にせず快適に過ごせます。会場周辺には飲食店も多く、コンサートの前後にランチやおやつタイムを楽しむのもおすすめです。 \n\n\n\n公演スケジュールと料金\n\n\n\n公演は2回に分かれて行われます。1回目は13時開演、2回目は16時開演。一般は2\,000円、小学生以下は1\,000円（当日500円増）で、2歳以下は膝上無料となっています。全席自由のため、早めの来場がおすすめです。 \n\n\n\nケロポンズとは？\n\n\n\n「エビカニクス」をはじめとする歌あそびや体操ソングで全国の子どもたちに親しまれているユニット。保育園や幼稚園でもおなじみの楽曲がたくさん登場するので、自然と体が動いて笑顔になれる時間が待っています。親子で一緒に歌って踊って、思い出に残る1日を過ごしてみませんか？ \n\n\n\n開催情報\n\n\n\n日程：2025年11月24日（月・祝）会場：ミュージックタウン音市場（沖縄市上地）時間：・1回目／開場12:00・開演13:00・2回目／開場15:30・開演16:00料金：一般2\,000円・小学生以下1\,000円（当日500円増）※2歳以下は膝上無料、全席自由 \n\n\n\n関連動画
URL:https://amacma.jp/event/%e7%ac%91%e9%a1%94%e3%81%84%e3%81%a3%e3%81%b1%e3%81%84%e3%81%ae%e6%99%82%e9%96%93%e3%82%92%ef%bc%81%e3%80%8c%e3%82%b1%e3%83%ad%e3%83%9d%e3%83%b3%e3%82%ba-%e3%83%95%e3%82%a1%e3%83%9f%e3%83%aa%e3%83%bc/
LOCATION:コザ・ミュージックタウン\, 上地1-1-1\, 沖縄市\, 沖縄県\, 〒904-0031\, Japan
CATEGORIES:特別開催
ATTACH;FMTTYPE=image/jpeg:https://amacma.jp/cms/wp-content/uploads/2025/10/keroponsfamilyconcert_flier.jpg
END:VEVENT
BEGIN:VEVENT
DTSTART;TZID=Asia/Tokyo:20251129T093000
DTEND;TZID=Asia/Tokyo:20251129T093000
DTSTAMP:20260426T114623
CREATED:20250928T062431Z
LAST-MODIFIED:20250928T062433Z
UID:1019-1764408600-1764408600@amacma.jp
SUMMARY:西原町で野球を楽しく学べる「野球教室 NISHIHARA」
DESCRIPTION:野球が大好きな子どもたちにぴったりのイベント「野球教室 NISHIHARA」が、11月29日（土）に西原町の東崎公園野球場で開かれます。参加費は無料で、小中学生なら誰でも参加できるのが嬉しいポイントです。 \n\n\n\nこのイベントは、沖縄大学軟式野球部の協力で実施される本格的な野球教室。キャッチボールやバッティングなど、レベルに応じて学べる3つのカテゴリー（上級者〜未経験＆低学年向け）が用意されています。初めて野球に触れる子も、もっと上達したい子も、自分に合った内容で楽しめます。 \n\n\n\n特別ゲストとして、YouTuber「トクサンTV」のメンバーや、元プロ野球選手の小森孝憲さん、西原町出身で甲子園で活躍した国吉大陸さん・国吉大将さん、そして元沖縄電力野球部の大濱俊貴さんも参加予定。憧れの選手たちから直接指導を受けられるチャンスです。 \n\n\n\n参加者には豪華賞品が当たるチャンスもあり、西原町以外からも参加OK。野球がもっと好きになる一日になりそうです。 \n\n\n\n開催概要\n\n\n\n\n日程：2025年11月29日（土）\n\n\n\n時間：10:00～（受付 9:30開始）\n\n\n\n会場：東崎公園野球場（西原町東崎5-1）\n\n\n\n対象：小学生・中学生（西原町外からの参加も可）\n\n\n\n参加費：無料
URL:https://amacma.jp/event/%e8%a5%bf%e5%8e%9f%e7%94%ba%e3%81%a7%e9%87%8e%e7%90%83%e3%82%92%e6%a5%bd%e3%81%97%e3%81%8f%e5%ad%a6%e3%81%b9%e3%82%8b%e3%80%8c%e9%87%8e%e7%90%83%e6%95%99%e5%ae%a4-nishihara%e3%80%8d/
LOCATION:東崎公園野球場\, 東崎5-1\, 中頭郡西原町\, 沖縄県\, 〒903-0105\, Japan
ATTACH;FMTTYPE=image/jpeg:https://amacma.jp/cms/wp-content/uploads/2025/09/550362563_18095085616661076_2325390371379439980_n.jpg
END:VEVENT
BEGIN:VEVENT
DTSTART;TZID=Asia/Tokyo:20251129T100000
DTEND;TZID=Asia/Tokyo:20251130T170000
DTSTAMP:20260426T114623
CREATED:20251012T155048Z
LAST-MODIFIED:20251030T073706Z
UID:1108-1764410400-1764522000@amacma.jp
SUMMARY:うるまの魅力が大集合！「第21回 うるま市産業まつり」
DESCRIPTION:うるま市の特産品やグルメ、ものづくり体験など、見どころ満載の「第21回 うるま市産業まつり」が開催されます！今年は、うるま市誕生20周年記念事業として、さらにスケールアップ。家族みんなで楽しめる内容が盛りだくさんです。 \n\n\n\nメイン会場の「イオン具志川店」では、うるま市の逸品がずらりと並ぶ特産品直販コーナーや、地元団体によるステージイベントを開催。ゲストには、伊波大志さん・宝眞榮日也美さん・前徳比嘉優さんが登場し、会場を盛り上げます！ \n\n\n\nそのほか、各地でさまざまな企画も同時開催。「洲崎地区エリア」ではプログラミング体験や企業見学が行われ、子どもたちの“未来の学び”を応援。「うるマルシェエリア」では、肉フェスが登場し、うるまの美味しいお肉を味わえます。さらに「東ふ頭エリア」では、海上保安庁巡視船の特別公開や海保カレー販売も実施予定！普段見られない船の内部にワクワクすること間違いなしです。 \n\n\n\n開催情報\n\n\n\n日程2025年11月29日（土）・30日（日） \n\n\n\n時間10:00〜17:00 \n\n\n\nメイン会場イオン具志川店 \n\n\n\nサテライト会場洲崎地区エリア・うるマルシェエリア・東ふ頭エリア・ゼビオうるま店エリア \n\n\n\n主な内容 \n\n\n\n\nうるまの逸品直販＆ステージイベント\n\n\n\n肉フェス\n\n\n\nプログラミング体験・企業見学\n\n\n\n巡視船公開・海保カレー販売\n\n\n\n地産地消グルメやスポーツ体験も充実！\n\n\n\n\n主催うるま市商工会 \n\n\n\nうるまの産業・文化・食を一度に楽しめる2日間。子どもたちの学びにもなる体験がそろっているので、ぜひ家族みんなで遊びに行ってみてください♪
URL:https://amacma.jp/event/%e3%81%86%e3%82%8b%e3%81%be%e3%81%ae%e9%ad%85%e5%8a%9b%e3%81%8c%e5%a4%a7%e9%9b%86%e5%90%88%ef%bc%81%e3%80%8c%e7%ac%ac21%e5%9b%9e-%e3%81%86%e3%82%8b%e3%81%be%e5%b8%82%e7%94%a3%e6%a5%ad%e3%81%be/
LOCATION:沖縄県
CATEGORIES:お祭り・フェス,特別開催
ATTACH;FMTTYPE=image/jpeg:https://amacma.jp/cms/wp-content/uploads/2025/10/urumasisangyoumaturi.jpg
END:VEVENT
BEGIN:VEVENT
DTSTART;TZID=Asia/Tokyo:20251129T130000
DTEND;TZID=Asia/Tokyo:20251129T200000
DTSTAMP:20260426T114623
CREATED:20251108T083656Z
LAST-MODIFIED:20251108T083658Z
UID:1205-1764421200-1764446400@amacma.jp
SUMMARY:音楽と花火で盛り上がる、北部を代表する秋のまつり「第44回名護まつり」
DESCRIPTION:今年で44回目を迎える「名護まつり」が、11月29日（土）に名護漁港構内で開催されます。今年は1日のみの開催となりますが、港の広場にはキッチンカーがずらりと並び、名護のまち全体が笑顔で包まれる一日になりそうです。 \n\n\n\n会場では、名護市出身アーティストによるライブステージや、華やかなダンスパフォーマンスなど、多彩なプログラムが予定されています。音楽に合わせて体を動かしたり、おいしいグルメを味わったりと、大人も子どもも一緒に楽しめる内容が盛りだくさんです。 \n\n\n\n夕方からは、いよいよ名護の夜空を彩る花火の時間。最大1尺玉の新作花火や連発花火が次々と打ち上がり、港の海面に映る光と音の競演は圧巻です。名護湾を背景に広がる大輪の花は、冬の訪れを感じさせる名護の風物詩として、多くの人に親しまれています。 \n\n\n\nお祭り当日は駐車場の用意がありませんので、来場の際はバスやタクシーの利用がおすすめです。名護の港で、秋の終わりにぴったりの思い出を作ってみませんか。 \n\n\n\n開催日2025年11月29日（土）13:00〜20:00（小雨決行・荒天時中止） \n\n\n\n会場名護漁港構内（名護市） \n\n\n\nお問い合わせ名護市商工会青年部　0980-52-4243
URL:https://amacma.jp/event/%e9%9f%b3%e6%a5%bd%e3%81%a8%e8%8a%b1%e7%81%ab%e3%81%a7%e7%9b%9b%e3%82%8a%e4%b8%8a%e3%81%8c%e3%82%8b%e3%80%81%e5%8c%97%e9%83%a8%e3%82%92%e4%bb%a3%e8%a1%a8%e3%81%99%e3%82%8b%e7%a7%8b%e3%81%ae%e3%81%be/
LOCATION:沖縄県
CATEGORIES:お祭り・フェス
ATTACH;FMTTYPE=image/png:https://amacma.jp/cms/wp-content/uploads/2025/11/0fa637a1729e817fc815a4ceee13a1b6-1.png
END:VEVENT
BEGIN:VEVENT
DTSTART;TZID=Asia/Tokyo:20251220T103000
DTEND;TZID=Asia/Tokyo:20251221T150000
DTSTAMP:20260426T114623
CREATED:20250921T071409Z
LAST-MODIFIED:20251003T101159Z
UID:985-1766226600-1766329200@amacma.jp
SUMMARY:恐竜たちが動き出す！大迫力ステージ「恐竜ラボ！ギガ・ミッション from DINO-A-LIVE」
DESCRIPTION:大人気の恐竜ライブショー「恐竜ラボ！ギガ・ミッション」が沖縄にやってきます！まるで本物のように動く恐竜たちがステージいっぱいに登場し、観客を太古の世界へと引き込みます。子どもから大人まで、ドキドキとワクワクが止まらないステージです。 \n\n\n\n公演は2025年12月20日（土）と21日（日）の2日間。各日ともに10:30と14:00の2回公演で、会場は沖縄コンベンションセンターとなっています。上演時間は約60分。小さなお子さまも最後まで楽しめる構成になっています。 \n\n\n\nチケットは3種類。迫力を間近で体感できる「ダイナミックシート」（前方1～11列・オリジナル特典付き）が5\,800円。その他、S席4\,200円、A席3\,600円と幅広く用意されています。ご家族やお友だちと一緒に、お好みの席で楽しめます。 \n\n\n\n販売スケジュールは、ChuチケOnlineでの先行発売が9月20日（土）～9月27日（土）、続いてチケットぴあでの先行発売が10月4日（土）～10月10日（金）に予定されています。早めにチェックしておくのがおすすめです。※ローソンチケット、イープラスでの販売スケジュールはまだ公開されていません。 \n\n\n\n恐竜たちが織りなす迫力満点のステージは、まさに子どもたちの心に残る特別な体験。冬休みの始まりに、ご家族で恐竜の世界へタイムスリップしてみませんか。 \n\n\n\n関連動画
URL:https://amacma.jp/event/%e6%81%90%e7%ab%9c%e3%81%9f%e3%81%a1%e3%81%8c%e5%8b%95%e3%81%8d%e5%87%ba%e3%81%99%ef%bc%81%e5%a4%a7%e8%bf%ab%e5%8a%9b%e3%82%b9%e3%83%86%e3%83%bc%e3%82%b8%e3%80%8c%e6%81%90%e7%ab%9c%e3%83%a9%e3%83%9c/
LOCATION:沖縄コンベンションセンター\, 真志喜4-3-1\, 宜野湾市\, 沖縄県\, 〒901-2224\, Japan
CATEGORIES:室内イベント,特別開催
ATTACH;FMTTYPE=image/jpeg:https://amacma.jp/cms/wp-content/uploads/2025/09/G0ewSotaoAAIKCt.jpeg
END:VEVENT
BEGIN:VEVENT
DTSTART;TZID=Asia/Tokyo:20260109T000000
DTEND;TZID=Asia/Tokyo:20260125T235959
DTSTAMP:20260426T114623
CREATED:20251230T175424Z
LAST-MODIFIED:20251230T175427Z
UID:1235-1767916800-1769385599@amacma.jp
SUMMARY:テクノロジーで体を動かす体験型展示「なはーと DANCE CREW」那覇で開催
DESCRIPTION:那覇文化芸術劇場なはーとで、ダンスとテクノロジーが融合した体験型展示「なはーと DANCE CREW」が開催されます。センサーや映像、音楽を使って、踊る動きがそのまま映像表現に変わる参加型コンテンツは、ダンス経験の有無を問わず楽しめる内容です。体を動かすことが好きな人はもちろん、見るだけの展示では物足りない人にもおすすめの企画です。 \n\n\n\n「なはーと DANCE CREW」とは\n\n\n\n「なはーと DANCE CREW」は、来場者自身の動きに反応して映像が変化する体験展示です。カメラやセンサーが体の動きを捉え、色や光、エフェクトが加わることで、その場でオリジナルの映像作品が完成します。完成した映像はスマートフォンに保存でき、SNSでシェアすることもできます。 \n\n\n\nダンスが初めてでも楽しめる理由\n\n\n\n自由な動きがそのまま表現になる仕組み\n\n\n\n決まった振り付けはなく、ジャンプや手拍子、歩く動きでも反応します。ダンスが得意でなくても、自分なりの動きで映像表現を楽しめるのが特徴です。 \n\n\n\n見るだけでもワクワクする展示空間\n\n\n\n他の参加者の映像演出を見るだけでも楽しめるため、付き添いの家族や友人も一緒に体験の雰囲気を味わえます。会場全体がライブ感のある空間になるのも、この展示ならではです。 \n\n\n\n開催期間・時間\n\n\n\n開催日程\n\n\n\n2026年1月9日（金）〜1月25日（日） \n\n\n\n開催時間\n\n\n\n平日 16:00〜20:00土日祝 10:00〜17:00※1月19日（月）は休館日 \n\n\n\n会場情報\n\n\n\n会場\n\n\n\n那覇文化芸術劇場なはーと（1階 小スタジオ） \n\n\n\n那覇市中心部に位置し、公共交通機関でのアクセスもしやすい会場です。買い物や食事とあわせて立ち寄りやすい点も魅力です。 \n\n\n\n料金・参加条件\n\n\n\n入場料\n\n\n\n無料年齢制限はなく、子どもから大人まで参加できます。 \n\n\n\nワークショップも開催予定\n\n\n\n期間中には、ダンスをより楽しむためのワークショップも予定されています。体の動かし方や映像表現のポイントを知ることで、展示体験がさらに広がります。詳細は公式サイトで案内される予定です。 \n\n\n\nこんな人におすすめ\n\n\n\n\n体を動かすのが好きな人\n\n\n\nダンスや映像表現に興味がある人\n\n\n\n親子で参加できる体験型イベントを探している人\n\n\n\nSNSでシェアできる思い出を作りたい人
URL:https://amacma.jp/event/%e3%83%86%e3%82%af%e3%83%8e%e3%83%ad%e3%82%b8%e3%83%bc%e3%81%a7%e4%bd%93%e3%82%92%e5%8b%95%e3%81%8b%e3%81%99%e4%bd%93%e9%a8%93%e5%9e%8b%e5%b1%95%e7%a4%ba%e3%80%8c%e3%81%aa%e3%81%af%e3%83%bc%e3%81%a8-d/
LOCATION:那覇文化芸術劇場なはーと\, 久茂地3-26-27\, 那覇市\, 沖縄県\, 〒900-0015\, Japan
ATTACH;FMTTYPE=image/jpeg:https://amacma.jp/cms/wp-content/uploads/2025/12/1765504088_page-0001.jpg
END:VEVENT
BEGIN:VEVENT
DTSTART;TZID=Asia/Tokyo:20260117T000000
DTEND;TZID=Asia/Tokyo:20260201T235959
DTSTAMP:20260426T114623
CREATED:20251230T173042Z
LAST-MODIFIED:20251230T173046Z
UID:1232-1768608000-1769990399@amacma.jp
SUMMARY:日本一早咲きの桜を楽しむ「第48回 もとぶ八重岳桜まつり」2026年1月17日から開催
DESCRIPTION:沖縄本島北部・本部町にある八重岳では、全国に先駆けて寒緋桜が見頃を迎えます。2026年も「もとぶ八重岳桜まつり」が開催され、山肌を染める濃いピンク色の桜景色を楽しめます。 \n\n\n\n\n\n\n\n第48回 もとぶ八重岳桜まつりとは\n\n\n\nもとぶ八重岳桜まつりは、沖縄県本部町を代表する冬の風物詩です。八重岳の桜並木は「日本一早咲きの桜」として知られ、1月中旬から全国に春の訪れを届けてくれます。車でのドライブはもちろん、ゆったりと散策しながら桜を眺めるのもおすすめです。 \n\n\n\n\n\n\n\n花見期間・基本情報\n\n\n\n花見期間\n\n\n\n\n2026年1月17日（土）〜2月1日（日）\n\n\n\n\n開催場所\n\n\n\n\n八重岳桜の森公園 （沖縄県国頭郡本部町）\n\n\n\n\n主催\n\n\n\n\n本部まつり実行委員会\n\n\n\n\n問い合わせ先\n\n\n\n\n本部町観光協会 電話：0980-47-3641\n\n\n\n\n\n\n\n\n八重岳の桜の見どころ\n\n\n\n日本一早く咲く寒緋桜\n\n\n\n八重岳に咲く寒緋桜は、色が濃く、下向きに花をつけるのが特徴です。山道に沿って続く桜並木は、ドライブ中でも圧巻の景色を楽しめます。 \n\n\n\n写真撮影にもおすすめ\n\n\n\n斜面一帯に広がる桜と、沖縄ならではの亜熱帯の緑が織りなす風景は、写真映えするスポットとしても人気。毎年多くの来場者がカメラを手に訪れます。 \n\n\n\n\n\n\n\n同時開催・関連イベント情報\n\n\n\n2026年 桜フォトコンテスト\n\n\n\n\n開催期間：2026年1月17日（土）〜2月11日（水・祝） 八重岳の桜をテーマにした写真作品を募集します。\n\n\n\n\nホエールウォッチング\n\n\n\n\n開催期間：2026年1月5日（月）〜3月31日（火） 冬の沖縄ならではの体験として、桜とあわせて楽しめます。\n\n\n\n\n周辺施設のイベント\n\n\n\n\n海洋博公園や熱帯ドリームセンターでも、期間限定イベントが予定されています。\n\n\n\n\n\n\n\n\n冬の沖縄でひと足早い春を\n\n\n\n全国より一足早く咲く八重岳の桜は、冬の沖縄ならではの特別な景色です。2026年のはじまりに、淡いピンク色に包まれる八重岳で、心癒される時間を過ごしてみてはいかがでしょうか。
URL:https://amacma.jp/event/%e6%97%a5%e6%9c%ac%e4%b8%80%e6%97%a9%e5%92%b2%e3%81%8d%e3%81%ae%e6%a1%9c%e3%82%92%e6%a5%bd%e3%81%97%e3%82%80%e3%80%8c%e7%ac%ac48%e5%9b%9e-%e3%82%82%e3%81%a8%e3%81%b6%e5%85%ab%e9%87%8d%e5%b2%b3/
LOCATION:沖縄県
ATTACH;FMTTYPE=image/jpeg:https://amacma.jp/cms/wp-content/uploads/2025/12/4848motobu-yaedake-sakura_page-0001-scaled.jpg
END:VEVENT
BEGIN:VEVENT
DTSTART;TZID=Asia/Tokyo:20260328T080000
DTEND;TZID=Asia/Tokyo:20260328T170000
DTSTAMP:20260426T114623
CREATED:20260309T080210Z
LAST-MODIFIED:20260309T080210Z
UID:1257-1774684800-1774717200@amacma.jp
SUMMARY:参加無料！「こどもシゴト博2026 in 沖縄」でリアルなお仕事体験【那覇市・奥武山公園】
DESCRIPTION:「消防士になってみたい！」「パティシエってどんなお仕事？」——お子様のそんなキラキラした好奇心に応えてくれるイベントが、今年も沖縄にやってきます。 \n\n\n\n2026年3月28日（土）、奥武山公園の沖縄県立武道館アリーナにて「こどもシゴト博2026 in 沖縄 with がんじゅうまつり」が開催。未就学児から小学生を対象に、参加無料でリアルなお仕事体験ができる大人気イベントです。 \n\n\n\nどんな体験ができる？\n\n\n\n会場には、沖縄で活躍する企業や自治体のブースがずらり。本物の道具や制服にふれながら、「見る」だけでなく「やってみる」からこそ広がる発見がいっぱいです。 \n\n\n\n今回出展予定の職業ジャンルはこちら👇 \n\n\n\n\n🚒 消防士：消防車の見学やホース体験\n\n\n\n🚔 警察官：パトカー乗車体験やおまわりさんの制服を着てみよう\n\n\n\n🎤 マスコミ・報道：リポーターやカメラマンのお仕事体験\n\n\n\n🏗️ 建設：重機の操作体験やヘルメットをかぶって現場気分\n\n\n\n🏥 医療：お医者さん・看護師さんのなりきり体験\n\n\n\n🌺 観光：沖縄の観光産業を学ぶワークショップ\n\n\n\n…ほか、たくさんの職業ブースが登場予定！\n\n\n\n\n制服を着ての「なりきり体験」はお子様に大人気。「大きくなったら何になりたい？」が見つかるきっかけになるかもしれません。 \n\n\n\n\nパパ・ママも楽しめる「がんじゅうまつり」同時開催\n\n\n\nお子様がお仕事体験をしている間、パパ・ママは何をしていればいいの？——そんな心配は不要です。 \n\n\n\n健康をテーマにした「がんじゅうまつり」が同時開催。親子で楽しめるチャレンジコンテンツや健康関連のブース、子どもの虫歯予防に関する相談コーナーなどが用意されています。お子様の体験を見守りながら、パパ・ママも充実した時間を過ごせるのがうれしいポイントです。 \n\n\n\n\n過去のこどもシゴト博の様子\n\n\n\n全国各地で開催され、累計約3万人の親子が参加している「こどもシゴト博」。会場は毎回、子どもたちの笑顔と歓声であふれています。 \n\n\n\nInstagramでこの投稿を見る \n\n\n\n\n※上記は「こどもシゴト博 in 川越」の様子です。沖縄会場でも同様の体験が楽しめます。 \n\n\n\n\n開催概要\n\n\n\n\nイベント名：こどもシゴト博2026 in 沖縄 with がんじゅうまつり\n\n\n\n開催日：2026年3月28日（土）\n\n\n\n会場：沖縄県立武道館アリーナ（奥武山公園内）\n\n\n\n対象：未就学児〜小学生とその保護者\n\n\n\n参加費：無料（事前申込制・先着順）\n\n\n\n定員：親子500組\n\n\n\n主催：明治安田生命 / CHEERS株式会社\n\n\n\nお問い合わせ：明治安田生命 098-863-2402\n\n\n\n\n\n参加前にチェック！\n\n\n\n\n✅ 事前申込が必要です。定員500組・先着順なのでお早めに！\n\n\n\n🅿️ 奥武山公園の駐車場が利用できますが、混雑が予想されます。モノレール「奥武山公園駅」から徒歩すぐなので、公共交通機関の利用もおすすめです。\n\n\n\n👕 体験ブースでは動きやすい服装がベスト。汚れてもいい服だと安心です。\n\n\n\n\n\n春休みの特別な1日に\n\n\n\n教科書では学べない「リアルなお仕事」にふれることで、お子様の世界がぐっと広がります。「あの時の体験がきっかけで夢ができた」——そんな一日になるかもしれません。 \n\n\n\n春休みの思い出づくりに、家族みんなで出かけてみてはいかがでしょうか。
URL:https://amacma.jp/event/%e5%8f%82%e5%8a%a0%e7%84%a1%e6%96%99%ef%bc%81%e3%80%8c%e3%81%93%e3%81%a9%e3%82%82%e3%82%b7%e3%82%b4%e3%83%88%e5%8d%9a2026-in-%e6%b2%96%e7%b8%84%e3%80%8d%e3%81%a7%e3%83%aa%e3%82%a2%e3%83%ab%e3%81%aa/
LOCATION:沖縄県立武道館アリーナ\, 奥武山町52\, 那覇市\, 沖縄県\, 900-0026\, Japan
ATTACH;FMTTYPE=image/png:https://amacma.jp/cms/wp-content/uploads/2026/03/kodomo-shigoto-expo-2026-eyecatch.png
END:VEVENT
END:VCALENDAR