BEGIN:VCALENDAR
VERSION:2.0
PRODID:-//amacma（アマクマ） - ECPv6.15.17.1//NONSGML v1.0//EN
CALSCALE:GREGORIAN
METHOD:PUBLISH
X-WR-CALNAME:amacma（アマクマ）
X-ORIGINAL-URL:https://amacma.jp
X-WR-CALDESC:amacma（アマクマ） のイベント
REFRESH-INTERVAL;VALUE=DURATION:PT1H
X-Robots-Tag:noindex
X-PUBLISHED-TTL:PT1H
BEGIN:VTIMEZONE
TZID:Asia/Tokyo
BEGIN:STANDARD
TZOFFSETFROM:+0900
TZOFFSETTO:+0900
TZNAME:JST
DTSTART:20240101T000000
END:STANDARD
END:VTIMEZONE
BEGIN:VEVENT
DTSTART;TZID=Asia/Tokyo:20250705T000000
DTEND;TZID=Asia/Tokyo:20250706T235959
DTSTAMP:20260426T132316
CREATED:20250630T150656Z
LAST-MODIFIED:20250630T150702Z
UID:245-1751673600-1751846399@amacma.jp
SUMMARY:星空観測 in iias OKINAWA TOYOSAKI
DESCRIPTION:🌌🔭【星空観測イベント in iias OKINAWA TOYOSAKI】 \n\n\n\n～親子で楽しむ七夕の夜☆彡 織姫を探してみよう～ \n\n\n\n\n\n\n\n2025年7月5日（土）・6日（日）の夜、イーアス沖縄豊崎にて「星空観測」イベントが開催されます！ \n\n\n\n星空エンターテイナーによる解説付きで、望遠鏡を実際に操作しながら夜空の星たちを観察できる、家族連れにオススメの体験型イベントです🌠 \n\n\n\n\n\n\n\n🗓 開催情報\n\n\n\n\n日程：2025年7月5日（土）・6日（日）\n\n\n\n時間：19:30～21:00\n\n\n\n場所：イーアス沖縄豊崎 3F大階段 出入り口付近 ※雨天時は公式HPにてご確認ください。\n\n\n\n参加条件：当日のお買い上げレシート1\,000円（税込）以上で、お一人様参加可能\n\n\n\n\n\n\n\n\n🌟 イベントのおすすめポイント！\n\n\n\n\n🔭 望遠鏡を自分の手で操作できる！\n\n\n\n🌌 七夕時期にちなんで「織姫星（ベガ）」などを観察予定\n\n\n\n🧑‍🏫 星の専門家がその場で星の解説をしてくれるので、初めての星観察でも安心\n\n\n\n👨‍👩‍👧‍👦 子連れ参加大歓迎！夜のおでかけ＆学び体験にも◎\n\n\n\n\n\n\n\n\n🎫 参加方法はカンタン！\n\n\n\n\nイーアス沖縄豊崎で1\,000円（税込）以上のお買い物\n\n\n\nレシートを持って観測エリアへGO！ ※レシート1枚につき1名参加可能です。\n\n\n\n\n\n\n\n\n📍会場：iias OKINAWA TOYOSAKI（イーアス沖縄豊崎） \n\n\n\n🔗 公式HPはこちら \n\n\n\n夜空を見上げるワクワクを、家族で共有できる特別なひととき。 \n\n\n\nぜひこの機会に、夏の星空とふれあってみてくださいね！
URL:https://amacma.jp/event/%e6%98%9f%e7%a9%ba%e8%a6%b3%e6%b8%ac-in-iias-okinawa-toyosaki/
LOCATION:沖縄県
ATTACH;FMTTYPE=image/jpeg:https://amacma.jp/cms/wp-content/uploads/2025/07/974993ff-3ef2-441b-80ed-7fe36e638818.jpeg
END:VEVENT
BEGIN:VEVENT
DTSTART;TZID=Asia/Tokyo:20250705T100000
DTEND;TZID=Asia/Tokyo:20250705T180000
DTSTAMP:20260426T132316
CREATED:20250624T014433Z
LAST-MODIFIED:20250712T040926Z
UID:238-1751709600-1751738400@amacma.jp
SUMMARY:【Green & City Market】暑くてもOK！雨でも楽しめる♪親子で楽しめる夏の屋外イベント！
DESCRIPTION:【Green & City Market】2025年7月5日（土）開催！ \n\n\n\n暑くてもOK！雨でも楽しめる♪親子で楽しめる夏の屋外イベント！ \n\n\n\n\n\n\n\n新都心公園の「水の道エリア」に、人気のキッチンカーやクラフト雑貨、親子ワークショップが大集合！ \n\n\n\n夏の思い出づくりにぴったりのファミリー向けマーケットイベントです🌞 \n\n\n\n\n\n\n\n🗓 イベント概要\n\n\n\n\n開催日：2025年7月5日（土）\n\n\n\n時間：10:00〜18:00\n\n\n\n場所：新都心公園 水の道エリア（おもろまち駅から徒歩数分）\n\n\n\n主催：althaia\n\n\n\n\n\n\n\n\n🍴 キッチンカーグルメエリア\n\n\n\n\n夏にぴったり！冷たいドリンクも充実\n\n\n\n人気グルメが多数出店予定\n\n\n\nタープありで雨でも安心＆雨の日クーポン配布も！\n\n\n\n\n\n\n\n\n🎨 親子で楽しめるワークショップ\n\n\n\n\n子どもも大喜び！ 　🖐 うちわ作り 　🌈 スーパーボールすくい  など\n\n\n\n\n\n\n\n\n🛍 マルシェエリア\n\n\n\n\nハンドメイド雑貨・アクセサリー・クラフトアイテムが並ぶおしゃれブースが多数！\n\n\n\n親子でのんびりお買い物を楽しめます♪\n\n\n\n\n\n\n\n\n🎁 その他うれしいポイント\n\n\n\n\n暑さ対策もばっちり：うちわ作り、木陰スペースあり\n\n\n\nSNS投稿で「プチプレゼント」ももらえる特典あり！\n\n\n\n\n\n\n\n\n👨‍👩‍👧‍👦 子どもと一緒に、自然の中で楽しむ夏イベント。 \n\n\n\n雨が降っても安心の設計で、家族で1日過ごせる「Green & City Market」へ、ぜひおでかけください！
URL:https://amacma.jp/event/%e3%80%90green-city-market%e3%80%91%e6%9a%91%e3%81%8f%e3%81%a6%e3%82%82ok%ef%bc%81%e9%9b%a8%e3%81%a7%e3%82%82%e6%a5%bd%e3%81%97%e3%82%81%e3%82%8b%e2%99%aa%e8%a6%aa%e5%ad%90%e3%81%a7%e6%a5%bd/
LOCATION:沖縄県
ATTACH;FMTTYPE=image/jpeg:https://amacma.jp/cms/wp-content/uploads/2025/06/502999204_17968227605912797_8069571398990255026_n.jpg
END:VEVENT
BEGIN:VEVENT
DTSTART;TZID=Asia/Tokyo:20250705T160000
DTEND;TZID=Asia/Tokyo:20250705T210000
DTSTAMP:20260426T132316
CREATED:20250704T200053Z
LAST-MODIFIED:20250705T191537Z
UID:268-1751731200-1751749200@amacma.jp
SUMMARY:みさと七夕まつり - 夏の熱気と笑顔があふれる心躍る夏祭り！
DESCRIPTION:～夏の熱気と笑顔があふれる、心躍る夏の一夜！～ \n\n\n\n\n\n\n\n夏の夜に家族で楽しめる地域のお祭り「みさと 七夕まつり」が、2025年7月5日（土）に美里公園にて開催されます！ \n\n\n\n子どもたちの踊りやエイサー、ライブなど、地域の魅力がたっぷり詰まったイベントが盛りだくさんです🎆 \n\n\n\n\n\n\n\n🗓 イベント詳細\n\n\n\n\n開催日：2025年7月5日（土） 　※雨天時は【7月12日（土）】に延期\n\n\n\n時間：16:00～21:00\n\n\n\n会場：美里公園（沖縄市）\n\n\n\n主催：美里自治会\n\n\n\n\n\n\n\n\n🎉 イベント内容\n\n\n\n👧✨ 子ども達の踊り \n\n\n\n　元気いっぱいの可愛らしいステージで会場を盛り上げます！ \n\n\n\n🧓🕺 区民総踊り \n\n\n\n　地域のおじいちゃんおばあちゃん、パパママも一緒に参加♪ \n\n\n\n🎵🎤 ライブステージ \n\n\n\n　夏の夕暮れにぴったりの生演奏！子どもも踊りたくなること間違いなし！ \n\n\n\n💃🔥 エイサー演舞 \n\n\n\n　迫力満点の演舞で彩ります！ \n\n\n\n\n\n\n\n\n✅ 子ども向けの出番も多く、出演者として参加しているお友達を応援できる\n\n\n\n✅ 早い時間から始まるので、就寝時間が早いお子さまでも安心して楽しめる\n\n\n\n✅ 雨天時は翌週に延期でチャンスを逃しにくい\n\n\n\n\n\n\n\n\n🎋浴衣で参加して、七夕気分を家族みんなで楽しもう！ \n\n\n\n地域に根ざした手作り感あふれる「美里七夕まつり」で、忘れられない夏の思い出をぜひ♪
URL:https://amacma.jp/event/%e3%81%bf%e3%81%95%e3%81%a8%e4%b8%83%e5%a4%95%e3%81%be%e3%81%a4%e3%82%8a-%e5%a4%8f%e3%81%ae%e7%86%b1%e6%b0%97%e3%81%a8%e7%ac%91%e9%a1%94%e3%81%8c%e3%81%82%e3%81%b5%e3%82%8c%e3%82%8b%e5%bf%83/
LOCATION:沖縄県
ATTACH;FMTTYPE=image/jpeg:https://amacma.jp/cms/wp-content/uploads/2025/07/515274076_18318597934239894_5334418539328186507_n.jpg
END:VEVENT
BEGIN:VEVENT
DTSTART;TZID=Asia/Tokyo:20250706T130000
DTEND;TZID=Asia/Tokyo:20250706T200000
DTSTAMP:20260426T132316
CREATED:20250706T203144Z
LAST-MODIFIED:20250706T203148Z
UID:282-1751806800-1751832000@amacma.jp
SUMMARY:〜沖縄で一番小さな夏まつり〜Koza Terrace 2025
DESCRIPTION:🎆【沖縄で一番小さな夏まつり！？】 \n\n\n\nKoza Terrace 2025 ～ミニ四駆・屋台・短冊に願い事も！～ \n\n\n\n\n\n\n\n今年の夏は、沖縄市の一番街商店街で開かれる“ちいさな”けれどワクワクが詰まった夏まつりに出かけませんか？ \n\n\n\nKoza Terrace 2025は、子どもも大人も楽しめる体験＆遊びが満載の1日限定イベントです！ \n\n\n\n\n\n\n\n🌟 イベント概要\n\n\n\n\n開催日：2025年7月6日（日）\n\n\n\n時間：13:00〜20:00\n\n\n\n場所：沖縄市 一番街商店街\n\n\n\n主催：一番街商店街青年会\n\n\n\n協力：沖縄市一番街商店街振興組合 ほか\n\n\n\n\n\n\n\n\n🎉 イベントコンテンツ（親子におすすめ！）\n\n\n\n🏎️ ミニ四駆レース\n\n\n\n自慢のマシンで参加OK！レンタルマシンもあるので初めてでも安心♪ \n\n\n\n🔧 ミニ四駆づくり体験\n\n\n\n親子で楽しめる組立ワークショップ。工具＆材料は現地で購入可能！ \n\n\n\n🛍️ ハンドメイド出店\n\n\n\n約20店の作家さんが登場！個性豊かな雑貨やアクセサリーが並びます。 \n\n\n\n🍛 おまつりごっこコーナー\n\n\n\n子どもが“店員さん”になって遊べる屋台風ブース♪大人気！ \n\n\n\n🎋 短冊にお願いごと\n\n\n\n館内に飾られた笹に、みんなの願いを込めた短冊を飾ろう。 \n\n\n\n🎁 ガラポン抽選\n\n\n\nSNSフォローやアンケート回答、ブースでの買い物で参加OK！ \n\n\n\n\n\n\n\n\n✅ ミニ四駆づくり＆レースは親子参加にピッタリ\n\n\n\n✅ おまつりごっこや短冊飾りなど、小さなお子さまも楽しめる企画が豊富！\n\n\n\n✅ 規模は小さめだから、初めてのおまつりデビューにも最適！\n\n\n\n\n\n\n\n\n📩 お問い合わせ\n\n\n\n📧：firsttown.koza@gmail.com \n\n\n\n📍詳細や最新情報は、公式InstagramまたはQRコードからチェック！ \n\n\n\n\n\n\n\n“こぢんまり”だからこそ、人とのつながりや発見がいっぱいのKoza Terrace。 \n\n\n\n夏のはじまりに、心温まるひとときを過ごしてみてはいかがですか？🎐
URL:https://amacma.jp/event/%e3%80%9c%e6%b2%96%e7%b8%84%e3%81%a7%e4%b8%80%e7%95%aa%e5%b0%8f%e3%81%95%e3%81%aa%e5%a4%8f%e3%81%be%e3%81%a4%e3%82%8a%e3%80%9ckoza-terrace-2025/
LOCATION:沖縄県
ATTACH;FMTTYPE=image/jpeg:https://amacma.jp/cms/wp-content/uploads/2025/07/516036939_17858905158448338_5571258488908190609_n.jpg
END:VEVENT
BEGIN:VEVENT
DTSTART;TZID=Asia/Tokyo:20250712T000000
DTEND;TZID=Asia/Tokyo:20250713T235959
DTSTAMP:20260426T132316
CREATED:20250703T141137Z
LAST-MODIFIED:20250703T141141Z
UID:265-1752278400-1752451199@amacma.jp
SUMMARY:メイクマン50周年特別企画！モルック大会
DESCRIPTION:🎯【参加者募集中！モルック大会 in 沖縄】 \n\n\n\n家族・友達・企業チームも大歓迎！誰でも楽しめる北欧発のニュースポーツ♪ \n\n\n\n\n\n\n\n📢「寿チャンネルDIY in 沖縄」主催のイベントとして、2025年7月12日（土）・13日（日）の2日間、メイクマン浦添本店の3F駐車場で「モルック大会」が開催されます！ \n\n\n\n\n\n\n\n🧒👨‍👩‍👧‍👦 モルックって？\n\n\n\nフィンランド発祥の木製スポーツで、スキットルと呼ばれる木のピンをモルック（投げ棒）で倒し、点数を競う誰でも楽しめるチームゲームです。 \n\n\n\nルールは簡単＆体力勝負ではないので、子どもから大人まで一緒に盛り上がれます！ \n\n\n\n\n\n\n\n🗓 イベント概要\n\n\n\n\n開催日：2025年7月12日（土）・13日（日）\n\n\n\n時間： 　午前の部｜10:00〜12:00 　午後の部｜14:00〜16:00 　※各回開始15分前までに受付\n\n\n\n会場：メイクマン浦添本店 3F駐車場\n\n\n\n定員：各回8組（1組最大3名まで）\n\n\n\n対象：小学生以上\n\n\n\n参加費：1組 500円（税込）\n\n\n\n\n\n\n\n\n🏆 勝者には豪華賞品も！\n\n\n\n楽しく投げて、当てて、50点ピッタリで勝利！ \n\n\n\n優勝チームには素敵なプレゼントが用意されています✨ \n\n\n\n\n\n\n\n📌 応募方法・問い合わせ\n\n\n\n\n事前申込制：専用サイトからエントリー（QRコードまたは検索）\n\n\n\n問い合わせ先：琉球新報社営業局内 メイクマンイベント事務局 　TEL：098-865-5255\n\n\n\n\n\n\n\n\n\n✅ 小学生から参加OK！兄弟や友達同士のチームで楽しめます\n\n\n\n✅ 運動が苦手でもOK。家族で作戦を練るのも楽しい♪\n\n\n\n✅ 駐車場での開催なので、暑さ・混雑を避けつつ安全に遊べるのもポイント\n\n\n\n\n\n\n\n\n「モルックって何？」という方も大歓迎！ \n\n\n\nぜひこの夏、親子で新しいスポーツ体験を楽しんでみませんか？🥳
URL:https://amacma.jp/event/%e3%83%a1%e3%82%a4%e3%82%af%e3%83%9e%e3%83%b350%e5%91%a8%e5%b9%b4%e7%89%b9%e5%88%a5%e4%bc%81%e7%94%bb%ef%bc%81%e3%83%a2%e3%83%ab%e3%83%83%e3%82%af%e5%a4%a7%e4%bc%9a/
LOCATION:沖縄県
ATTACH;FMTTYPE=image/jpeg:https://amacma.jp/cms/wp-content/uploads/2025/07/503656831_18017982911756967_7078734663981776395_n.jpg
END:VEVENT
BEGIN:VEVENT
DTSTART;TZID=Asia/Tokyo:20250712T120000
DTEND;TZID=Asia/Tokyo:20250712T163000
DTSTAMP:20260426T132316
CREATED:20250703T134730Z
LAST-MODIFIED:20250703T134913Z
UID:259-1752321600-1752337800@amacma.jp
SUMMARY:航空自衛隊 南西航空音楽隊 ミニコンサート開催！
DESCRIPTION:✈️【観覧無料】航空自衛隊 南西航空音楽隊 ミニコンサート開催！ \n\n\n\n～夏のショッピングモールで響く、プロの生演奏～ \n\n\n\n\n\n\n\n2025年7月12日（土）、沖縄県豊見城市の「iias OKINAWA TOYOSAKI（イーアス沖縄豊崎）」にて、航空自衛隊・南西航空音楽隊による観覧無料のミニコンサートが開催されます！ \n\n\n\n空のプロフェッショナルが奏でる圧巻のサウンドを、家族で気軽に楽しめるチャンスです🎺🎶 \n\n\n\n\n\n\n\n🎵 公演概要\n\n\n\n\n開催日：2025年7月12日（土）\n\n\n\n時間（各回 約30分） 　① 12:00～ 　② 14:30～ 　③ 16:00～\n\n\n\n会場：イーアス沖縄豊崎 1F イーアスコート\n\n\n\n観覧：無料\n\n\n\n\n\n\n\n\n🎷 イベントの見どころ！\n\n\n\n\n💂‍♂️ 「南西航空音楽隊」の本格派演奏\n\n\n\n🛍 モール内イベントなので、小さなお子さま連れでも安心\n\n\n\n👶 ベビーカーOK、冷房完備で暑さを気にせず楽しめるのも嬉しいポイント！\n\n\n\n\n\n\n\n\n\n✅ ショッピングの合間に、子どもと一緒に“音楽の時間”を気軽に楽しめる\n\n\n\n✅ 子どもが楽器に興味をもつきっかけづくりにぴったり！\n\n\n\n✅ おじいちゃん・おばあちゃんとのお出かけにも◎\n\n\n\n\n\n\n\n\n📍アクセス＆施設情報\n\n\n\n\n場所：イーアス沖縄豊崎（iias OKINAWA TOYOSAKI） 　〒901-0225 沖縄県豊見城市豊崎3-35\n\n\n\n公式HPはこちら\n\n\n\n\n\n\n\n\n🎺 音楽で心がふれあうひととき。 \n\n\n\nぜひこの機会に、親子で気軽にプロの生演奏を楽しんでみませんか？
URL:https://amacma.jp/event/%e8%88%aa%e7%a9%ba%e8%87%aa%e8%a1%9b%e9%9a%8a-%e5%8d%97%e8%a5%bf%e8%88%aa%e7%a9%ba%e9%9f%b3%e6%a5%bd%e9%9a%8a-%e3%83%9f%e3%83%8b%e3%82%b3%e3%83%b3%e3%82%b5%e3%83%bc%e3%83%88%e9%96%8b%e5%82%ac%ef%bc%81/
LOCATION:イーアス沖縄豊崎\, 豊崎3-35\, 豊見城市\, 沖縄県\, Japan
ATTACH;FMTTYPE=image/jpeg:https://amacma.jp/cms/wp-content/uploads/2025/07/a5afa6e0-f4b8-40d2-ad36-df1394d2a88d.jpeg
END:VEVENT
BEGIN:VEVENT
DTSTART;TZID=Asia/Tokyo:20250719T100000
DTEND;TZID=Asia/Tokyo:20250721T180000
DTSTAMP:20260426T132316
CREATED:20250721T022855Z
LAST-MODIFIED:20250721T023400Z
UID:387-1752919200-1753120800@amacma.jp
SUMMARY:＼夏休みにおすすめ！／やちむんのまちで遊び学べる3日間「育陶園summerわくわくイベント2025」
DESCRIPTION:那覇市壺屋にある育陶園で、親子で楽しめる夏の特別イベント「育陶園summerわくわくイベント2025」が開催されます！期間は【2025年7月19日（土）～21日（月・祝）】の3日間。陶芸体験やスタンプラリー、ガラポン抽選など、工芸と遊びが融合したワクワク企画が盛りだくさんです。 \n\n\n\n★体験イベント• 夏休みわくわく陶芸教室（要予約）　かわいいシーサー作りに挑戦！プロの職人さんが丁寧に教えてくれます。　開催：各日9:50〜11:40（定員制・有料）• 職人による実演（無料）　シーサー作りや線彫りなどの熟練の技を間近で見られるチャンス！ものづくりの魅力を親子で体感できます。• 夏のわくわく壺屋まーい（要予約）　ガイドさんと一緒に壺屋のまちを探検するツアー。壺屋の歴史や文化に触れられる知的体験です。 \n\n\n\n★お楽しみ企画もいっぱい！• スタンプラリー（無料）　育陶園の5店舗を巡ってスタンプを集めると、お菓子か冷たいチューチューがもらえるよ！• ガラポン福引チャレンジ　お買い物でもらえるレシートで福引に挑戦。やちむん等の景品が当たる!?• 掘り出し市コーナー　お得な陶器がずらり。お気に入りを見つけてください♪• 育陶園のおいしいもの　沖縄そばやソフトクリーム、フロートドリンクなど、壺屋さんぽの合間にぴったりな軽食もご用意！ \n\n\n\n⸻ \n\n\n\n🗓 開催日程：2025年7月19日（土）～7月21日（月・祝）⏰ 時間：10:00～18:00📍 会場：壺屋焼窯元育陶園（那覇市壺屋1-22-33）📞 お問い合わせ：098-866-1635 \n\n\n\n⸻ \n\n\n\n🌟壺屋の歴史と文化に触れながら、親子で自由研究にもなる充実イベントです！夏休みのおでかけに、ぜひ足を運んでみてください♪
URL:https://amacma.jp/event/%e8%82%b2%e9%99%b6%e5%9c%92summer%e3%82%8f%e3%81%8f%e3%82%8f%e3%81%8f%e3%82%a4%e3%83%99%e3%83%b3%e3%83%882025/
LOCATION:沖縄県
ATTACH;FMTTYPE=image/webp:https://amacma.jp/cms/wp-content/uploads/2025/07/0e2fb65284d106bea6573294df0c47ab.webp
END:VEVENT
BEGIN:VEVENT
DTSTART;TZID=Asia/Tokyo:20250719T130000
DTEND;TZID=Asia/Tokyo:20250719T200000
DTSTAMP:20260426T132316
CREATED:20250718T154112Z
LAST-MODIFIED:20250718T154115Z
UID:371-1752930000-1752955200@amacma.jp
SUMMARY:家族でワイワイ！遊んで食べて大抽選会も♪「第6回ハッピーやふそ祭」
DESCRIPTION:夏の楽しい思い出をつくるなら、浦添市の「ハッピーやふそ祭」がおすすめ！今年で第6回目を迎えるこのお祭りは、親子で楽しめる企画が盛りだくさんの地域イベントです。 \n\n\n\n🍖 屋台＆飲食ブース充実！屋台では、シキノネ・くし寛・かしこ・蛸入洞・かりす などの飲食店がずらりと出店。さらに、ビール販売ブースやゲームコーナーもあり、大人も子どもも楽しめます。 \n\n\n\n🎵 ステージプログラムも見逃せない！・浦添認可外保育連盟による演目・キートスチアダンス（キッズ）・茉莉花バレエ＆ダンススタジオ・わったーじゃぁがわー（バンド演奏）・エイサー演舞（屋富祖青年会） などなど！小さなお子さんから大人まで楽しめる内容がぎっしり。 \n\n\n\n🎁 豪華景品が当たる大抽選会も！・第1回抽選会▶︎ 16:00・第2回抽選会▶︎ 19:00家族で参加して、運試しも楽しんじゃいましょう♪ \n\n\n\n⸻ \n\n\n\n📅 イベント情報まとめ• イベント名：第6回 ハッピーやふそ祭• 開催日：2025年7月19日（土）• 時間：13:00〜20:00• 会場：屋富祖公民館前広場（浦添市屋富祖3-1-1）• 入場料：無料• 主催：屋富祖通り会 \n\n\n\n⸻ \n\n\n\n🎉夏休みスタートにぴったりの楽しいお祭り！家族で参加して、屋台グルメやステージを満喫しよう♪
URL:https://amacma.jp/event/%e5%ae%b6%e6%97%8f%e3%81%a7%e3%83%af%e3%82%a4%e3%83%af%e3%82%a4%ef%bc%81%e9%81%8a%e3%82%93%e3%81%a7%e9%a3%9f%e3%81%b9%e3%81%a6%e5%a4%a7%e6%8a%bd%e9%81%b8%e4%bc%9a%e3%82%82%e2%99%aa%e3%80%8c%e7%ac%ac6/
LOCATION:沖縄県
ATTACH;FMTTYPE=image/png:https://amacma.jp/cms/wp-content/uploads/2025/07/file_20256301161628_1.png
END:VEVENT
BEGIN:VEVENT
DTSTART;TZID=Asia/Tokyo:20250719T133000
DTEND;TZID=Asia/Tokyo:20250719T150000
DTSTAMP:20260426T132316
CREATED:20250705T204749Z
LAST-MODIFIED:20250705T204754Z
UID:278-1752931800-1752937200@amacma.jp
SUMMARY:親子でどんぐり工作 自由研究にもぴったり！
DESCRIPTION:🌳✨【親子でどんぐり工作 自由研究にもぴったり！】 \n\n\n\n～世界にひとつだけの“どんぐりアート”を親子でつくろう！～ \n\n\n\n\n\n\n\n沖縄県産のどんぐりを使って、親子で一緒に楽しめる木工アートに挑戦！ \n\n\n\n木材台と木の枝、そして表情を描いたどんぐりを組み合わせて、オリジナルの作品をつくる体験型ワークショップです。 \n\n\n\n夏休みの自由研究や自然素材にふれるきっかけにもおすすめです♪ \n\n\n\n\n\n\n\n🗓 開催情報\n\n\n\n\n日程：2025年7月19日（土）\n\n\n\n時間：13:30〜15:00\n\n\n\n場所：沖縄県 県民の森「木のふれあい館」2F 研修室\n\n\n\n参加費：2\,000円（材料費込み／1組）\n\n\n\n対象・定員：親子10組（大人1名・子ども1名）\n\n\n\n講師：照屋義信さん（工房ふぁーかんだー）\n\n\n\n主催：沖縄県 県民の森（指定管理者：沖縄文化スポーツイノベーション）\n\n\n\n\n\n\n\n\n🎨 内容のポイント\n\n\n\n\n🌰 沖縄に自生するどんぐりの“形・種類・大きさの違い”を観察！\n\n\n\n🖼 木材の土台と枝を使ってアート作品を作成\n\n\n\n✍️ 顔を描いたどんぐりで物語をつくるような作品づくりも♪\n\n\n\n🌟 完成作品はそのまま自由研究として提出してもOK！\n\n\n\n\n\n\n\n\n\n✅ 小学生の夏休み自由研究にぴったりの内容と時間設定！\n\n\n\n✅ 木のぬくもりにふれることで、子どもの五感や想像力を刺激\n\n\n\n✅ 少人数制＆講師の丁寧なサポートで安心して参加できる\n\n\n\n\n\n\n\n\n📞 お問い合わせ・申込\n\n\n\n\n電話：098-967-8092（沖縄県 県民の森） 　※9:00～18:30（月曜休園）\n\n\n\n\n\n\n\n\n自然にふれて、つくって、学ぶ。 \n\n\n\n夏休みの親子時間をもっと楽しく、もっと思い出に残るものにしませんか？🌿
URL:https://amacma.jp/event/%e8%a6%aa%e5%ad%90%e3%81%a7%e3%81%a9%e3%82%93%e3%81%90%e3%82%8a%e5%b7%a5%e4%bd%9c-%e8%87%aa%e7%94%b1%e7%a0%94%e7%a9%b6%e3%81%ab%e3%82%82%e3%81%b4%e3%81%a3%e3%81%9f%e3%82%8a%ef%bc%81/
LOCATION:沖縄県
ATTACH;FMTTYPE=image/jpeg:https://amacma.jp/cms/wp-content/uploads/2025/07/503584177_17952956408973062_4604806379534744670_n.jpg
END:VEVENT
BEGIN:VEVENT
DTSTART;TZID=Asia/Tokyo:20250719T133000
DTEND;TZID=Asia/Tokyo:20250719T160000
DTSTAMP:20260426T132316
CREATED:20250716T152250Z
LAST-MODIFIED:20250716T152254Z
UID:343-1752931800-1752940800@amacma.jp
SUMMARY:第2回 ワールドキッズフェスタ in 沖縄市 開催！
DESCRIPTION:🎉 第2回 ワールドキッズフェスタ in 沖縄市 開催！🌏✨親子で楽しく多文化にふれられるイベントが沖縄市で開催されます！ \n\n\n\n⸻ \n\n\n\n🗓 開催日 \n\n\n\n2025年7月19日（土）13:30〜16:00 \n\n\n\n⸻ \n\n\n\n📍 会場 \n\n\n\nコザ運動公園内 武道館（沖縄市諸見里2-1-1） \n\n\n\n⸻ \n\n\n\n🎪 イベント内容（親子で楽しめるコーナーが盛りだくさん！） \n\n\n\n🎤 キッズステージ• 久保田子供会によるエイサー演舞• メキシコのキッズダンス• 島っこフラダンス \n\n\n\n💬 ママパパトーク＆交流• ペルー出身のあゆみママのトーク• 他のママパパたちと気軽におしゃべり♪ \n\n\n\n🌐 多言語生活情報コーナー• 外国ルーツのご家庭に役立つ情報がたくさん！ \n\n\n\n🧶 ワークショップ＆体験コーナー• 世界の音楽と衣装体験• ブラジル帽子作り• 世界の遊びも体験できるよ！ \n\n\n\n🍧 スペシャル企画• 子どもたちにかき氷プレゼント！• ピニャータ割りも！ \n\n\n\n⸻ \n\n\n\n✅ 入場無料・申込不要 \n\n\n\n予約不要で、当日直接会場へお越しください♪ \n\n\n\n⸻ \n\n\n\n📞 お問い合わせ \n\n\n\nコザインターナショナルプラザ（KIP）TEL：098-989-9767 \n\n\n\n⸻ \n\n\n\n🌈 親子で国際交流や異文化体験ができる、楽しくて学びのあるひとときを♪ぜひ遊びに来てください！
URL:https://amacma.jp/event/%e7%ac%ac2%e5%9b%9e-%e3%83%af%e3%83%bc%e3%83%ab%e3%83%89%e3%82%ad%e3%83%83%e3%82%ba%e3%83%95%e3%82%a7%e3%82%b9%e3%82%bf-in-%e6%b2%96%e7%b8%84%e5%b8%82-%e9%96%8b%e5%82%ac%ef%bc%81/
LOCATION:沖縄県
ATTACH;FMTTYPE=image/avif:https://amacma.jp/cms/wp-content/uploads/2025/07/wkf.avif
END:VEVENT
BEGIN:VEVENT
DTSTART;TZID=Asia/Tokyo:20250720T090000
DTEND;TZID=Asia/Tokyo:20250720T160000
DTSTAMP:20260426T132316
CREATED:20250715T141147Z
LAST-MODIFIED:20250715T141328Z
UID:331-1753002000-1753027200@amacma.jp
SUMMARY:夏の大自然で思いっきり遊ぼう！第9回 金武ダムまつり
DESCRIPTION:🟦 夏の大自然で思いっきり遊ぼう！ \n\n\n\n第9回 金武ダムまつり 開催🎉 \n\n\n\n\n\n\n\n沖縄本島北部・金武町で、毎年大人気のダムイベントが今年も開催決定！ \n\n\n\n森と湖に親しむ1日を、家族みんなで満喫しよう！ \n\n\n\n\n\n\n\n🚩イベント概要\n\n\n\n\n日程：2025年7月20日（日）\n\n\n\n時間：開場 9:00〜 ／ 開演 9:30〜16:00\n\n\n\n会場：金武ダム施設内および周辺（沖縄県国頭郡金武町金武9959番地）\n\n\n\n入場料：無料（※一部体験は有料）\n\n\n\n\n\n\n\n\n🌳 体験イベント一部抜粋\n\n\n\nイベント内容料金ウォーターパーク￥1\,000カヌー体験￥1\,000水牛車￥1\,000ウォーターバルーン￥500ステンドグラス￥1\,500巨大迷路無料島ぞうりアート体験￥1\,500\n\n\n\n\n\n\n\n💡注目ポイント\n\n\n\n\n超特大！ウォーターパークエリアで大はしゃぎ！🌊\n\n\n\n大自然の中でカヌー体験や水牛車体験も✨\n\n\n\nダムの内部に潜入！？施設見学もおすすめ！\n\n\n\n\n\n\n\n\n🚗 アクセス・駐車場情報\n\n\n\n\n会場周辺に臨時駐車場あり\n\n\n\n会場間はシャトルバスも運行予定（マップ参照）\n\n\n\n\n\n\n\n\n👨‍👩‍👧‍👦 こんなご家族におすすめ！\n\n\n\n\n夏休みの自由研究ネタを探している\n\n\n\n水遊びや自然体験が好き\n\n\n\n1日たっぷり遊べるイベントを探している\n\n\n\n\n\n\n\n\n📞 お問い合わせ：098-968-6262（実行委員会） \n\n\n\n🔗 詳細はQRコード or 金武町公式サイトへ \n\n\n\n\n\n\n\n夏の思い出づくりに、金武の自然とふれあえる「金武ダムまつり」へ！ \n\n\n\n家族みんなで、ちょっと涼しい金武の森へ出かけてみませんか？
URL:https://amacma.jp/event/%e5%a4%8f%e3%81%ae%e5%a4%a7%e8%87%aa%e7%84%b6%e3%81%a7%e6%80%9d%e3%81%84%e3%81%a3%e3%81%8d%e3%82%8a%e9%81%8a%e3%81%bc%e3%81%86%ef%bc%81%e7%ac%ac9%e5%9b%9e-%e9%87%91%e6%ad%a6%e3%83%80%e3%83%a0%e3%81%be/
LOCATION:沖縄県
ATTACH;FMTTYPE=image/jpeg:https://amacma.jp/cms/wp-content/uploads/2025/07/2025kindamfestival_20250625.jpg
END:VEVENT
BEGIN:VEVENT
DTSTART;TZID=Asia/Tokyo:20250720T100000
DTEND;TZID=Asia/Tokyo:20250720T210000
DTSTAMP:20260426T132316
CREATED:20250715T145928Z
LAST-MODIFIED:20250715T145932Z
UID:336-1753005600-1753045200@amacma.jp
SUMMARY:「第3回 あがりな～ざとハッピーフェス」＆「第18回 あがりな～ざとエイサーまつり」
DESCRIPTION:🌞 子どもから大人まで楽しめる！夏の1日をまるごと満喫！「第3回 あがりな～ざとハッピーフェス」＆「第18回 あがりな～ざとエイサーまつり」開催🎉 \n\n\n\n⸻ \n\n\n\n📅 日時：2025年7月20日（日）• ハッピーフェス：10:00スタート！• エイサーまつり：16:00開始予定 \n\n\n\n📍 会場：若夏公園・宮里中遊歩道（※来場は公共交通機関をご利用ください） \n\n\n\n⸻ \n\n\n\n🎪 イベント内容 \n\n\n\n🎶 ハッピーフェス（午前〜） \n\n\n\n家族で楽しめるステージパフォーマンスや縁日、グルメ出店が多数登場！今年は熱狂のバンドライブも予定されており、夏の始まりを音楽とともに盛り上げます。 \n\n\n\n🥁 エイサーまつり（午後4時〜） \n\n\n\n地元のエイサー団体による勇壮な演舞が圧巻！地域の伝統と熱気を感じられる迫力のステージが広がります。 \n\n\n\n⸻ \n\n\n\n✅ 親子にうれしいポイント• 遊歩道沿いの広いエリアでベビーカーでも安心• 早い時間帯は子ども向けイベントも充実• 地元の飲食・物販ブースで休憩もばっちり \n\n\n\n⸻ \n\n\n\n📲 最新情報はInstagramで！ \n\n\n\n@agarinazato.happyfes \n\n\n\n※雨天決行（台風・暴風時は中止）※当日は気温も高くなることが予想されます。熱中症には十分にご注意いただき、対策をお願いいたします。 \n\n\n\n⸻ \n\n\n\n🌈夏のはじまりは沖縄市・あがりな～ざとで！笑顔と音に包まれる、最高の1日を親子でぜひお楽しみください♪
URL:https://amacma.jp/event/%e3%80%8c%e7%ac%ac3%e5%9b%9e-%e3%81%82%e3%81%8c%e3%82%8a%e3%81%aa%ef%bd%9e%e3%81%96%e3%81%a8%e3%83%8f%e3%83%83%e3%83%94%e3%83%bc%e3%83%95%e3%82%a7%e3%82%b9%e3%80%8d%ef%bc%86%e3%80%8c%e7%ac%ac18/
LOCATION:沖縄県
ATTACH;FMTTYPE=image/jpeg:https://amacma.jp/cms/wp-content/uploads/2025/07/agarinazato.jpg
END:VEVENT
BEGIN:VEVENT
DTSTART;TZID=Asia/Tokyo:20250720T110000
DTEND;TZID=Asia/Tokyo:20250720T200000
DTSTAMP:20260426T132316
CREATED:20250716T153657Z
LAST-MODIFIED:20250716T153700Z
UID:346-1753009200-1753041600@amacma.jp
SUMMARY:めぐり泡瀬夏祭り
DESCRIPTION:🎤✨ めぐり泡瀬夏祭り 開催！「めざせ！泡瀬の絶叫王！」あなたの声で泡瀬を元気にしよう！ \n\n\n\n⸻ \n\n\n\n🗓 開催日 \n\n\n\n2025年7月20日（日） \n\n\n\n🕚 時間 \n\n\n\n11:00〜20:00 \n\n\n\n📍 会場 \n\n\n\n美東公園※駐車場がないため、公共交通機関をご利用ください。 \n\n\n\n⸻ \n\n\n\n🌟 目玉イベント：「泡瀬の絶叫王」コンテスト \n\n\n\n叫んで、叫んで、泡瀬を盛り上げよう！ステージでは個性豊かな出演者が多数登場！ \n\n\n\n⸻ \n\n\n\n🎤 ステージ出演者• 稲嶺幸乃（歌・三線）• Joshua P.B（弾き語り）• 喜楽音（ラッパー）• 泡瀬第三青年会（エイサー）• 小さなダンス教室  東桃原公民館（ダンス）• KANAKO（シンガー）• Dream sister’s（シンガー）• vermilion JAZZ orchestra• Big Whoops（バンド）• 古謝翔琉太鼓（太鼓） \n\n\n\n⸻ \n\n\n\n♻️ 古紙持参でチリ紙交換！ \n\n\n\n家庭の古紙を持ってくると、エコでお得なチリ紙に交換できます。地域貢献＆資源リサイクルを楽しく体験！ \n\n\n\n⸻ \n\n\n\n📞 お問い合わせ：泡瀬中央通り会TEL：098-923-3434 \n\n\n\n⸻ \n\n\n\n🎆 子どもから大人まで一日楽しめるローカル夏イベント。声を張り上げて、笑って、踊って、泡瀬で最高の夏を過ごしませんか？親子連れにもオススメの、にぎやか＆元気いっぱいの夏祭りです！
URL:https://amacma.jp/event/%e3%82%81%e3%81%90%e3%82%8a%e6%b3%a1%e7%80%ac%e5%a4%8f%e7%a5%ad%e3%82%8a/
LOCATION:沖縄県
ATTACH;FMTTYPE=image/jpeg:https://amacma.jp/cms/wp-content/uploads/2025/07/awasejpg_-scaled.jpg
END:VEVENT
BEGIN:VEVENT
DTSTART;TZID=Asia/Tokyo:20250720T130000
DTEND;TZID=Asia/Tokyo:20250721T170000
DTSTAMP:20260426T132316
CREATED:20250721T024015Z
LAST-MODIFIED:20250721T024113Z
UID:392-1753016400-1753117200@amacma.jp
SUMMARY:目の前で削り出される氷の芸術！「氷彫刻アートショー」
DESCRIPTION:夏の暑さを忘れさせてくれる、美しく涼やかな氷の芸術。イーアス沖縄豊崎では、7月20日（日）・21日（月・祝）の2日間、プロの職人による「氷彫刻アートショー」が開催されます！ \n\n\n\n会場では、氷の彫刻がライブで制作され、目の前で削り出されるダイナミックな姿は迫力満点。キラキラと輝く氷の造形美は、子どもから大人まで見とれてしまう美しさです。 \n\n\n\nお買い物やおでかけの合間に、涼を感じられるひとときを親子で過ごしてみてはいかがでしょうか？ \n\n\n\n⸻ \n\n\n\n🧊 氷彫刻アートショー📅 開催日：2025年7月20日（日）・21日（月・祝）🕐 時間：13:00〜17:00頃（※氷の状態により早く終了する場合あり）📍 会場：イーアス沖縄豊崎 1F イーアスコート💰 参加費：観覧無料 \n\n\n\n⸻ \n\n\n\n🌟屋内開催なので、天候に左右されず安心！涼しさと感動を親子で体験できる、夏のおでかけにぴったりのイベントです♪
URL:https://amacma.jp/event/%e6%b0%b7%e5%bd%ab%e5%88%bb%e3%82%a2%e3%83%bc%e3%83%88%e3%82%b7%e3%83%a7%e3%83%bc/
LOCATION:イーアス沖縄豊崎\, 豊崎3-35\, 豊見城市\, 沖縄県\, Japan
ATTACH;FMTTYPE=image/jpeg:https://amacma.jp/cms/wp-content/uploads/2025/07/8e561ed0-8aa9-4c2a-83fa-510da9c8d33b.jpeg
END:VEVENT
BEGIN:VEVENT
DTSTART;TZID=Asia/Tokyo:20250721T100000
DTEND;TZID=Asia/Tokyo:20250721T143000
DTSTAMP:20260426T132316
CREATED:20250719T220337Z
LAST-MODIFIED:20250719T220340Z
UID:375-1753092000-1753108200@amacma.jp
SUMMARY:【親子で学ぶ！海の不思議】GODAC「海の日」特別企画で自由研究にチャレンジしよう！
DESCRIPTION:🐠【親子で学ぶ！海の不思議】GODAC「海の日」特別企画で自由研究にチャレンジしよう！\n\n\n\n今年の「海の日」は、家族で海のことを楽しく学べる体験型イベントに参加してみませんか？ \n\n\n\n名護市の GODAC（国際海洋環境情報センター） では、2025年7月21日（月・祝）に、夏休みの自由研究にも役立つ「海洋教室」を開催します！このイベントでは、GODACのサイエンスコミュニケーターによるワークショップを通して、小学3年生～高校生を対象に、海の環境や生き物についての調べ方や自由研究のまとめ方をわかりやすくレクチャー。保護者も一緒に参加できる内容なので、親子で学びながら夏の宿題も一歩リードできますよ♪ \n\n\n\n🔍 開催情報\n\n\n\n\n日時：2025年7月21日（月・祝） 　・午前の部：10:00～11:00 　・午後の部：13:30～14:30\n\n\n\n場所：GODAC（国際海洋環境情報センター）\n\n\n\n対象：小学3年生～高校生とその保護者（各回保護者15名まで）\n\n\n\n参加費：無料\n\n\n\n申込期間：2025年7月4日（金）～（※定員に達し次第締切）\n\n\n\n\n参加には事前申し込みが必要です。詳細や申込方法は、GODACの公式サイト・SNSをご確認ください。 \n\n\n\n📞 お問い合わせ：0980-50-0111（GODAC） \n\n\n\n🌊夏の自由研究を、親子で楽しく！未来の海の研究者になれるきっかけが、ここにあるかも…？
URL:https://amacma.jp/event/%e3%80%90%e8%a6%aa%e5%ad%90%e3%81%a7%e5%ad%a6%e3%81%b6%ef%bc%81%e6%b5%b7%e3%81%ae%e4%b8%8d%e6%80%9d%e8%ad%b0%e3%80%91godac%e3%80%8c%e6%b5%b7%e3%81%ae%e6%97%a5%e3%80%8d%e7%89%b9%e5%88%a5%e4%bc%81/
LOCATION:沖縄県
ATTACH;FMTTYPE=image/jpeg:https://amacma.jp/cms/wp-content/uploads/2025/07/2025_uminohi_page-0001-scaled.jpg
END:VEVENT
BEGIN:VEVENT
DTSTART;TZID=Asia/Tokyo:20250726T090000
DTEND;TZID=Asia/Tokyo:20250727T130000
DTSTAMP:20260426T132316
CREATED:20250615T141229Z
LAST-MODIFIED:20250615T141231Z
UID:222-1753520400-1753621200@amacma.jp
SUMMARY:夏休みワークショップ万華鏡作り
DESCRIPTION:夏休みワークショップ「万華鏡作り」＆缶バッジ体験！ \n\n\n\n小学生のお子さまにぴったりの夏休み自由研究イベント！ \n\n\n\n色とりどりの素材を使って、世界に一つだけの「オリジナル万華鏡」が作れる体験型ワークショップが開催されます。夏の思い出と学びを楽しんでみませんか？ \n\n\n\n\n\n\n\n🗓 開催概要\n\n\n\n\n日程：令和7年 7月26日（土）・7月27日（日）\n\n\n\n時間：\n\n第1部：9:00〜10:00\n\n\n\n第2部：10:30〜11:30\n\n\n\n第3部：12:00〜13:00\n\n\n\n\n\n定員：各回10名\n\n\n\n対象：小学生\n\n\n\n場所：郷土館 玩具工作室（沖縄県総合運動公園内）\n\n\n\n参加費：600円（材料費込）\n\n\n\n\n※事前電話予約制（受付期間：6月15日〜7月13日）※受付完了後、総合案内センター窓口にてお支払いください。
URL:https://amacma.jp/event/%e5%a4%8f%e4%bc%91%e3%81%bf%e3%83%af%e3%83%bc%e3%82%af%e3%82%b7%e3%83%a7%e3%83%83%e3%83%97%e4%b8%87%e8%8f%af%e9%8f%a1%e4%bd%9c%e3%82%8a/
LOCATION:沖縄県
ATTACH;FMTTYPE=image/jpeg:https://amacma.jp/cms/wp-content/uploads/2025/06/505512160_18281247202265212_914184108336432925_n.jpg
END:VEVENT
BEGIN:VEVENT
DTSTART;TZID=Asia/Tokyo:20250726T090000
DTEND;TZID=Asia/Tokyo:20250727T130000
DTSTAMP:20260426T132316
CREATED:20250615T142511Z
LAST-MODIFIED:20250615T142514Z
UID:225-1753520400-1753621200@amacma.jp
SUMMARY:夏休みワークショップ　クワガタわくわく虫カゴ作り
DESCRIPTION:🌿🔍 夏休み自由研究にもぴったり！ \n\n\n\n「クワガタわくわく虫カゴ作り」ワークショップ開催！ \n\n\n\n昆虫大好きキッズ集まれ！沖縄県総合運動公園で、小学生向けの夏休み特別ワークショップ「クワガタわくわく虫カゴ作り」が開催されます。手作りの虫かごで、クワガタを観察・飼育する楽しさを体験できる、親子で大満足のプログラムです。 \n\n\n\n\n\n\n\n🗓 開催概要\n\n\n\n\n日程：2025年7月26日（土）・27日（日）\n\n\n\n時間：\n\n第1部：9:00～10:00\n\n\n\n第2部：10:30～11:30\n\n\n\n第3部：12:00～13:00 ※両日とも3回ずつ、全6講座\n\n\n\n\n\n場所：郷土館 陶芸室（沖縄県総合運動公園内）\n\n\n\n対象：小学生（兄弟での参加時は保護者同伴）\n\n\n\n定員：各部20名\n\n\n\n参加費：1人 1\,000円（材料費込み・1シーズン飼育用虫かごセット付き）\n\n\n\n\n\n\n\n\n📞 申込方法\n\n\n\n\n受付期間：6月15日（日）〜7月13日（日）\n\n\n\n申込方法：電話予約後、総合案内センター窓口で支払い\n\n\n\nTEL：098-932-5114（9:00〜17:00／火曜休園）\n\n\n\n\n\n\n\n\n🎁 お楽しみポイント\n\n\n\n\n🪲 虫かごを作って、クワガタをプレゼント！\n\n\n\n🛠 手作り体験で、ものづくりの楽しさも実感！\n\n\n\n\n\n\n\n\n\n✅ 昆虫好きな子どもが夢中になるワークショップ！\n\n\n\n✅ 夏の自由研究にも活用できる実用的な内容\n\n\n\n✅ 少人数制なので安心して参加できます（予約はお早めに！）\n\n\n\n\n\n\n\n\n👘 同時開催ワークショップ！\n\n\n\n\n🔍 万華鏡作り\n\n\n\n🌊 着衣泳体験\n\n\n\n\n\n\n\n\n親子で一緒に作って学べる、夏だけの特別な体験イベント。 \n\n\n\n生き物が好きな子どもにぴったりの内容です！ぜひご参加ください✨
URL:https://amacma.jp/event/%e5%a4%8f%e4%bc%91%e3%81%bf%e3%83%af%e3%83%bc%e3%82%af%e3%82%b7%e3%83%a7%e3%83%83%e3%83%97%e3%80%80%e3%82%af%e3%83%af%e3%82%ac%e3%82%bf%e3%82%8f%e3%81%8f%e3%82%8f%e3%81%8f%e8%99%ab%e3%82%ab%e3%82%b4/
LOCATION:沖縄県
ATTACH;FMTTYPE=image/jpeg:https://amacma.jp/cms/wp-content/uploads/2025/06/504151848_18281247211265212_7846925043023792871_n.jpg
END:VEVENT
BEGIN:VEVENT
DTSTART;TZID=Asia/Tokyo:20250726T100000
DTEND;TZID=Asia/Tokyo:20250726T140000
DTSTAMP:20260426T132316
CREATED:20250724T043831Z
LAST-MODIFIED:20250724T043833Z
UID:409-1753524000-1753538400@amacma.jp
SUMMARY:夏休みの自由研究にもぴったり！「科学の自由研究まつり」＠いちゅい具志川じんぶん館（うるま市）
DESCRIPTION:夏休みの自由研究、何をしよう？と悩む親子におすすめのイベント！うるま市の「じんぶん館」で、2025年7月26日（土）に「科学の自由研究まつり」が開催されます。 \n\n\n\n実験や観察、ワークショップなど、子どもたちが“楽しく学べる”ブースが盛りだくさん！現役の高校生や大学生、企業の科学好きな先生たちが企画・運営しているのもポイントです♪ \n\n\n\n🔬 実験観察ブース（無料）・液体窒素で遊ぼう！・透視的モノの見え方 など \n\n\n\n🧪 科学工作ブース（500円）・ミツバチの生態〜ミツロウでろうそくを作ろう〜・老眼鏡での望遠鏡づくりやペットボトル水ロケット など \n\n\n\n🌟 その他コーナーも！・AIって何ができるの？「GogleAI Gemini」体験・サイエンスマジックショー・ペーパークラフト製作体験 \n\n\n\n⸻ \n\n\n\n📍 イベント概要日時： 2025年7月26日（土）10:00〜14:00（受付開始：9:30〜、各ブースは先着順）場所： いちゅい具志川じんぶん館（うるま市）参加費： 入場無料、一部有料ブースあり \n\n\n\n⸻ \n\n\n\n科学に興味を持ち始めたお子さんや、自由研究のテーマを探している方にぴったり。親子で学びながら楽しめるイベントです。早めの時間に行くのがオススメですよ♪
URL:https://amacma.jp/event/%e5%a4%8f%e4%bc%91%e3%81%bf%e3%81%ae%e8%87%aa%e7%94%b1%e7%a0%94%e7%a9%b6%e3%81%ab%e3%82%82%e3%81%b4%e3%81%a3%e3%81%9f%e3%82%8a%ef%bc%81%e3%80%8c%e7%a7%91%e5%ad%a6%e3%81%ae%e8%87%aa%e7%94%b1%e7%a0%94/
LOCATION:沖縄県
ATTACH;FMTTYPE=image/jpeg:https://amacma.jp/cms/wp-content/uploads/2025/07/1-724x1024-1.jpg
END:VEVENT
BEGIN:VEVENT
DTSTART;TZID=Asia/Tokyo:20250726T160000
DTEND;TZID=Asia/Tokyo:20250726T200000
DTSTAMP:20260426T132316
CREATED:20250630T151849Z
LAST-MODIFIED:20250630T151852Z
UID:249-1753545600-1753560000@amacma.jp
SUMMARY:アニマル夜市
DESCRIPTION:🌙✨【2025年7月26日（土）開催】 \n\n\n\n沖縄こどもの国「アニマル夜市」 \n\n\n\n〜一夜限りの動物園ナイトマーケットで夏の思い出を！〜 \n\n\n\n\n\n\n\n夜の動物園でしか味わえないワクワク体験が盛りだくさん！ \n\n\n\n沖縄こどもの国で、ファミリーにオススメの夏イベント「アニマル夜市」が開催されます！ライトアップされた園内で、動物×遊び×学びの一夜限りのスペシャルナイト♪ \n\n\n\n\n\n\n\n🗓 イベント概要\n\n\n\n\n開催日：2025年7月26日（土）\n\n\n\n時間：16:00〜20:00\n\n\n\n会場：沖縄こどもの国（ハイビスカス広場）\n\n\n\n主催：公益財団法人 沖縄こどもの国\n\n\n\n\n\n\n\n\n🦁🐾 親子で楽しめる夜市プログラム！\n\n\n\n🎯 吹き矢射的ゲーム（100円）\n\n\n\n狙いを定めてシュッと一発！参加者にはプレゼント付き♪ \n\n\n\n🍧 におい de かき氷（300円）\n\n\n\nにおいと色から味を当ててみよう！感覚を使った不思議体験。 \n\n\n\n🐟 釣って正解！動物クイズ（300円）\n\n\n\n動物の食べ物を当ててみよう。正解者にはオリジナル缶バッジをプレゼント！ \n\n\n\n🍭 もこもこ わたあめ作り（200円）\n\n\n\nモコモコ動物たちをイメージしたオリジナル綿あめを自分で作れる♪ \n\n\n\n🌜 夜行性動物クイズ（無料）\n\n\n\n夜に活動する生きものについてのクイズにチャレンジ！オリジナルステッカーがもらえるよ。 \n\n\n\n\n\n\n\n💡 見どころ「アニマル行燈（あんどん）」も展示！\n\n\n\n幻想的な手作り行燈が園内を彩ります。展示期間は7月19日〜8月31日まで。 \n\n\n\n\n\n\n\n📍場所：沖縄県沖縄市胡屋5-7-1 \n\n\n\n📞 お問い合わせ：098-933-4190 \n\n\n\n🌐 沖縄こどもの国 公式サイト \n\n\n\n\n\n\n\n今年の夏は“夜のどうぶつえん”で、家族のとっておきの思い出を作ってみませんか？🌃✨
URL:https://amacma.jp/event/%e3%82%a2%e3%83%8b%e3%83%9e%e3%83%ab%e5%a4%9c%e5%b8%82/
LOCATION:沖縄こどもの国\, 胡屋5-7-1\, 沖縄市\, Japan
ATTACH;FMTTYPE=image/jpeg:https://amacma.jp/cms/wp-content/uploads/2025/07/20d69648ce02f8f35af33e43ee37b53c.jpg
END:VEVENT
END:VCALENDAR