BEGIN:VCALENDAR
VERSION:2.0
PRODID:-//amacma（アマクマ） - ECPv6.15.17.1//NONSGML v1.0//EN
CALSCALE:GREGORIAN
METHOD:PUBLISH
X-WR-CALNAME:amacma（アマクマ）
X-ORIGINAL-URL:https://amacma.jp
X-WR-CALDESC:amacma（アマクマ） のイベント
REFRESH-INTERVAL;VALUE=DURATION:PT1H
X-Robots-Tag:noindex
X-PUBLISHED-TTL:PT1H
BEGIN:VTIMEZONE
TZID:Asia/Tokyo
BEGIN:STANDARD
TZOFFSETFROM:+0900
TZOFFSETTO:+0900
TZNAME:JST
DTSTART:20250101T000000
END:STANDARD
END:VTIMEZONE
BEGIN:VEVENT
DTSTART;TZID=Asia/Tokyo:20260109T000000
DTEND;TZID=Asia/Tokyo:20260125T235959
DTSTAMP:20260426T034341
CREATED:20251230T175424Z
LAST-MODIFIED:20251230T175427Z
UID:1235-1767916800-1769385599@amacma.jp
SUMMARY:テクノロジーで体を動かす体験型展示「なはーと DANCE CREW」那覇で開催
DESCRIPTION:那覇文化芸術劇場なはーとで、ダンスとテクノロジーが融合した体験型展示「なはーと DANCE CREW」が開催されます。センサーや映像、音楽を使って、踊る動きがそのまま映像表現に変わる参加型コンテンツは、ダンス経験の有無を問わず楽しめる内容です。体を動かすことが好きな人はもちろん、見るだけの展示では物足りない人にもおすすめの企画です。 \n\n\n\n「なはーと DANCE CREW」とは\n\n\n\n「なはーと DANCE CREW」は、来場者自身の動きに反応して映像が変化する体験展示です。カメラやセンサーが体の動きを捉え、色や光、エフェクトが加わることで、その場でオリジナルの映像作品が完成します。完成した映像はスマートフォンに保存でき、SNSでシェアすることもできます。 \n\n\n\nダンスが初めてでも楽しめる理由\n\n\n\n自由な動きがそのまま表現になる仕組み\n\n\n\n決まった振り付けはなく、ジャンプや手拍子、歩く動きでも反応します。ダンスが得意でなくても、自分なりの動きで映像表現を楽しめるのが特徴です。 \n\n\n\n見るだけでもワクワクする展示空間\n\n\n\n他の参加者の映像演出を見るだけでも楽しめるため、付き添いの家族や友人も一緒に体験の雰囲気を味わえます。会場全体がライブ感のある空間になるのも、この展示ならではです。 \n\n\n\n開催期間・時間\n\n\n\n開催日程\n\n\n\n2026年1月9日（金）〜1月25日（日） \n\n\n\n開催時間\n\n\n\n平日 16:00〜20:00土日祝 10:00〜17:00※1月19日（月）は休館日 \n\n\n\n会場情報\n\n\n\n会場\n\n\n\n那覇文化芸術劇場なはーと（1階 小スタジオ） \n\n\n\n那覇市中心部に位置し、公共交通機関でのアクセスもしやすい会場です。買い物や食事とあわせて立ち寄りやすい点も魅力です。 \n\n\n\n料金・参加条件\n\n\n\n入場料\n\n\n\n無料年齢制限はなく、子どもから大人まで参加できます。 \n\n\n\nワークショップも開催予定\n\n\n\n期間中には、ダンスをより楽しむためのワークショップも予定されています。体の動かし方や映像表現のポイントを知ることで、展示体験がさらに広がります。詳細は公式サイトで案内される予定です。 \n\n\n\nこんな人におすすめ\n\n\n\n\n体を動かすのが好きな人\n\n\n\nダンスや映像表現に興味がある人\n\n\n\n親子で参加できる体験型イベントを探している人\n\n\n\nSNSでシェアできる思い出を作りたい人
URL:https://amacma.jp/event/%e3%83%86%e3%82%af%e3%83%8e%e3%83%ad%e3%82%b8%e3%83%bc%e3%81%a7%e4%bd%93%e3%82%92%e5%8b%95%e3%81%8b%e3%81%99%e4%bd%93%e9%a8%93%e5%9e%8b%e5%b1%95%e7%a4%ba%e3%80%8c%e3%81%aa%e3%81%af%e3%83%bc%e3%81%a8-d/
LOCATION:那覇文化芸術劇場なはーと\, 久茂地3-26-27\, 那覇市\, 沖縄県\, 〒900-0015\, Japan
ATTACH;FMTTYPE=image/jpeg:https://amacma.jp/cms/wp-content/uploads/2025/12/1765504088_page-0001.jpg
END:VEVENT
BEGIN:VEVENT
DTSTART;TZID=Asia/Tokyo:20260117T000000
DTEND;TZID=Asia/Tokyo:20260201T235959
DTSTAMP:20260426T034341
CREATED:20251230T173042Z
LAST-MODIFIED:20251230T173046Z
UID:1232-1768608000-1769990399@amacma.jp
SUMMARY:日本一早咲きの桜を楽しむ「第48回 もとぶ八重岳桜まつり」2026年1月17日から開催
DESCRIPTION:沖縄本島北部・本部町にある八重岳では、全国に先駆けて寒緋桜が見頃を迎えます。2026年も「もとぶ八重岳桜まつり」が開催され、山肌を染める濃いピンク色の桜景色を楽しめます。 \n\n\n\n\n\n\n\n第48回 もとぶ八重岳桜まつりとは\n\n\n\nもとぶ八重岳桜まつりは、沖縄県本部町を代表する冬の風物詩です。八重岳の桜並木は「日本一早咲きの桜」として知られ、1月中旬から全国に春の訪れを届けてくれます。車でのドライブはもちろん、ゆったりと散策しながら桜を眺めるのもおすすめです。 \n\n\n\n\n\n\n\n花見期間・基本情報\n\n\n\n花見期間\n\n\n\n\n2026年1月17日（土）〜2月1日（日）\n\n\n\n\n開催場所\n\n\n\n\n八重岳桜の森公園 （沖縄県国頭郡本部町）\n\n\n\n\n主催\n\n\n\n\n本部まつり実行委員会\n\n\n\n\n問い合わせ先\n\n\n\n\n本部町観光協会 電話：0980-47-3641\n\n\n\n\n\n\n\n\n八重岳の桜の見どころ\n\n\n\n日本一早く咲く寒緋桜\n\n\n\n八重岳に咲く寒緋桜は、色が濃く、下向きに花をつけるのが特徴です。山道に沿って続く桜並木は、ドライブ中でも圧巻の景色を楽しめます。 \n\n\n\n写真撮影にもおすすめ\n\n\n\n斜面一帯に広がる桜と、沖縄ならではの亜熱帯の緑が織りなす風景は、写真映えするスポットとしても人気。毎年多くの来場者がカメラを手に訪れます。 \n\n\n\n\n\n\n\n同時開催・関連イベント情報\n\n\n\n2026年 桜フォトコンテスト\n\n\n\n\n開催期間：2026年1月17日（土）〜2月11日（水・祝） 八重岳の桜をテーマにした写真作品を募集します。\n\n\n\n\nホエールウォッチング\n\n\n\n\n開催期間：2026年1月5日（月）〜3月31日（火） 冬の沖縄ならではの体験として、桜とあわせて楽しめます。\n\n\n\n\n周辺施設のイベント\n\n\n\n\n海洋博公園や熱帯ドリームセンターでも、期間限定イベントが予定されています。\n\n\n\n\n\n\n\n\n冬の沖縄でひと足早い春を\n\n\n\n全国より一足早く咲く八重岳の桜は、冬の沖縄ならではの特別な景色です。2026年のはじまりに、淡いピンク色に包まれる八重岳で、心癒される時間を過ごしてみてはいかがでしょうか。
URL:https://amacma.jp/event/%e6%97%a5%e6%9c%ac%e4%b8%80%e6%97%a9%e5%92%b2%e3%81%8d%e3%81%ae%e6%a1%9c%e3%82%92%e6%a5%bd%e3%81%97%e3%82%80%e3%80%8c%e7%ac%ac48%e5%9b%9e-%e3%82%82%e3%81%a8%e3%81%b6%e5%85%ab%e9%87%8d%e5%b2%b3/
LOCATION:沖縄県
ATTACH;FMTTYPE=image/jpeg:https://amacma.jp/cms/wp-content/uploads/2025/12/4848motobu-yaedake-sakura_page-0001-scaled.jpg
END:VEVENT
END:VCALENDAR