BEGIN:VCALENDAR
VERSION:2.0
PRODID:-//amacma（アマクマ） - ECPv6.15.17.1//NONSGML v1.0//EN
CALSCALE:GREGORIAN
METHOD:PUBLISH
X-ORIGINAL-URL:https://amacma.jp
X-WR-CALDESC:amacma（アマクマ） のイベント
REFRESH-INTERVAL;VALUE=DURATION:PT1H
X-Robots-Tag:noindex
X-PUBLISHED-TTL:PT1H
BEGIN:VTIMEZONE
TZID:Asia/Tokyo
BEGIN:STANDARD
TZOFFSETFROM:+0900
TZOFFSETTO:+0900
TZNAME:JST
DTSTART:20240101T000000
END:STANDARD
END:VTIMEZONE
BEGIN:VEVENT
DTSTART;TZID=Asia/Tokyo:20250802T090000
DTEND;TZID=Asia/Tokyo:20250802T220000
DTSTAMP:20260426T131611
CREATED:20250730T091107Z
LAST-MODIFIED:20250730T091110Z
UID:443-1754125200-1754172000@amacma.jp
SUMMARY:音楽・笑い・体験いっぱい！開業25周年記念イベント「マハイナフェスタ」
DESCRIPTION:家族で夏の思い出をつくるなら、にぎやかで楽しいフェスタはいかが？2025年8月2日（土）、本部町のホテルマハイナ ウェルネスリゾートオキナワにて、開業25周年を記念した「マハイナフェスタ」が開催されます！ \n\n\n\nステージでは、エイサーや音楽ライブ、さらにはお笑いステージも！MCは沖縄で人気のありんくりん、出演はSpirit of the 響樂.や金城しおりさんなど盛りだくさん！ \n\n\n\n子どもも夢中になれるセルフ琉装体験や手作り体験（有料）も用意されていて、パフォーマンスショーも間近で楽しめますよ。 \n\n\n\n🌟 イベント詳細日程： 2025年8月2日（土）時間： 体験 9:00〜22:00／フード 11:00〜21:00／ステージ 18:00〜21:00会場： ホテルマハイナ ウェルネスリゾートオキナワ（沖縄県国頭郡本部町字山川1456）入場料： 無料問い合わせ： フライヤー記載のQRコードまたはホテル公式HPへ \n\n\n\n🍔 フードコーナーも充実！ \n\n\n\nホットドッグハンバーガーアサイーボウル など家族でシェアできるグルメも盛りだくさん！ \n\n\n\n地域とつながる25周年の感謝を込めたフェスタは、子どもも大人も楽しめるコンテンツが満載。この夏、思いっきり遊んで、笑って、体験して、家族で最高の一日を過ごしませんか？
URL:https://amacma.jp/event/%e9%96%8b%e6%a5%ad25%e5%91%a8%e5%b9%b4%e8%a8%98%e5%bf%b5%e3%82%a4%e3%83%99%e3%83%b3%e3%83%88%e3%83%9e%e3%83%8f%e3%82%a4%e3%83%8a%e3%83%95%e3%82%a7%e3%82%b9%e3%82%bf/
LOCATION:ホテルマハイナ ウェルネスリゾートオキナワ\, 山川1456\, 国頭郡本部町\, 沖縄県\, 905-0205\, Japan
ATTACH;FMTTYPE=image/jpeg:https://amacma.jp/cms/wp-content/uploads/2025/07/020250714165926_3069_page-0001.jpg
END:VEVENT
BEGIN:VEVENT
DTSTART;TZID=Asia/Tokyo:20250802T100000
DTEND;TZID=Asia/Tokyo:20250803T180000
DTSTAMP:20260426T131611
CREATED:20250730T094536Z
LAST-MODIFIED:20250730T094538Z
UID:448-1754128800-1754244000@amacma.jp
SUMMARY:親子で体験！わくわく手作りワークショップ満載「夏の工芸お楽しみ広場2025」
DESCRIPTION:夏休みのお出かけに、家族で“ものづくり”を楽しみませんか？ \n\n\n\n2025年8月2日（土）・3日（日）の2日間、豊見城市のイーアス沖縄豊崎で開催されるのは、「夏の工芸お楽しみ広場2025」。とんぼ玉アクセサリーや陶芸ろくろ体験、うちわづくりなど、親子で楽しめる体験型ワークショップが満載！ \n\n\n\n場所は館内2Fのオークリーストア横。お買い物ついでに気軽に立ち寄れるのも嬉しいポイント♪ \n\n\n\n🎨 主な体験メニュー（一部） \n\n\n\nマイ箸づくり（ひじり屋）やちむん ろくろ体験（陶芸やちるや）手びねりでシーサーづくり（南工房）水引で結ぶピアス・イヤリング、福鈴・ミニブローチ（アート水引紀子）琉球ガラスのかけらで万華鏡づくり（Ridge）琉球松で作るアクセサリーと魔法の杖マドラー（majonowa）ほかにも、かわいい「へんてこ魚」や「とんぼ玉のアクセサリー」なども。 \n\n\n\n🧒 未就学児のお子さんは保護者のサポートが必要です。※ブースによって対象年齢や料金・所要時間が異なります \n\n\n\n📍 イベント詳細日程： 2025年8月2日（土）・3日（日）時間： 10:00〜18:00場所： イーアス沖縄豊崎 2F オークリーストア横参加費： 各体験ごとに異なります \n\n\n\n🌟夏の思い出にぴったり！🌟自由研究のヒントにもなるワークショップがいっぱい。家族みんなで、世界にひとつの手作り作品を完成させてみませんか？
URL:https://amacma.jp/event/%e5%a4%8f%e3%81%ae%e5%b7%a5%e8%8a%b8%e3%81%8a%e6%a5%bd%e3%81%97%e3%81%bf%e5%ba%83%e5%a0%b42025/
LOCATION:イーアス沖縄豊崎\, 豊崎3-35\, 豊見城市\, 沖縄県\, Japan
ATTACH;FMTTYPE=image/jpeg:https://amacma.jp/cms/wp-content/uploads/2025/07/1848de9d-e36e-4f95-b514-6fdb28f70a76.jpeg
END:VEVENT
BEGIN:VEVENT
DTSTART;TZID=Asia/Tokyo:20250802T110000
DTEND;TZID=Asia/Tokyo:20250802T170000
DTSTAMP:20260426T131611
CREATED:20250712T135737Z
LAST-MODIFIED:20250712T135742Z
UID:287-1754132400-1754154000@amacma.jp
SUMMARY:【くくる糸満 超夏祭り】PONOゆいマルシェ
DESCRIPTION:🌈【くくる糸満 超夏祭り】PONOゆいマルシェ \n\n\n\n🎉楽しい！嬉しい！がいっぱいの親子向けマルシェが開催🎉 \n\n\n\n\n\n\n\n2025年8月2日（土）、糸満市で家族みんなで楽しめるイベント「PONOゆいマルシェ」が開催されます！ \n\n\n\nハンドメイド雑貨、フード、体験ブース、ワークショップ、そしてステージイベントまで盛りだくさん！ \n\n\n\n“楽しさ・嬉しさ・出会い”がぎゅっと詰まった、1日限りの特別な夏イベントです☀️ \n\n\n\n\n\n\n\n📅 イベント概要\n\n\n\n\n日程：2025年8月2日（土）\n\n\n\n時間：11:00～17:00\n\n\n\n場所：くくる糸満\n\n\n\n主催：くくる糸満共同事業体\n\n\n\n問合せ：☎ 098-992-2500 / ✉ info@kukuru-itomancity.jp\n\n\n\nHP：https://www.kukuru-itomancity.jp\n\n\n\n\n\n\n\n\n🛍️ 出店内容（抜粋）\n\n\n\n\n手づくり雑貨やアクセサリーのハンドメイドブース\n\n\n\n夏らしいアイテムも並ぶフリーマーケット\n\n\n\nお子さま向けのワークショップ（スライムづくり・占い・クラフトなど）\n\n\n\nステージパフォーマンスあり！🎤🎶\n\n\n\n癒し系のリラクゼーション・ビューティー体験\n\n\n\nドリンク・スイーツなど飲食ブースも充実\n\n\n\n\n\n\n\n\n夏の1日を、親子で笑顔いっぱいに過ごせるPONOゆいマルシェへ！ \n\n\n\n自由研究のヒント探しにもぴったり。 \n\n\n\nこの夏の思い出づくりに、ぜひ遊びに行ってみてくださいね✨
URL:https://amacma.jp/event/%e3%80%90%e3%81%8f%e3%81%8f%e3%82%8b%e7%b3%b8%e6%ba%80-%e8%b6%85%e5%a4%8f%e7%a5%ad%e3%82%8a%e3%80%91pono%e3%82%86%e3%81%84%e3%83%9e%e3%83%ab%e3%82%b7%e3%82%a7/
LOCATION:沖縄県
ATTACH;FMTTYPE=image/png:https://amacma.jp/cms/wp-content/uploads/2025/07/df383967d2.png
END:VEVENT
END:VCALENDAR