BEGIN:VCALENDAR
VERSION:2.0
PRODID:-//amacma（アマクマ） - ECPv6.15.17.1//NONSGML v1.0//EN
CALSCALE:GREGORIAN
METHOD:PUBLISH
X-ORIGINAL-URL:https://amacma.jp
X-WR-CALDESC:amacma（アマクマ） のイベント
REFRESH-INTERVAL;VALUE=DURATION:PT1H
X-Robots-Tag:noindex
X-PUBLISHED-TTL:PT1H
BEGIN:VTIMEZONE
TZID:Asia/Tokyo
BEGIN:STANDARD
TZOFFSETFROM:+0900
TZOFFSETTO:+0900
TZNAME:JST
DTSTART:20240101T000000
END:STANDARD
END:VTIMEZONE
BEGIN:VEVENT
DTSTART;TZID=Asia/Tokyo:20250803T130000
DTEND;TZID=Asia/Tokyo:20250818T160000
DTSTAMP:20260426T131648
CREATED:20250811T153639Z
LAST-MODIFIED:20250811T153641Z
UID:600-1754226000-1755532800@amacma.jp
SUMMARY:2025年夏休み ドローンプログラミング体験教室 — 小学3〜6年生限定！操縦から自動飛行までチャレンジ
DESCRIPTION:この夏、沖縄県内の各会場で 「2025年夏休み ドローンプログラミング体験教室」 が開催されます！対象は 小学3年生〜6年生。ドローンを実際に操縦し、さらにプログラミングで自動飛行に挑戦できるワクワク体験です。 \n\n\n\n\n\n\n\n体験できること\n\n\n\n\nドローンを操縦してみよう！　手動での操縦を体験し、ドローンの基本的な動きを学びます。\n\n\n\nプログラミングでドローンを飛ばそう！　自分で作ったプログラムでドローンを自動飛行させる、未来感あふれるチャレンジ。\n\n\n\n\n講師は 財津 英郎さん（沖縄ICTキッズプロジェクト代表） が担当。初心者でも楽しく学べる内容になっています。 \n\n\n\n\n\n\n\n開催日程・会場\n\n\n\n\n8月3日（日） 那覇市まーいまーいNaha（那覇市内間549-1）\n\n\n\n8月9日（土） 那覇市若狭公民館（那覇市若狭2丁目12-1）\n\n\n\n8月10日（日） 那覇市石嶺公民館（那覇市首里石嶺町2丁目70-9）\n\n\n\n8月14日（木） 那覇市牧志駅前ほしぞら公民館（那覇市安里2丁目1-1 さいおんスクエア3F）\n\n\n\n8月15日（金） 浦添市内間公民館（浦添市内間3丁目15-1）\n\n\n\n8月17日（日） 那覇市牧志駅前ほしぞら公民館（那覇市安里2丁目1-1 さいおんスクエア3F）\n\n\n\n8月18日（月） 浦添市アイムユニバースてだこホール マルチメディア学習室（浦添市仲間1丁目9-3）\n\n\n\n\n\n\n\n\n開催時間\n\n\n\n各会場 13:00〜16:00 \n\n\n\n\n\n\n\n参加費\n\n\n\n無料（※但し保険料および教材費として500円が必要） \n\n\n\n\n\n\n\n募集定員\n\n\n\n各会場 20名 \n\n\n\n\n\n\n\n申込方法\n\n\n\nQRコードまたは申込サイト（connpass）から希望日と会場を選んで申し込み。※申込にはconnpassの会員登録が必要です。 \n\n\n\n\n\n\n\n主催・後援\n\n\n\n\n主催：沖縄ICTキッズプロジェクト\n\n\n\n後援：沖縄県教育委員会・那覇市教育委員会・浦添市教育委員会\n\n\n\n\n\n\n\n\nお問い合わせ先\n\n\n\n沖縄ICTキッズプロジェクト沖縄県那覇市首里寒川町1-81-4-301TEL：070-9066-0916（担当：財津） \n\n\n\n\n\n\n\n夏休みの自由研究や新しい趣味探しにぴったり！ドローンとプログラミングの世界に、親子で一緒に飛び込んでみませんか？
URL:https://amacma.jp/event/2025%e5%b9%b4%e5%a4%8f%e4%bc%91%e3%81%bf%e3%83%89%e3%83%ad%e3%83%bc%e3%83%b3%e3%83%97%e3%83%ad%e3%82%b0%e3%83%a9%e3%83%9f%e3%83%b3%e3%82%b0%e4%bd%93%e9%a8%93%e6%95%99%e5%ae%a4/
LOCATION:沖縄県
ATTACH;FMTTYPE=image/jpeg:https://amacma.jp/cms/wp-content/uploads/2025/08/498efd13928fb9373840ce2c7ce0f8af.jpg
END:VEVENT
BEGIN:VEVENT
DTSTART;TZID=Asia/Tokyo:20250809T000000
DTEND;TZID=Asia/Tokyo:20250811T235959
DTSTAMP:20260426T131648
CREATED:20250802T091413Z
LAST-MODIFIED:20250819T233324Z
UID:498-1754697600-1754956799@amacma.jp
SUMMARY:“冷たい”体験がいっぱい！沖縄こどもの国「アイスまつり」で夏を満喫♪
DESCRIPTION:猛暑の夏も、ワクワクひんやり楽しく乗り切ろう！2025年8月9日（土）～11日（月・祝）の3日間！沖縄こどもの国（沖縄市）で「アイスまつり」が開催されます！小さなお子さんから大人まで楽しめる、“冷たさ”と“科学”と“動物”が詰まった夏の祭典です♪ \n\n\n\n\n\n\n\n🍧 注目イベントはこちら！ \n\n\n\n💥 夏だよ！水鉄砲大会！\n\n\n\n🔹 日時：8/9〜11🔹 時間：①11:30〜 ②15:00〜 ③17:00〜🔹 場所：水とみどりの広場 大型テント🔹 参加費：200円🔹 定員：各回40名（30分前から受付） \n\n\n\n※水鉄砲は持参不可。全身濡れてOKな服装で！ \n\n\n\n\n\n\n\n🧪 Mr.カガックの液体窒素実験ショー（無料）\n\n\n\n🔹 日時：8/9〜11🔹 時間：①11:00〜 ②14:00〜 ③16:00〜（各回15分程度）🔹 場所：ワンダーミュージアム \n\n\n\n不思議！冷たい！びっくり！夏の自由研究にもぴったりです♪ \n\n\n\n\n\n\n\n🍦 においでシャーベット（200円）\n\n\n\n何味が出るかはお楽しみ♪🔹 日時：8/9〜11🔹 時間：10:30〜14:30／16:00〜18:00🔹 場所：ワンダーミュージアム \n\n\n\n\n\n\n\n🐘 動物たちにもアイスをプレゼント！\n\n\n\n動物たちが“氷のおやつ”をもらう様子が見られるよ♪カピバラ・ゾウ・ジャガーなど日替わりで開催！（詳しい時間は画像参照） \n\n\n\n\n\n\n\n🎨 納涼うちわ作り（300円）\n\n\n\n⏰ 10:30〜16:30／メインゲート付近特設テントにて \n\n\n\n\n\n\n\n🧊 アイスまつりクイズラリー（無料）\n\n\n\n⏰ 10:00〜16:00／メインゲート特設テント \n\n\n\n\n\n\n\n🔍 場所：沖縄こどもの国（沖縄市胡屋5-7-1）📞 お問い合わせ：098-933-4190💡 詳細は公式SNSやホームページでもチェック！ \n\n\n\n\n\n\n\n💡ポイント💡\n\n\n\n\n小学生の自由研究にぴったりの実験ショー\n\n\n\n夏の思い出に残る動物たちのアイスタイム\n\n\n\n暑さも吹き飛ぶ水遊びとシャーベット！\n\n\n\n\n\n\n\n\n家族みんなで「涼しく・楽しく・学べる」アイスまつり、ぜひお出かけしてみてくださいね♪
URL:https://amacma.jp/event/%e6%b2%96%e7%b8%84%e3%81%93%e3%81%a9%e3%82%82%e3%81%ae%e5%9b%bd%e3%82%a2%e3%82%a4%e3%82%b9%e3%81%be%e3%81%a4%e3%82%8a/
LOCATION:沖縄こどもの国\, 胡屋5-7-1\, 沖縄市\, Japan
ATTACH;FMTTYPE=image/jpeg:https://amacma.jp/cms/wp-content/uploads/2025/08/f118ceaef171004ed88e656e8378f9c9.jpg
END:VEVENT
BEGIN:VEVENT
DTSTART;TZID=Asia/Tokyo:20250809T100000
DTEND;TZID=Asia/Tokyo:20250815T180000
DTSTAMP:20260426T131648
CREATED:20250801T132219Z
LAST-MODIFIED:20250819T233051Z
UID:476-1754733600-1755280800@amacma.jp
SUMMARY:縁日＆ワークショップ開催！家族で楽しむ夏の1週間♪
DESCRIPTION:夏休みの思い出作りにぴったり！2025年8月9日（金）〜15日（木）までの7日間、イーアス沖縄豊崎にて「縁日＆ワークショップ」イベントが開催されます！ \n\n\n\n屋外大階段横のスペースにて、キッチンカー大集合＆個性豊かなハンドメイド体験が毎日登場！手作りアクセサリーや雑貨、バルーンアートや縁日気分が味わえる出店など、子どもから大人まで楽しめるブースが盛りだくさんです♪ \n\n\n\n\n\n\n\n🎨 ワークショップ例（一部） \n\n\n\n\nLEDライト付きボトルやジュエルライト作り\n\n\n\nボディジュエリーやミニチュアガーデン\n\n\n\nシャカシャカキーホルダー、ミニキーホルダー作り\n\n\n\nディンプルアートやカスタムアイテムも♪\n\n\n\n\n💡 各ブースは日替わり出店＆数量限定！毎日違った楽しみ方ができます✨ \n\n\n\n🍴 キッチンカーグルメも登場予定！ \n\n\n\n\n\n\n\n📅 開催概要 \n\n\n\n\n期間： 2025年8月9日（金）〜15日（木）\n\n\n\n時間： 10:00〜18:00\n\n\n\n場所： イーアス沖縄豊崎 1Fイーアスコート・屋外大階段横（キッチンカー側）\n\n\n\n\n\n\n\n\n🔔 ご注意事項※内容や出店日は予告なく変更になる場合があります。※各ワークショップは数量限定・先着順となります。 \n\n\n\n\n\n\n\n🌟夏休みの自由研究にもぴったりのワークショップがたくさん！ぜひ親子で足を運んで、楽しい体験をお楽しみください♪
URL:https://amacma.jp/event/%e3%82%a4%e3%83%bc%e3%82%a2%e3%82%b9%e6%b2%96%e7%b8%84%e8%b1%8a%e5%b4%8e%e7%b8%81%e6%97%a5%e3%83%af%e3%83%bc%e3%82%af%e3%82%b7%e3%83%a7%e3%83%83%e3%83%97/
LOCATION:沖縄県
ATTACH;FMTTYPE=image/jpeg:https://amacma.jp/cms/wp-content/uploads/2025/08/f260cef8-6bd4-4c9d-ad3e-e0e9c3a57b90.jpeg
END:VEVENT
BEGIN:VEVENT
DTSTART;TZID=Asia/Tokyo:20250811T100000
DTEND;TZID=Asia/Tokyo:20250811T163000
DTSTAMP:20260426T131648
CREATED:20250725T124346Z
LAST-MODIFIED:20250819T232754Z
UID:419-1754906400-1754929800@amacma.jp
SUMMARY:やんばるの森の仲間に変身！「ヤンバルクイナのお面をつくろう」＠浦添市美術館（8/11開催）
DESCRIPTION:8月11日（月・祝）の「山の日」、浦添市美術館で自然とアートが融合した親子向けのワークショップが開催されます！今回のテーマは「じぶんだけのヤンバルクイナのお面をつくろう」。 \n\n\n\n沖縄の希少動物「ヤンバルクイナ」を守る活動を行う“やんばる珍道中”の企画で、造形作家・仲宗根浩さんを講師に迎え、落ち葉や枝など自然の素材を使ってユニークなお面づくりに挑戦します。3歳から大人まで参加可能で、小さなお子さんには保護者の同伴があればOK。工作好きなお子さんはもちろん、自由研究や思い出づくりにもぴったり！ \n\n\n\n当日は無料の紙芝居や展示もあり、自然やアートに触れながら楽しく学べる内容になっています。各回定員10名の事前申込制ですので、気になる方はお早めにお申し込みを！ \n\n\n\n⸻ \n\n\n\n開催概要• 日程：2025年8月11日（月・祝）• 時間：午前の部：10:00〜／午後の部①：13:00〜／午後の部②：15:00〜（各回約90分）• 場所：浦添市美術館 屋外ピロティ• 対象：3歳以上（小学生以下は保護者同伴）• 定員：各回10名（先着順）※当日枠あり（100円追加）• 参加費：1\,000円／お面ひとつにつき• 申込期間：7月11日（金）〜8月1日（金）• 講師：仲宗根浩さん（造形作家） \n\n\n\n⸻ \n\n\n\nワンポイントMEMO \n\n\n\n汚れてもOKな服装＆水分持参をお忘れなく！紙芝居「チムは名探偵?!」の上映や展示も要チェックです♪
URL:https://amacma.jp/event/%e3%83%a4%e3%83%b3%e3%83%90%e3%83%ab%e3%82%af%e3%82%a4%e3%83%8a%e3%81%ae%e3%81%8a%e9%9d%a2%e3%82%92%e3%81%a4%e3%81%8f%e3%82%8d%e3%81%86/
LOCATION:浦添市美術館\, 仲間1丁目9番2号\, 浦添市\, 沖縄県\, 901-2103\, Japan
ATTACH;FMTTYPE=image/webp:https://amacma.jp/cms/wp-content/uploads/2025/07/1-3-1082x1536.jpg.webp
END:VEVENT
END:VCALENDAR