BEGIN:VCALENDAR
VERSION:2.0
PRODID:-//amacma（アマクマ） - ECPv6.15.17.1//NONSGML v1.0//EN
CALSCALE:GREGORIAN
METHOD:PUBLISH
X-ORIGINAL-URL:https://amacma.jp
X-WR-CALDESC:amacma（アマクマ） のイベント
REFRESH-INTERVAL;VALUE=DURATION:PT1H
X-Robots-Tag:noindex
X-PUBLISHED-TTL:PT1H
BEGIN:VTIMEZONE
TZID:Asia/Tokyo
BEGIN:STANDARD
TZOFFSETFROM:+0900
TZOFFSETTO:+0900
TZNAME:JST
DTSTART:20240101T000000
END:STANDARD
END:VTIMEZONE
BEGIN:VEVENT
DTSTART;TZID=Asia/Tokyo:20250803T130000
DTEND;TZID=Asia/Tokyo:20250818T160000
DTSTAMP:20260426T131612
CREATED:20250811T153639Z
LAST-MODIFIED:20250811T153641Z
UID:600-1754226000-1755532800@amacma.jp
SUMMARY:2025年夏休み ドローンプログラミング体験教室 — 小学3〜6年生限定！操縦から自動飛行までチャレンジ
DESCRIPTION:この夏、沖縄県内の各会場で 「2025年夏休み ドローンプログラミング体験教室」 が開催されます！対象は 小学3年生〜6年生。ドローンを実際に操縦し、さらにプログラミングで自動飛行に挑戦できるワクワク体験です。 \n\n\n\n\n\n\n\n体験できること\n\n\n\n\nドローンを操縦してみよう！　手動での操縦を体験し、ドローンの基本的な動きを学びます。\n\n\n\nプログラミングでドローンを飛ばそう！　自分で作ったプログラムでドローンを自動飛行させる、未来感あふれるチャレンジ。\n\n\n\n\n講師は 財津 英郎さん（沖縄ICTキッズプロジェクト代表） が担当。初心者でも楽しく学べる内容になっています。 \n\n\n\n\n\n\n\n開催日程・会場\n\n\n\n\n8月3日（日） 那覇市まーいまーいNaha（那覇市内間549-1）\n\n\n\n8月9日（土） 那覇市若狭公民館（那覇市若狭2丁目12-1）\n\n\n\n8月10日（日） 那覇市石嶺公民館（那覇市首里石嶺町2丁目70-9）\n\n\n\n8月14日（木） 那覇市牧志駅前ほしぞら公民館（那覇市安里2丁目1-1 さいおんスクエア3F）\n\n\n\n8月15日（金） 浦添市内間公民館（浦添市内間3丁目15-1）\n\n\n\n8月17日（日） 那覇市牧志駅前ほしぞら公民館（那覇市安里2丁目1-1 さいおんスクエア3F）\n\n\n\n8月18日（月） 浦添市アイムユニバースてだこホール マルチメディア学習室（浦添市仲間1丁目9-3）\n\n\n\n\n\n\n\n\n開催時間\n\n\n\n各会場 13:00〜16:00 \n\n\n\n\n\n\n\n参加費\n\n\n\n無料（※但し保険料および教材費として500円が必要） \n\n\n\n\n\n\n\n募集定員\n\n\n\n各会場 20名 \n\n\n\n\n\n\n\n申込方法\n\n\n\nQRコードまたは申込サイト（connpass）から希望日と会場を選んで申し込み。※申込にはconnpassの会員登録が必要です。 \n\n\n\n\n\n\n\n主催・後援\n\n\n\n\n主催：沖縄ICTキッズプロジェクト\n\n\n\n後援：沖縄県教育委員会・那覇市教育委員会・浦添市教育委員会\n\n\n\n\n\n\n\n\nお問い合わせ先\n\n\n\n沖縄ICTキッズプロジェクト沖縄県那覇市首里寒川町1-81-4-301TEL：070-9066-0916（担当：財津） \n\n\n\n\n\n\n\n夏休みの自由研究や新しい趣味探しにぴったり！ドローンとプログラミングの世界に、親子で一緒に飛び込んでみませんか？
URL:https://amacma.jp/event/2025%e5%b9%b4%e5%a4%8f%e4%bc%91%e3%81%bf%e3%83%89%e3%83%ad%e3%83%bc%e3%83%b3%e3%83%97%e3%83%ad%e3%82%b0%e3%83%a9%e3%83%9f%e3%83%b3%e3%82%b0%e4%bd%93%e9%a8%93%e6%95%99%e5%ae%a4/
LOCATION:沖縄県
ATTACH;FMTTYPE=image/jpeg:https://amacma.jp/cms/wp-content/uploads/2025/08/498efd13928fb9373840ce2c7ce0f8af.jpg
END:VEVENT
BEGIN:VEVENT
DTSTART;TZID=Asia/Tokyo:20250816T000000
DTEND;TZID=Asia/Tokyo:20250817T235959
DTSTAMP:20260426T131612
CREATED:20250814T064500Z
LAST-MODIFIED:20250819T232721Z
UID:641-1755302400-1755475199@amacma.jp
SUMMARY:海と花火と夏グルメ！「第52回本部海洋まつり」で家族の思い出づくり
DESCRIPTION:青い海に囲まれた港町・本部町で、2日間にわたり「本部海洋まつり」が開催されます！子どもも大人も目がキラキラするイベントが盛りだくさんです。 \n\n\n\n港では、力強い掛け声と水しぶきが飛び交う迫力満点のハーリー大会。会場にはふわっといい匂いが漂う屋台が並び、かき氷や焼きそば、地元グルメに子どもたちも大喜び！ステージでは音楽やダンス、パフォーマンスが次々に披露され、家族みんなで楽しめます。 \n\n\n\nそして夜になると、お楽しみの花火が夜空いっぱいに広がります。海面に映る色とりどりの光は、まるで絵本の1ページのよう。家族で手をつなぎながら見上げれば、この夏一番の思い出になること間違いなしです。 \n\n\n\nさらに、子どもたちに人気の体験イベントなども充実。朝から夜まで1日中、港町ならではの魅力を味わえます。 \n\n\n\n\n\n\n\n🌊 プログラム\n\n\n\n8月16日（土）\n\n\n\n\nオープニングセレモニー\n\n\n\nMOTOBUっ子ショー、吹奏楽、合唱など地域団体のステージ\n\n\n\nダンスや企業・団体PRカラオケ大会\n\n\n\n栽培漁業センター見学ツアー（自由研究にもぴったり）\n\n\n\n夜のステージライブ＆創作太鼓演舞\n\n\n\n\n8月17日（日）\n\n\n\n\nハーリー大会\n\n\n\nもずくつかみ取り大会\n\n\n\n海上わんぱく相撲\n\n\n\nステージイベント（音楽ライブ・現代版組踊など）\n\n\n\n夜空を彩る会場打ち上げ花火\n\n\n\n\n\n\n\n\n📍 基本情報\n\n\n\n\nイベント名：第52回 本部海洋まつり\n\n\n\n会場：大浜多目的広場・渡久地港\n\n\n\n開催日：2025年8月16日（土）・17日（日）
URL:https://amacma.jp/event/%e6%b5%b7%e3%81%a8%e8%8a%b1%e7%81%ab%e3%81%a8%e5%a4%8f%e3%82%b0%e3%83%ab%e3%83%a1%e7%ac%ac52%e5%9b%9e%e6%9c%ac%e9%83%a8%e6%b5%b7%e6%b4%8b%e3%81%be%e3%81%a4%e3%82%8a/
LOCATION:沖縄県
ATTACH;FMTTYPE=image/jpeg:https://amacma.jp/cms/wp-content/uploads/2025/08/52kaiyo-chirashi_omote.jpg
END:VEVENT
BEGIN:VEVENT
DTSTART;TZID=Asia/Tokyo:20250816T080000
DTEND;TZID=Asia/Tokyo:20250817T210000
DTSTAMP:20260426T131612
CREATED:20250811T145504Z
LAST-MODIFIED:20250811T153047Z
UID:597-1755331200-1755464400@amacma.jp
SUMMARY:夏の思い出づくりに！第37回 国頭村まつり – 花火・ステージ・体験イベントが盛りだくさん
DESCRIPTION:沖縄本島最北端に位置する国頭村で、夏の恒例イベント 「第37回 国頭村まつり」 が2025年8月16日（土）・17日（日）の2日間、国頭中学校グラウンドで開催されます。豊かな自然の中で、家族みんなで楽しめる催しが盛りだくさん！ \n\n\n\n\n\n\n\n8月16日（土）の見どころ\n\n\n\n初日は朝8時からの「森林セラピーツアー」でスタート。自然に癒やされたあとは、パークゴルフ大会や消防フェアで地元ならではの体験が楽しめます。夕方からはオープニングセレモニーに続き、地元サークルのステージやバンド演奏、さらに ヤンバラー宮城さん のライブで盛り上がります。夜は迫力満点の盆踊りと共に、夏の夜を楽しみましょう。※当日は12:00〜15:00まで「子どもプール」もオープン！ \n\n\n\n\n\n\n\n8月17日（日）の見どころ\n\n\n\n最終日は「丸太切り体験」や「スイカうま食い大会」といったユニークな企画が目白押し。ステージでは 仲宗根 創さん や 創作芸団レキオス のパフォーマンス、そしてシンガーソングライター Anlyさん のライブが会場を熱くします。フィナーレは打ち上げ花火で、2日間の感動を締めくくります。 \n\n\n\n\n\n\n\n開催概要\n\n\n\n\n日程：2025年8月16日（土）・17日（日）\n\n\n\n会場：国頭中学校グラウンド\n\n\n\n住所：沖縄県国頭郡国頭村辺土名1463\n\n\n\n入場料：無料\n\n\n\n問い合わせ：国頭村まつり実行委員会（TEL: 0980-41-2622）\n\n\n\n\n\n\n\n\n親子で楽しむポイント\n\n\n\n\n森林セラピーやパークゴルフで自然体験\n\n\n\n消防フェアやスイカのうま食い大会で子どもも大喜び\n\n\n\n子どもプールで夏休みの思い出作り\n\n\n\n音楽ステージや花火で大人も子どもも一緒に盛り上がれる\n\n\n\n\n\n\n\n\n国頭村まつりは、地域の魅力と人々の温かさを感じられる夏の一大イベント。海風と音楽、そして笑顔に包まれた2日間を、ぜひご家族で楽しんでみてください！
URL:https://amacma.jp/event/%e7%ac%ac37%e5%9b%9e%e5%9b%bd%e9%a0%ad%e6%9d%91%e3%81%be%e3%81%a4%e3%82%8a/
LOCATION:沖縄県
ATTACH;FMTTYPE=image/jpeg:https://amacma.jp/cms/wp-content/uploads/2025/08/3973c0684783327cd8c47847c1a5181d-1086x1536-1.jpg
END:VEVENT
BEGIN:VEVENT
DTSTART;TZID=Asia/Tokyo:20250816T083000
DTEND;TZID=Asia/Tokyo:20250817T180000
DTSTAMP:20260426T131612
CREATED:20250808T154943Z
LAST-MODIFIED:20250819T232700Z
UID:574-1755333000-1755453600@amacma.jp
SUMMARY:子連れで楽しむ無料ビーチイベント｜潮乃森ビーチフェスタ2025
DESCRIPTION:夏休み真っ只中、家族で思いっきり遊べるビーチイベントが登場！2025年8月16日（土）・17日（日）、沖縄市・潮乃森で「ビーチフェスタ2025」が開催されます。なんと、ドラゴンボートやエアプール、SUP、水上スキーなどのマリンアクティビティがすべて無料で体験可能。子どもも大人も一緒に、海でのびのび楽しめます。 \n\n\n\n\n\n\n\n🌊 無料で体験できるマリンアクティビティ\n\n\n\n\nドラゴンボート\n\n\n\nビスケットボート\n\n\n\nフライボード\n\n\n\nエアプール\n\n\n\nE-Foil（電動フォイルボード）\n\n\n\n水上スキー\n\n\n\nSUP\n\n\n\n\n※ライフジャケット完備で、子どもも安心。 \n\n\n\n\n\n\n\n🎪 陸でも楽しめるコンテンツ\n\n\n\n\nこども向けゲームブース\n\n\n\nドローン操縦体験\n\n\n\nキッチンカーのグルメ販売\n\n\n\nトロピカルBAR（大人向けドリンクも♪）\n\n\n\n\n\n\n\n\n🎤 ステージ＆特別イベント\n\n\n\n8月16日（土） \n\n\n\n\nアーティストライブ（Teechi、ドリームシスターズ）\n\n\n\n社会人ビーチサッカー親善試合など\n\n\n\n\n8月17日（日） \n\n\n\n\nビーチサッカーリーグ戦 プロ選手も出場！\n\n\n\n\n\n\n\n\n📍 イベント概要\n\n\n\n\n日程：2025年8月16日（土）・17日（日）※荒天時は8月23日（土）・24日（日）に延期\n\n\n\n時間：8:30〜18:00\n\n\n\n会場：沖縄市 潮乃森\n\n\n\n入場方法：無料シャトルバス利用のみ（自家用車乗り入れ不可）\n\n発着場所：泡瀬漁港、コザ運動公園ホテル側駐車場\n\n\n\n運行開始：8:00〜\n\n\n\n\n\n料金：入場・体験すべて無料\n\n\n\n問い合わせ：潮乃森ビーチフェスタ事務局TEL 090-1948-9393（平日10:00〜17:00）\n\n\n\n\n\n\n\n\n🚍 アクセスのポイント\n\n\n\n\n会場には駐車場がないため、シャトルバスの利用が必須です。\n\n\n\nバスの運行は午前8時から開始されます。\n\n\n\n\n\n\n\n\n🌴 子どもと一緒に楽しめる沖縄の夏イベント！マリンアクティビティを無料で体験できる貴重なチャンス。家族で思い出に残る1日を過ごしましょう。 \n\n\n\n📱 詳細は公式Instagram・Facebook（@SHIONOMORI_BEACHFESTA）で最新情報をチェック！
URL:https://amacma.jp/event/%e6%bd%ae%e4%b9%83%e6%a3%ae%e3%83%93%e3%83%bc%e3%83%81%e3%83%95%e3%82%a7%e3%82%b9%e3%82%bf2025/
LOCATION:沖縄県
ATTACH;FMTTYPE=image/jpeg:https://amacma.jp/cms/wp-content/uploads/2025/08/huraiya-scaled.jpg
END:VEVENT
BEGIN:VEVENT
DTSTART;TZID=Asia/Tokyo:20250816T100000
DTEND;TZID=Asia/Tokyo:20250817T170000
DTSTAMP:20260426T131612
CREATED:20250815T112409Z
LAST-MODIFIED:20250815T112411Z
UID:666-1755338400-1755450000@amacma.jp
SUMMARY:夏休みは沖縄こどもの国へ！特別企画「クイクイラリー！」でヤンバルクイナと出会おう！
DESCRIPTION:夏休みの思い出づくりにぴったり！8月16日（土）・17日（日）の2日間、沖縄こどもの国で特別イベント「クイクイラリー！」が開催されます。この期間だけのヤンバルクイナ限定公開や、家族で楽しめるクイズラリーが待っています！ \n\n\n\n\n\n\n\n🐦 ヤンバルクイナ限定公開\n\n\n\n\n時間：10:00～12:00／14:00～16:00ふだんはなかなか出会えないヤンバルクイナを、じっくり観察できる貴重な機会！間近で見ると、その可愛らしさと迫力にびっくりするはず。\n\n\n\n\n\n\n\n\n📝 クイズラリー\n\n\n\n\n時間：10:00～17:00ヤンバルクイナや沖縄の自然について楽しく学べます。ヤンバルクイナをきっかけに、沖縄の生きものや自然環境について考えてみませんか？\n\n\n\n\n\n\n\n\n📅 開催概要\n\n\n\n\n開催日：2025年8月16日（土）・17日（日）\n\n\n\n場所：沖縄こどもの国\n\n\n\nTEL：098-933-4190\n\n\n\n主催：公益財団法人 沖縄こどもの国\n\n\n\n\n※動物の体調などにより、内容や時間が変更になる場合があります。
URL:https://amacma.jp/event/%e5%a4%8f%e4%bc%91%e3%81%bf%e3%81%af%e6%b2%96%e7%b8%84%e3%81%93%e3%81%a9%e3%82%82%e3%81%ae%e5%9b%bd%e3%81%b8%ef%bc%81%e7%89%b9%e5%88%a5%e4%bc%81%e7%94%bb%e3%80%8c%e3%82%af%e3%82%a4%e3%82%af%e3%82%a4/
LOCATION:沖縄こどもの国\, 胡屋5-7-1\, 沖縄市\, Japan
ATTACH;FMTTYPE=image/jpeg:https://amacma.jp/cms/wp-content/uploads/2025/08/896e034a26e8a4105446c9879e6f21d0.jpg
END:VEVENT
BEGIN:VEVENT
DTSTART;TZID=Asia/Tokyo:20250816T100000
DTEND;TZID=Asia/Tokyo:20250817T180000
DTSTAMP:20260426T131612
CREATED:20250812T184730Z
LAST-MODIFIED:20250812T185448Z
UID:620-1755338400-1755453600@amacma.jp
SUMMARY:ごっこランドEXPO in イオンモール沖縄ライカム｜親子で遊んで学べるワークショップ
DESCRIPTION:夏休みの思い出に！家族で「ごっこ遊び」と「お仕事体験」が楽しめるイベントが沖縄にやってくる！2025年8月16日（土）・17日（日）の2日間、イオンモール沖縄ライカム1Fグランドスクエア（水槽前）にて、「ごっこランドEXPO」 が開催されます。企業とコラボした楽しいワークショップやクイズラリーで、子どもたちが遊びながら学べる夏の特別イベントです。 \n\n\n\n\n\n\n\nイベント概要\n\n\n\n\n日時：2025年8月16日（土）・17日（日）10:00〜18:00（最終受付 17:30）\n\n\n\n場所：イオンモール沖縄ライカム 1F グランドスクエア（水槽前）\n\n\n\n参加条件：\n\nワークショップ：キッズクラブ会員の画面提示＋イオンモール沖縄ライカム専門店街での当日のお買い上げレシート1\,000円（税込、合算可）で1名様参加可能\n\n\n\nクイズラリー：どなたでもご参加自由\n\n\n\n\n\n\n\n\n\n\nワークショップ内容\n\n\n\n📅 8月16日（土）\n\n\n\n\nびっぷるのキーボードキーホルダーをつくろう！「カチッ」という音がクセになるキーボードキーホルダーを作れます。先着250名・3才以上対象\n\n\n\nBIGLOBE エコポッドでやさいをそだてよう！土に還る環境に優しいポッドで野菜を育てる体験。Aコープの食材シールでデコレーションしてオリジナルポットを持ち帰れます。先着250名・3才以上対象\n\n\n\n\n\n\n\n\n📅 8月17日（日）\n\n\n\n\nスコッティ＆クリネックスのぬいぐるみをぬろう！キャラクターぬいぐるみに色を塗って、自分だけのオリジナル作品が作れます。先着250名・3才以上対象\n\n\n\nすき家 牛丼のすきすきキーホルダーをつくろう！牛丼そっくりのミニチュアキーホルダーを制作。名前入りの看板もつけられます。先着250名・3才以上対象\n\n\n\n\n\n\n\n\n📅 両日開催\n\n\n\n\nおしごとクイズラリー会場内でクイズに挑戦！全問正解を目指そう。先着400名\n\n\n\n\n\n\n\n\nおすすめポイント\n\n\n\n\n企業ワークショップを体験できる\n\n\n\n子どもの創造力・好奇心を引き出せる内容\n\n\n\n夏休みの自由研究や作品作りにもぴったり\n\n\n\n\n\n\n\n\n各ワークショップは先着順なので、午前中に来場すると安心です。会場は屋内なので、暑さや天気を気にせず過ごせます。 \n\n\n\nごっこランドEXPO～夢中であそぼう、たいけんしよう！～
URL:https://amacma.jp/event/%e3%81%94%e3%81%a3%e3%81%93%e3%83%a9%e3%83%b3%e3%83%89expo-in-%e3%82%a4%e3%82%aa%e3%83%b3%e3%83%a2%e3%83%bc%e3%83%ab%e6%b2%96%e7%b8%84%e3%83%a9%e3%82%a4%e3%82%ab%e3%83%a0/
LOCATION:イオンモール沖縄ライカム\, ライカム1番地\, 中頭郡北中城村\, 沖縄県\, 〒901-2306\, Japan
ATTACH;FMTTYPE=image/jpeg:https://amacma.jp/cms/wp-content/uploads/2025/08/527356042_18014669471757128_1279128631783149085_n.jpg
END:VEVENT
BEGIN:VEVENT
DTSTART;TZID=Asia/Tokyo:20250817T120000
DTEND;TZID=Asia/Tokyo:20250817T160000
DTSTAMP:20260426T131612
CREATED:20250816T150129Z
LAST-MODIFIED:20250816T150714Z
UID:676-1755432000-1755446400@amacma.jp
SUMMARY:みんなで健康チェック！第12回 県民健康フェア in 沖縄コンベンションセンター
DESCRIPTION:2025年8月17日（日）、沖縄コンベンションセンター展示棟にて「第12回 県民健康フェア」が開催されます。テーマは 「ゆいマールの輪でつなぐ健康長寿 ～笑顔あふれる100年しまライフ～」。入場無料で、楽しみながら健康について学べるイベントです。 \n\n\n\n\n\n\n\n楽しいブースイベントがいっぱい！\n\n\n\n会場内には、各テーマに沿った健康チェックや相談ブースが並びます。血圧測定や体力測定、健康相談など、普段はなかなか体験できないコーナーも。お子さんからシニア世代まで、家族みんなで参加できます。 \n\n\n\n\n\n\n\nスタンプラリーで景品ゲット！\n\n\n\n会場内のブースを巡ってスタンプを集めると、数量限定の景品がもらえるチャンスも！「楽しみながら健康に触れる」そんな夏休みにぴったりの企画です。 \n\n\n\n\n\n\n\n小・中学生向け 職業体験コーナー\n\n\n\n未来の医師や看護師を目指す子どもたちにおすすめの「職業体験コーナー」も登場！本物の器具を使った手術体験や調剤体験は、夏休みの自由研究にも役立ちそうですね。 \n\n\n\n\n\n\n\nイベント概要\n\n\n\n\n日時：2025年8月17日（日）12:00～16:00\n\n\n\n場所：沖縄コンベンションセンター展示棟\n\n\n\n入場料：無料\n\n\n\n\n\n\n\n\n家族みんなで楽しめて、健康についてもしっかり学べる「県民健康フェア」。夏休みの1日を、元気いっぱい＆笑顔いっぱいで過ごしてみませんか？
URL:https://amacma.jp/event/%e3%81%bf%e3%82%93%e3%81%aa%e3%81%a7%e5%81%a5%e5%ba%b7%e3%83%81%e3%82%a7%e3%83%83%e3%82%af%ef%bc%81%e7%ac%ac12%e5%9b%9e-%e7%9c%8c%e6%b0%91%e5%81%a5%e5%ba%b7%e3%83%95%e3%82%a7%e3%82%a2-in-%e6%b2%96/
LOCATION:沖縄県
CATEGORIES:全天候型,室内イベント,無料イベント
ATTACH;FMTTYPE=image/png:https://amacma.jp/cms/wp-content/uploads/2025/08/6858a0cee179b318777d53d1edec7a06.png
END:VEVENT
END:VCALENDAR