BEGIN:VCALENDAR
VERSION:2.0
PRODID:-//amacma（アマクマ） - ECPv6.15.17.1//NONSGML v1.0//EN
CALSCALE:GREGORIAN
METHOD:PUBLISH
X-ORIGINAL-URL:https://amacma.jp
X-WR-CALDESC:amacma（アマクマ） のイベント
REFRESH-INTERVAL;VALUE=DURATION:PT1H
X-Robots-Tag:noindex
X-PUBLISHED-TTL:PT1H
BEGIN:VTIMEZONE
TZID:Asia/Tokyo
BEGIN:STANDARD
TZOFFSETFROM:+0900
TZOFFSETTO:+0900
TZNAME:JST
DTSTART:20240101T000000
END:STANDARD
END:VTIMEZONE
BEGIN:VEVENT
DTSTART;TZID=Asia/Tokyo:20250822T190000
DTEND;TZID=Asia/Tokyo:20250822T213000
DTSTAMP:20260426T132310
CREATED:20250806T152753Z
LAST-MODIFIED:20250806T152903Z
UID:539-1755889200-1755898200@amacma.jp
SUMMARY:小さな演者たちが大活躍！親子で楽しむ「こどもエイサーまつり」
DESCRIPTION:🎇 かわいくて本格的！子どもたちが主役の「こどもエイサーまつり」開催！ \n\n\n\nうるま市の海沿いにあるTERUMA（テルマ）で、子どもたちが主役のエイサーイベントが開催されます！地域の保育園や青年会が出演するにぎやかなお祭りで、夏の夜を家族みんなで楽しめます♪ \n\n\n\n\n\n\n\n📍 開催概要 \n\n\n\n\n日程：2025年8月22日（金）\n\n\n\n会場：TERUMA\n\n\n\n時間：19:00〜21:30ごろまで\n\n\n\n\n\n\n\n\n🕺 出演スケジュール（予定）19:00〜 野の花保育園19:25〜 にじの色こども園19:40〜 夢咲学童クラブ（ウルマー＆ワイドーコラボ）20:00〜 風わらび20:15〜 やまびこ響太鼓＆エイサー20:40〜 越来青年会21:10〜 江洲青年会 \n\n\n\n\n\n\n\n🍖 TERUMAでBBQしながら楽しめる！会場のTERUMAでは、BBQスペースが利用可能！お肉や海鮮、ドリンクも豊富で飲み放題プランも充実。エイサーの合間においしいごはんと家族団らんが楽しめます♪ \n\n\n\n🧒 お子さま連れも安心ポイント \n\n\n\n\n小さいお子さんも出番があるから、観て応援するだけでなく家族の思い出に◎\n\n\n\n音と踊りに夢中になって、体も心もリフレッシュ！\n\n\n\n会場は広く、座って観覧できるスペースもあり\n\n\n\n\nこのイベントは、小さなお子さんの初ステージデビューの場でもあります。いつもと違う表情に出会えるかもしれません。早めに会場入りして、出演順をチェックしておくと見逃しなし！ \n\n\n\n\n\n\n\n📌 BBQご利用案内（参考） \n\n\n\n\n小学生未満：無料\n\n\n\n平日：大人1\,000円〜\n\n\n\n土日祝：大人1\,200円〜（2時間）\n\n\n\nソフトドリンク飲み放題付き
URL:https://amacma.jp/event/%e3%81%93%e3%81%a9%e3%82%82%e3%82%a8%e3%82%a4%e3%82%b5%e3%83%bc%e3%81%be%e3%81%a4%e3%82%8a/
LOCATION:東海岸BBQ TERUMA\, 与那城照間1860-1\, うるま市\, 沖縄県\, 〒904-2301\, Japan
CATEGORIES:お祭り・フェス,屋外イベント
ATTACH;FMTTYPE=image/jpeg:https://amacma.jp/cms/wp-content/uploads/2025/08/527474792_18053385332567114_8396973590865292476_n.jpg
END:VEVENT
END:VCALENDAR