BEGIN:VCALENDAR
VERSION:2.0
PRODID:-//amacma（アマクマ） - ECPv6.15.17.1//NONSGML v1.0//EN
CALSCALE:GREGORIAN
METHOD:PUBLISH
X-WR-CALNAME:amacma（アマクマ）
X-ORIGINAL-URL:https://amacma.jp
X-WR-CALDESC:amacma（アマクマ） のイベント
REFRESH-INTERVAL;VALUE=DURATION:PT1H
X-Robots-Tag:noindex
X-PUBLISHED-TTL:PT1H
BEGIN:VTIMEZONE
TZID:Asia/Tokyo
BEGIN:STANDARD
TZOFFSETFROM:+0900
TZOFFSETTO:+0900
TZNAME:JST
DTSTART:20240101T000000
END:STANDARD
END:VTIMEZONE
BEGIN:VEVENT
DTSTART;TZID=Asia/Tokyo:20250823T000000
DTEND;TZID=Asia/Tokyo:20250824T235959
DTSTAMP:20260426T131545
CREATED:20250818T142857Z
LAST-MODIFIED:20250819T231626Z
UID:690-1755907200-1756079999@amacma.jp
SUMMARY:サマー・ファミリー・シアター2025～なはーとでなつやすみ～
DESCRIPTION:この夏、家族みんなで楽しめる特別な舞台イベントがやってきます！「オペラ」と「組踊」という伝統芸術を、子どもから大人まで親しみやすく楽しめる内容にアレンジ。夏休みのおでかけにぴったりの公演です。 \n\n\n\n\n\n\n\n🎶 大劇場公演\n\n\n\nオペラ「セビリアの理髪師（なんでもや）」 \n\n\n\n\n日程：8月23日（土）14:00〜 ／ 24日（日）14:30〜\n\n\n\n上演時間：約70分\n\n\n\nポイント：世界的に有名なオペラを、わかりやすくユーモラスに演出。初めての方でも楽しめる、音楽とお芝居の魅力たっぷりのステージです。\n\n\n\n\n\n\n\n\n🦀 小劇場公演\n\n\n\n組踊版「さるかに合戦」 \n\n\n\n\n日程：8月23日（土）16:30〜 ／ 24日（日）11:00〜\n\n\n\n上演時間：約90分\n\n\n\nポイント：誰もが知っている昔話が、迫力ある組踊として登場！沖縄の伝統芸能にふれながら、親しみやすい物語を楽しめます。\n\n\n\n\n\n\n\n\n📅 開催概要\n\n\n\n\n開催日：2025年8月23日（土）・24日（日）\n\n\n\n会場：那覇文化芸術劇場なはーと\n\n\n\n\n\n\n\n\n初めての舞台鑑賞にもおすすめ！夏休みの思い出づくりに、家族みんなで出かけてみませんか？
URL:https://amacma.jp/event/%e3%82%b5%e3%83%9e%e3%83%bc%e3%83%95%e3%82%a1%e3%83%9f%e3%83%aa%e3%83%bc%e3%82%b7%e3%82%a2%e3%82%bf%e3%83%bc2025/
LOCATION:那覇文化芸術劇場なはーと\, 久茂地3-26-27\, 那覇市\, 沖縄県\, 〒900-0015\, Japan
CATEGORIES:室内イベント
ATTACH;FMTTYPE=image/jpeg:https://amacma.jp/cms/wp-content/uploads/2025/08/summerfamilytheater2025omo.jpg
END:VEVENT
BEGIN:VEVENT
DTSTART;TZID=Asia/Tokyo:20250823T083000
DTEND;TZID=Asia/Tokyo:20250823T165000
DTSTAMP:20260426T131545
CREATED:20250726T162734Z
LAST-MODIFIED:20250819T231558Z
UID:437-1755937800-1755967800@amacma.jp
SUMMARY:楽器づくりに音楽体験♪アイム・ユニバース てだこホール＆琉球交響楽団「夏やすみさいごのおんがく自由研究」で宿題も思い出も完成！
DESCRIPTION:「自由研究、まだ終わってない！」というご家庭に朗報！2025年8月23日（土）、浦添市のアイム・ユニバースてだこホールにて、音楽好きキッズにぴったりのイベント「夏やすみさいごの音楽自由研究」が開催されます♪ \n\n\n\n楽器にふれたり、音を出したり、なんと自分だけの楽器を作れるワークショップまで！体験できる楽器は、弦楽器、木管楽器、金管楽器、打楽器などなど。音の仕組みや楽器の解説もわかりやすく教えてくれるので、自由研究にもぴったりです♪ \n\n\n\n当日は沖縄のプロ楽団「琉球交響楽団」との共演も！音楽を“体験する・学ぶ・一緒に演奏する”という、とっておきの夏の思い出になりますよ。 \n\n\n\n🎼 イベント詳細\n\n\n\n日程： 2025年8月23日（土）時間： \n\n\n\n午前の部：8:30開場／9:00〜12:05午後の部：13:15開場／13:45〜16:50会場： アイム・ユニバース てだこホール 小ホール（浦添市）対象： 小学生〜（保護者の付き添い歓迎） \n\n\n\n参加費： \n\n\n\nフルコース（演奏体験＋楽器製作体験＋鑑賞）：2\,000円付添の方：800円🎟 チケット購入・詳細はこちら：https://teket.jp/7158/48302 \n\n\n\n📞 お問い合わせ：098-942-4360（アイム・ユニバースてだこホール） \n\n\n\n作った楽器は持ち帰りOK！「楽しかった」だけじゃない、自由研究として提出できるノート付きなのも嬉しいポイント。 \n\n\n\n夏休みのラストスパート、親子で音楽にふれて、学んで、しっかり宿題も終わらせちゃいましょう！
URL:https://amacma.jp/event/%e5%a4%8f%e3%82%84%e3%81%99%e3%81%bf%e3%81%95%e3%81%84%e3%81%94%e3%81%ae%e3%81%8a%e3%82%93%e3%81%8c%e3%81%8f%e8%87%aa%e7%94%b1%e7%a0%94%e7%a9%b6/
LOCATION:沖縄県
CATEGORIES:特別開催
ATTACH;FMTTYPE=image/jpeg:https://amacma.jp/cms/wp-content/uploads/2025/07/ca8b152edcc620233352c5744ce0062e.jpg
END:VEVENT
BEGIN:VEVENT
DTSTART;TZID=Asia/Tokyo:20250823T093000
DTEND;TZID=Asia/Tokyo:20250823T110000
DTSTAMP:20260426T131545
CREATED:20250714T020456Z
LAST-MODIFIED:20250819T231531Z
UID:293-1755941400-1755946800@amacma.jp
SUMMARY:アダン根の筆づくり体験ワークショップ in 沖縄県民の森
DESCRIPTION:🖌️ 夏の自由研究にもぴったり！ \n\n\n\nアダン根の筆づくり体験ワークショップ in 沖縄県民の森 \n\n\n\n\n\n\n\n沖縄の自然素材「アダンの根っこ」を使って、世界にひとつだけのオリジナル筆を作ってみませんか？ \n\n\n\n繊維をトンカチでたたいてほぐすという、ちょっと珍しい作業に子どもたちは夢中になること間違いなし！夏休みの自由研究にもおすすめです🌿 \n\n\n\n\n\n\n\n🗓 開催情報\n\n\n\n\n日付：2025年8月23日（土）\n\n\n\n時間：9:30～11:00\n\n\n\n場所：沖縄県民の森 木のふれあい館 2F 研修室\n\n\n\n対象：小学生以上\n\n\n\n定員：15名\n\n\n\n参加費：1\,500円（材料費込み）\n\n\n\n講師：岩田亜久梨 氏（デザイナー）\n\n\n\n申込・問い合わせ先：098-967-8092（月曜休園）\n\n\n\n\n\n\n\n\n🌟 こんな方におすすめ！\n\n\n\n\n「自然素材を使ったものづくり」に興味がある\n\n\n\n夏休みの思い出をつくりたい\n\n\n\n自由研究のテーマに悩んでいる\n\n\n\n子どもと一緒に体験型イベントを楽しみたい\n\n\n\n\n\n\n\n\n📍アクセス\n\n\n\n沖縄県恩納村安富祖2028 \n\n\n\n（県民の森・木のふれあい館内） \n\n\n\n\n\n\n\n注意事項 \n\n\n\n・事前申込が必要です（電話にて受付）・SNS掲載用の写真撮影が入る可能性があります \n\n\n\n\n\n\n\n手づくり体験を通して、沖縄の自然の恵みに触れる時間を親子で過ごしてみませんか？ \n\n\n\n夏の思い出に「世界でひとつの筆」を作ってみましょう！
URL:https://amacma.jp/event/%e3%82%a2%e3%83%80%e3%83%b3%e6%a0%b9%e3%81%ae%e7%ad%86%e3%81%a5%e3%81%8f%e3%82%8a%e4%bd%93%e9%a8%93%e3%83%af%e3%83%bc%e3%82%af%e3%82%b7%e3%83%a7%e3%83%83%e3%83%97-in-%e6%b2%96%e7%b8%84%e7%9c%8c/
LOCATION:沖縄県 県民の森\, 安富祖2028\, 国頭郡恩納村\, 沖縄県\, 904-0402\, Japan
CATEGORIES:室内イベント
ATTACH;FMTTYPE=image/jpeg:https://amacma.jp/cms/wp-content/uploads/2025/07/d630e491d9.jpg
END:VEVENT
BEGIN:VEVENT
DTSTART;TZID=Asia/Tokyo:20250823T100000
DTEND;TZID=Asia/Tokyo:20250823T140000
DTSTAMP:20260426T131545
CREATED:20250821T041510Z
LAST-MODIFIED:20250822T225757Z
UID:719-1755943200-1755957600@amacma.jp
SUMMARY:夏休みは親子で鉢植え体験！楽しく学べるサステナブルな土づくり
DESCRIPTION:沖縄こどもの国で、親子で楽しめる「鉢植え体験」が開催されます！今回のテーマは “サステナブルな土づくり”。OIST（沖縄科学技術大学院大学）発のエコ保水剤を使って、親子でわいわい楽しく学べるワークショップです。 \n\n\n\nまずは土の中でどんなことが起こっているのかをお話しして、そのあと実際に鉢植えに挑戦！小・中学生のお子さんはもちろん、保護者の方にとっても「なるほど！」と思える発見がたくさん。夏休みの自由研究にもぴったりですよ✨ \n\n\n\n開催概要\n\n\n\n\n日時：8月23日（土）\n\n第1部 10:00〜11:00\n\n\n\n第2部 13:00〜14:00\n\n\n\n\n\n会場：沖縄こどもの国　ハイビスカス広場（屋外）\n\n\n\n対象：小・中学生と保護者\n\n\n\n定員：各回30組\n\n\n\n参加費：無料（別途入園料）\n\n\n\n\n体験内容\n\n\n\n\n🌍 環境のことを楽しくお話（10分）\n\n\n\n🪴 エコ保水剤の吸水を観察（10分）\n\n\n\n👨‍👩‍👧 親子で鉢植えにチャレンジ！（30分）\n\n\n\n🌱 おうちで育てるコツ紹介（10分）\n\n\n\n\n体験でつくった鉢植えはそのまま持ち帰れるので、おうちで成長を観察するのも楽しみのひとつ。親子で植物の成長を見守りながら、夏休みの思い出を増やしてみませんか？
URL:https://amacma.jp/event/%e5%a4%8f%e4%bc%91%e3%81%bf%e3%81%af%e8%a6%aa%e5%ad%90%e3%81%a7%e9%89%a2%e6%a4%8d%e3%81%88%e4%bd%93%e9%a8%93%ef%bc%81%e6%a5%bd%e3%81%97%e3%81%8f%e5%ad%a6%e3%81%b9%e3%82%8b%e3%82%b5%e3%82%b9%e3%83%86/
LOCATION:沖縄こどもの国\, 胡屋5-7-1\, 沖縄市\, Japan
ATTACH;FMTTYPE=image/jpeg:https://amacma.jp/cms/wp-content/uploads/2025/08/535939085_18189451525320027_4368497678648512181_n.jpg
END:VEVENT
BEGIN:VEVENT
DTSTART;TZID=Asia/Tokyo:20250823T140000
DTEND;TZID=Asia/Tokyo:20250824T213000
DTSTAMP:20260426T131545
CREATED:20250818T140429Z
LAST-MODIFIED:20250818T140531Z
UID:685-1755957600-1756071000@amacma.jp
SUMMARY:第16回 今帰仁まつり｜花火・音楽ライブ・伝統芸能を楽しむ2日間
DESCRIPTION:沖縄本島北部・今帰仁村で毎年開催される「今帰仁まつり」。2025年は 8月23日（土）・24日（日） の2日間、今帰仁村総合運動公園を会場に開催されます。花火、音楽ライブ、闘牛大会、伝統芸能と子どもから大人まで楽しめるプログラムが満載です。 \n\n\n\n\n\n\n\n開催概要\n\n\n\n\n日程：2025年8月23日（土）・24日（日）\n\n\n\n時間：両日 14:00〜21:30頃（イベントにより異なります）\n\n\n\n会場：今帰仁村総合運動公園\n\n\n\n問い合わせ：今帰仁まつり実行委員会（TEL 0980-56-2101）\n\n\n\n\n\n\n\n\n主な見どころ\n\n\n\n🎆 花火大会\n\n\n\n2日間連続で夜空を彩る花火が打ち上がります。夏の夜を締めくくる迫力の花火は必見です。 \n\n\n\n\n\n\n\n🎤 スペシャルライブ\n\n\n\n\n8/23（土）：イクマあきらさん、前川守賢さん（元ちゃん）など\n\n\n\n8/24（日）：D-51、アイモコなどのステージ\n\n\n\n\n\n\n\n\n🐂 闘牛大会\n\n\n\n沖縄の伝統文化「闘牛」もまつりの名物。力強い勝負の迫力を体感できます。 \n\n\n\n\n\n\n\n💃 歌と踊りの祭典\n\n\n\n地元の子どもたちの舞台や伝統芸能団体の演舞など、地域ならではの文化を感じられるプログラムです。 \n\n\n\n\n\n\n\n🚒 防災フェア in 今帰仁村（8/24）\n\n\n\n救急車・救助工作車やパトカーの展示や体験イベントも実施。小さなお子さんに人気のコーナーです。 \n\n\n\n\n\n\n\n家族での楽しみ方\n\n\n\n\nお子さんと一緒なら「防災フェア」や「ライブステージ」がおすすめ\n\n\n\n屋台で地元の味を楽しみながら、夕方の涼しい時間帯にステージ観覧\n\n\n\n夜は花火をゆったり観賞して夏の思い出づくり\n\n\n\n\n\n\n\n\n今年も地域の魅力がぎゅっと詰まった「今帰仁まつり」。夏休み最後の週末、家族みんなで訪れてみてはいかがでしょうか。
URL:https://amacma.jp/event/%e7%ac%ac16%e5%9b%9e%e4%bb%8a%e5%b8%b0%e4%bb%81%e3%81%be%e3%81%a4%e3%82%8a/
LOCATION:沖縄県
CATEGORIES:お祭り・フェス,屋外イベント
ATTACH;FMTTYPE=image/jpeg:https://amacma.jp/cms/wp-content/uploads/2025/08/dai16kai_nakijnmaturi.jpg
END:VEVENT
BEGIN:VEVENT
DTSTART;TZID=Asia/Tokyo:20250823T150000
DTEND;TZID=Asia/Tokyo:20250824T210000
DTSTAMP:20260426T131545
CREATED:20250820T004942Z
LAST-MODIFIED:20250820T004944Z
UID:698-1755961200-1756069200@amacma.jp
SUMMARY:太鼓の響きが夏を彩る！「第1回 うちなーんちゅエイサー祭り」開催
DESCRIPTION:沖縄の夏といえば、やっぱりエイサー！「第1回 うちなーんちゅエイサー祭り」が宜野湾海浜公園 多目的広場で開催されます。大きな太鼓の音と元気いっぱいの踊りに、子どもから大人まで思わず体が動き出しそう！ \n\n\n\n\n\n\n\n家族で楽しめる見どころ\n\n\n\n\nエイサーの迫力を間近で！太鼓のリズムに合わせて、踊り手の笑顔や力強い踊りを体感できます。初めて見るお子さんもきっと夢中になるはず。\n\n\n\nおいしい屋台グルメかき氷や沖縄そば、ちょっとした軽食まで夏祭りならではの味が勢ぞろい。食べ歩きも楽しみのひとつです。\n\n\n\n夏休みのおでかけにぴったり広々とした会場なのでベビーカーでも安心。家族みんなでくつろぎながら観覧してみませんか？\n\n\n\n\n\n\n\n\nイベント概要\n\n\n\n\n日程：2025年8月23日（土）・24日（日）\n\n\n\n時間：15:00～21:00\n\n\n\n会場：宜野湾海浜公園 多目的広場\n\n\n\n料金：入場無料（一部有料観覧席あり）\n\n\n\n備考：雨天決行（台風時は順延）\n\n\n\n\n\n\n\n\nまとめ\n\n\n\n「太鼓の音がドンドン響いてくる！」そんな体験は、夏の思い出にぴったり。お子さんと一緒に手拍子をしたり、屋台でグルメを楽しんだり、家族の笑顔があふれるお祭りです。太鼓の響きと笑顔いっぱいの会場で、夏のひとときを家族で楽しんでみませんか？
URL:https://amacma.jp/event/%e5%a4%aa%e9%bc%93%e3%81%ae%e9%9f%bf%e3%81%8d%e3%81%8c%e5%a4%8f%e3%82%92%e5%bd%a9%e3%82%8b%ef%bc%81%e3%80%8c%e7%ac%ac1%e5%9b%9e-%e3%81%86%e3%81%a1%e3%81%aa%e3%83%bc%e3%82%93%e3%81%a1%e3%82%85%e3%82%a8/
LOCATION:宜野湾海浜公園\, 真志喜4-2-1\, 宜野湾市\, 沖縄県\, 〒901-2224\, Japan
CATEGORIES:お祭り・フェス,屋外イベント
ATTACH;FMTTYPE=image/jpeg:https://amacma.jp/cms/wp-content/uploads/2025/08/528972720_17850365970530339_1156026716623451953_n.jpg
END:VEVENT
BEGIN:VEVENT
DTSTART;TZID=Asia/Tokyo:20250823T180000
DTEND;TZID=Asia/Tokyo:20250823T180000
DTSTAMP:20260426T131545
CREATED:20250820T221103Z
LAST-MODIFIED:20250821T052044Z
UID:716-1755972000-1755972000@amacma.jp
SUMMARY:スタジアムでサッカーと花火を満喫！「全島サッカー祭り」で親子時間を楽しもう
DESCRIPTION:2025年8月23日（土）、沖縄県総合運動公園 陸上競技場にて 「全島サッカー祭り」 が開催されます。サッカー観戦と花火大会を同時に楽しめる、夏ならではの特別なイベントです。 \n\n\n\n親子で楽しめるポイント\n\n\n\n\n⚽ 熱気あふれるサッカー観戦　スタジアムでしか味わえない一体感！選手たちのプレーに子どもも大人も夢中になれます。\n\n\n\n🎆 試合後は迫力の花火大会　夜空いっぱいに広がる花火は圧巻。夏休みの思い出にぴったりです。\n\n\n\n🎁 特典も盛りだくさん　来場者には数量限定でベースボールシャツをプレゼント。さらに小中高生は無料招待！親子で気軽に参加できます。\n\n\n\n\n開催概要\n\n\n\n📅 日程：2025年8月23日（土）⏰ 時間：18:00 キックオフ（花火は試合終了後）📍 会場：沖縄県総合運動公園 陸上競技場🎫 入場：一部無料招待あり \n\n\n\n\n\n\n\n「全島サッカー祭り」は、スポーツの熱気と夏の花火を一度に味わえる贅沢なイベント。子どもにとって忘れられない体験になること間違いなしです。ぜひご家族そろって足を運んでみてください！
URL:https://amacma.jp/event/%e3%82%b9%e3%82%bf%e3%82%b8%e3%82%a2%e3%83%a0%e3%81%a7%e3%82%b5%e3%83%83%e3%82%ab%e3%83%bc%e3%81%a8%e8%8a%b1%e7%81%ab%e3%82%92%e6%ba%80%e5%96%ab%ef%bc%81%e3%80%8c%e5%85%a8%e5%b3%b6%e3%82%b5%e3%83%83/
LOCATION:沖縄県
CATEGORIES:お祭り・フェス,屋外イベント
ATTACH;FMTTYPE=image/jpeg:https://amacma.jp/cms/wp-content/uploads/2025/08/0f03f95e367bc1386e91be00746cbbfa.jpg
END:VEVENT
BEGIN:VEVENT
DTSTART;TZID=Asia/Tokyo:20250823T183000
DTEND;TZID=Asia/Tokyo:20250824T210000
DTSTAMP:20260426T131545
CREATED:20250806T153631Z
LAST-MODIFIED:20250819T215344Z
UID:544-1755973800-1756069200@amacma.jp
SUMMARY:家族で楽しむ2日間！「てるまのエイサー夏祭り2025」開催｜うるま市のTERUMAで迫力の演舞とグルメを満喫しよう！
DESCRIPTION:夏の思い出を家族でつくろう！うるま市の人気スポット「TERUMA（テルマ）」にて、2025年8月23日（土）・24日（日）の2日間、「てるまのエイサー夏祭り2025」が開催されます。 \n\n\n\n会場では、地元の子どもたちによる可愛らしいエイサーから、地域を代表する青年会の力強い演舞まで、盛りだくさんのステージが目白押し！両日あわせて12団体が出演予定で、目でも耳でも沖縄の夏を感じられる内容です。 \n\n\n\nさらに、子連れに嬉しい「ワンコイン屋台」も出店予定！焼き鳥、モズク天、イカ焼き、パイン飴など、家族みんなで楽しめる美味しいグルメが勢ぞろい。キッチンカーや縁日風屋台もあり、ちょっとした夏祭り気分が味わえます。 \n\n\n\n会場周辺には臨時駐車場（照間漁港・港内）も完備されており、17:00〜22:00まで無料で利用可能。会場までは徒歩5分のアクセスとなります。 \n\n\n\n\n\n\n\n📍開催日：2025年8月23日（土）・24日（日）🕕時間：両日とも18:00〜20:50📍会場：TERUMA🎟️入場無料🚗臨時駐車場あり（無料）🍴屋台＆キッチンカー多数出店！ \n\n\n\n\n\n\n\nにぎやかなエイサーとおいしい屋台で、家族みんなが笑顔になれる2日間。ぜひお子さまと一緒に、夏の思い出を作りに出かけてみてください！
URL:https://amacma.jp/event/%e3%81%a6%e3%82%8b%e3%81%be%e3%81%ae%e3%82%a8%e3%82%a4%e3%82%b5%e3%83%bc%e5%a4%8f%e7%a5%ad%e3%82%8a2025/
LOCATION:東海岸BBQ TERUMA\, 与那城照間1860-1\, うるま市\, 沖縄県\, 〒904-2301\, Japan
CATEGORIES:お祭り・フェス
ATTACH;FMTTYPE=image/jpeg:https://amacma.jp/cms/wp-content/uploads/2025/08/528652895_18053385257567114_9053427065016583212_n.jpg
END:VEVENT
END:VCALENDAR