BEGIN:VCALENDAR
VERSION:2.0
PRODID:-//amacma（アマクマ） - ECPv6.15.17.1//NONSGML v1.0//EN
CALSCALE:GREGORIAN
METHOD:PUBLISH
X-WR-CALNAME:amacma（アマクマ）
X-ORIGINAL-URL:https://amacma.jp
X-WR-CALDESC:amacma（アマクマ） のイベント
REFRESH-INTERVAL;VALUE=DURATION:PT1H
X-Robots-Tag:noindex
X-PUBLISHED-TTL:PT1H
BEGIN:VTIMEZONE
TZID:Asia/Tokyo
BEGIN:STANDARD
TZOFFSETFROM:+0900
TZOFFSETTO:+0900
TZNAME:JST
DTSTART:20240101T000000
END:STANDARD
END:VTIMEZONE
BEGIN:VEVENT
DTSTART;TZID=Asia/Tokyo:20250912T000000
DTEND;TZID=Asia/Tokyo:20250914T235959
DTSTAMP:20260426T114228
CREATED:20250825T054816Z
LAST-MODIFIED:20250825T123406Z
UID:758-1757635200-1757894399@amacma.jp
SUMMARY:第70回記念 沖縄全島エイサーまつり
DESCRIPTION:沖縄の夏を代表する一大イベント「沖縄全島エイサーまつり」が、今年で第70回を迎えます！迫力ある太鼓の音色と力強い舞い、そして鮮やかな衣装で踊る若者たちの姿は、まさに沖縄の夏の風物詩。地域や世代を越えて多くの人々を魅了し続けてきた伝統の祭りです。 \n\n\n\n\n\n\n\n開催日程\n\n\n\n\n2025年9月12日（金）道じゅね～（胡屋十字路周辺）18:30～21:00\n\n\n\n2025年9月13日（土）沖縄市青年まつり（沖縄市コザ運動公園陸上競技場）15:00～21:00\n\n\n\n2025年9月14日（日）最終日（沖縄市コザ運動公園陸上競技場）14:30～21:00\n\n\n\n\n見どころ\n\n\n\n\n道じゅね～：沖縄市の街を練り歩く、熱気あふれる演舞。沿道から間近に見る迫力は圧巻！\n\n\n\n沖縄市青年まつり：地域の青年会による多彩なエイサー演舞が楽しめる中日。\n\n\n\n最終日：県内各地のエイサー団体が一堂に会し、フィナーレへ向けて盛り上がりは最高潮に。\n\n\n\n\n沖縄の魂を体感できる三日間。太鼓の響きに合わせ、観客も一緒に盛り上がれるのが最大の魅力です。子どもたちも自然とリズムに合わせて手を叩いたり、体を動かしたり。家族みんなで沖縄の伝統を体いっぱいに感じられる、まさに夏のクライマックスです。 \n\n\n\n予定出演団体\n\n\n\n2025年9月12日（金）道じゅね～\n\n\n\n\n沖縄市東青年会\n\n\n\n沖縄市久保田青年会\n\n\n\n沖縄市中の町青年会\n\n\n\n沖縄市美里青年会\n\n\n\n沖縄市南桃原青年会\n\n\n\n沖縄市越来青年会\n\n\n\n沖縄市池原青年会\n\n\n\n沖縄市山里青年会\n\n\n\n沖縄市園田青年会\n\n\n\n\n固定演舞会場 会場A\n\n\n\n第1部 19:00～19:30 \n\n\n\n\n陸上自衛隊第15旅団エイサー隊\n\n\n\n吉本橙風太鼓\n\n\n\n\n第2部 19:30～21:30 \n\n\n\n\n沖縄市諸見里青年会\n\n\n\n沖縄市登川青年会\n\n\n\n沖縄市胡屋青年会\n\n\n\nうるま市江洲青年会\n\n\n\n沖縄市東青年会\n\n\n\n\n会場B（ゲート側）\n\n\n\n第1部 19:00～19:30 \n\n\n\n\n沖縄市池原子ども会\n\n\n\n琉球風車\n\n\n\n\n第2部 19:30～21:30 \n\n\n\n\n沖縄市嘉間良青年会\n\n\n\n沖縄市松本青年会\n\n\n\n沖縄市泡瀬第三青年会\n\n\n\n名桜エイサー\n\n\n\n沖縄市久保田青年会\n\n\n\n\n2025年9月13日（土）沖縄市青年まつり\n\n\n\n\n沖縄市泡瀬第三青年会\n\n\n\n沖縄市美里青年会\n\n\n\n沖縄市嘉間良青年会\n\n\n\n金武町伊芸区青年会\n\n\n\n沖縄市登川青年会\n\n\n\n東京中野区新風エイサー\n\n\n\n沖縄市池原青年会\n\n\n\n宜野湾市宜野湾区青年会\n\n\n\n沖縄市南桃原青年会\n\n\n\n北中城村島袋青年会\n\n\n\n沖縄市久保田青年会\n\n\n\n中城村津覇青年会\n\n\n\n沖縄市諸見里青年会\n\n\n\n\n2025年9月14日（日）最終日\n\n\n\n\n沖縄市中の町子ども会\n\n\n\n沖縄市東青年会\n\n\n\n北中城村仲順青年会\n\n\n\n東京都町田琉\n\n\n\n宜野湾市大謝名青年会\n\n\n\n沖縄市中の町青年会\n\n\n\n琉球國祭り太鼓\n\n\n\n名護市世冨慶エイサー保存会\n\n\n\n沖縄市松本青年会\n\n\n\n沖縄市胡屋青年会\n\n\n\n北谷町栄口青年会\n\n\n\n沖縄市越来青年会\n\n\n\n沖縄市山里青年会\n\n\n\nうるま市平敷屋青年会\n\n\n\n沖縄市園田青年会\n\n\n\n\nメーンスタンドチケット\n\n\n\n\nSS席（全席指定席） ¥4\,500（前売り ¥4\,000）\n\n\n\nS席（全席指定席） ¥3\,800（前売り ¥3\,300）\n\n\n\nA席（全席指定席） ¥2\,500（前売り ¥2\,000）\n\n\n\nB席（スタンド両翼席・全席自由） ¥1\,500（前売りなし）\n\n\n\n\n駐車場\n\n\n\n\n有料駐車場（コザ運動公園立体駐車場）¥3\,000（前売りのみ）\n\n\n\n当日は混雑が予想されますので、公共交通機関のご利用をおすすめします。\n\n\n\n\n関連動画（過去イベントより）\n\n\n\n\n\n\n\n\n\n\n\n\n\n\n\n70回の節目を迎える特別な夏の祭り。迫力のエイサーとともに、家族で思い出に残る一日を過ごしてみませんか？
URL:https://amacma.jp/event/%e7%ac%ac70%e5%9b%9e%e8%a8%98%e5%bf%b5-%e6%b2%96%e7%b8%84%e5%85%a8%e5%b3%b6%e3%82%a8%e3%82%a4%e3%82%b5%e3%83%bc%e3%81%be%e3%81%a4%e3%82%8a/
LOCATION:沖縄市コザ運動公園陸上競技場\, 諸見里2-1-1\, 沖縄市\, 沖縄県\, 〒904-0032\, Japan
CATEGORIES:お祭り・フェス
ATTACH;FMTTYPE=image/jpeg:https://amacma.jp/cms/wp-content/uploads/2025/08/532479000_17957395163977837_542186541134553713_n.jpg
END:VEVENT
END:VCALENDAR