BEGIN:VCALENDAR
VERSION:2.0
PRODID:-//amacma（アマクマ） - ECPv6.15.17.1//NONSGML v1.0//EN
CALSCALE:GREGORIAN
METHOD:PUBLISH
X-WR-CALNAME:amacma（アマクマ）
X-ORIGINAL-URL:https://amacma.jp
X-WR-CALDESC:amacma（アマクマ） のイベント
REFRESH-INTERVAL;VALUE=DURATION:PT1H
X-Robots-Tag:noindex
X-PUBLISHED-TTL:PT1H
BEGIN:VTIMEZONE
TZID:Asia/Tokyo
BEGIN:STANDARD
TZOFFSETFROM:+0900
TZOFFSETTO:+0900
TZNAME:JST
DTSTART:20240101T000000
END:STANDARD
END:VTIMEZONE
BEGIN:VEVENT
DTSTART;TZID=Asia/Tokyo:20250915T120000
DTEND;TZID=Asia/Tokyo:20250915T120000
DTSTAMP:20260426T114227
CREATED:20250904T132505Z
LAST-MODIFIED:20250904T133140Z
UID:853-1757937600-1757937600@amacma.jp
SUMMARY:「ふれあい祭り」北谷町で開催！家族で楽しめる縁日や屋台も
DESCRIPTION:2025年9月15日（月・祝）、北谷町安良波公園多目的広場で「ふれあい祭り」が開催されます。SOU PERSONAL北谷事業所のオープンを記念したイベントで、子どもから大人まで気軽に楽しめる催しが盛りだくさんです。 \n\n\n\n当日は、射的や輪投げ、ヨーヨーすくいなど昔ながらの遊びを楽しめる「縁日コーナー」や、かき氷やジュースの販売がある「屋台コーナー」が登場。夏祭り気分を満喫できます。 \n\n\n\nさらに、北谷チアダンスチームOKINAWA Athenaによる華やかなステージパフォーマンスや、SOU PERSONAL北谷事業所の中を実際に見学・体験できる「療育紹介ブース」も設置予定。事業所の雰囲気を知ることができる貴重な機会です。 \n\n\n\nイベント概要\n\n\n\n\n開催日：2025年9月15日（月・祝）\n\n\n\n時間：12:00スタート\n\n\n\n会場：北谷町安良波公園多目的広場／SOU PERSONAL北谷事業所\n\n\n\n参加費：無料\n\n\n\n主催：SOU PERSONAL北谷\n\n\n\n問い合わせ：090-9788-5410\n\n\n\n\n児童や保護者の皆さんに楽しんでいただけるよう準備されたイベントです。ご家族そろってのお出かけにぴったりですよ。
URL:https://amacma.jp/event/%e3%80%8c%e3%81%b5%e3%82%8c%e3%81%82%e3%81%84%e7%a5%ad%e3%82%8a%e3%80%8d%e5%8c%97%e8%b0%b7%e7%94%ba%e3%81%a7%e9%96%8b%e5%82%ac%ef%bc%81%e5%ae%b6%e6%97%8f%e3%81%a7%e6%a5%bd%e3%81%97%e3%82%81%e3%82%8b/
LOCATION:北谷町安良波公園\, 北谷2-21\, 中頭郡北谷町\, 沖縄県\, 〒904-0116\, Japan
CATEGORIES:お祭り・フェス
ATTACH;FMTTYPE=image/jpeg:https://amacma.jp/cms/wp-content/uploads/2025/09/532338334_17852944938511979_6728370297836484162_n.jpg
END:VEVENT
END:VCALENDAR