BEGIN:VCALENDAR
VERSION:2.0
PRODID:-//amacma（アマクマ） - ECPv6.15.17.1//NONSGML v1.0//EN
CALSCALE:GREGORIAN
METHOD:PUBLISH
X-WR-CALNAME:amacma（アマクマ）
X-ORIGINAL-URL:https://amacma.jp
X-WR-CALDESC:amacma（アマクマ） のイベント
REFRESH-INTERVAL;VALUE=DURATION:PT1H
X-Robots-Tag:noindex
X-PUBLISHED-TTL:PT1H
BEGIN:VTIMEZONE
TZID:Asia/Tokyo
BEGIN:STANDARD
TZOFFSETFROM:+0900
TZOFFSETTO:+0900
TZNAME:JST
DTSTART:20240101T000000
END:STANDARD
END:VTIMEZONE
BEGIN:VEVENT
DTSTART;TZID=Asia/Tokyo:20250920T100000
DTEND;TZID=Asia/Tokyo:20250920T140000
DTSTAMP:20260426T114229
CREATED:20250916T130422Z
LAST-MODIFIED:20250916T130426Z
UID:954-1758362400-1758376800@amacma.jp
SUMMARY:「自然畑マルシェ」で心と体にやさしいひとときを
DESCRIPTION:2025年9月20日（土）、西原さわふじマルシェで「自然畑マルシェ」が開催されます。時間は10:00〜14:00、雨天でも予定どおり行われます。 \n\n\n\n会場には、新鮮な野菜や体にやさしいフード、雑貨、米作り体験など、子どもから大人まで楽しめる出店が並びます。ひっそりCafe TERRA、アイランドカレーセンター、ORION COSMETICS、農problem、レメディショップすずこの部屋などのお店や作り手たちが参加。手仕事の温かさを感じられる一日になりそうです。 \n\n\n\n子どもたちに嬉しい体験コーナーも充実。似顔絵を描いてもらったり、バケツでの田植え体験ができたりと、思い出に残る体験が待っています。親子で参加できる絵本の読み聞かせや米作り・ワークショップもあり、学びと楽しさを同時に味わえます。 \n\n\n\nさらに、12:00からはトークLIVEも予定されており、会場全体が一体感に包まれる時間になりそうです。 \n\n\n\n事前申し込みが推奨されている体験もありますので、気になる方は早めのチェックをおすすめします。秋の休日、自然や人のつながりを感じながらゆったり過ごしてみませんか。
URL:https://amacma.jp/event/%e3%80%8c%e8%87%aa%e7%84%b6%e7%95%91%e3%83%9e%e3%83%ab%e3%82%b7%e3%82%a7%e3%80%8d%e3%81%a7%e5%bf%83%e3%81%a8%e4%bd%93%e3%81%ab%e3%82%84%e3%81%95%e3%81%97%e3%81%84%e3%81%b2%e3%81%a8%e3%81%a8%e3%81%8d/
LOCATION:西原さわふじマルシェ\, 小波津480\, 中頭郡西原町\, 沖縄県\, 〒903-0118\, Japan
ATTACH;FMTTYPE=image/jpeg:https://amacma.jp/cms/wp-content/uploads/2025/09/548908895_17984816690893538_4718113855491480511_n.jpg
END:VEVENT
BEGIN:VEVENT
DTSTART;TZID=Asia/Tokyo:20250920T100000
DTEND;TZID=Asia/Tokyo:20250921T170000
DTSTAMP:20260426T114229
CREATED:20250916T024733Z
LAST-MODIFIED:20250916T024736Z
UID:945-1758362400-1758474000@amacma.jp
SUMMARY:「ウォーターフェスタ」でプールと水鉄砲遊びを楽しもう！
DESCRIPTION:夏の終わりに、子どもたちが思いきり水遊びを楽しめる「ウォーターフェスタ」が開催されます！会場には大きなふわふわゴムプールが登場。滑り台付きのプールと、ゆったり遊べるロングプールの2種類が用意されていて、小さなお子さんでも安心して遊べるのがうれしいところです。 \n\n\n\nさらに目玉は水鉄砲遊び。リュック式や特大サイズなど、なんと全5種類の水鉄砲が勢ぞろい。芝生の上を走り回りながら、友だちやきょうだいとびしょ濡れになって遊べば、夏の疲れも吹き飛びそうですね。定員は50名までなので、参加を考えている方は早めにチェックしておきたいイベントです。 \n\n\n\n開催は2025年9月20日（土）と21日（日）の2日間。時間は10:00〜17:00（最終受付16:30）で、会場はあしびなー2階のグリーンテラス。参加にはあしびなー公式LINEのお友だち登録が必要で、登録画面の提示で家族も一緒に参加できます。 \n\n\n\n水に濡れても大丈夫な服装とタオルを持って、親子で元気いっぱい楽しんでみませんか。ぜひ参加して、夏の思い出をもうひとつ増やしてみてください。
URL:https://amacma.jp/event/%e3%80%8c%e3%82%a6%e3%82%a9%e3%83%bc%e3%82%bf%e3%83%bc%e3%83%95%e3%82%a7%e3%82%b9%e3%82%bf%e3%80%8d%e3%81%a7%e3%83%97%e3%83%bc%e3%83%ab%e3%81%a8%e6%b0%b4%e9%89%84%e7%a0%b2%e9%81%8a%e3%81%b3%e3%82%92/
LOCATION:沖縄アウトレットモール あしびなー\, 豊崎1ｰ188\, 豊見城市\, 沖縄県\, 〒901-0225\, Japan
ATTACH;FMTTYPE=image/jpeg:https://amacma.jp/cms/wp-content/uploads/2025/09/9c509dd3813603492488587572d3ed62.jpeg
END:VEVENT
BEGIN:VEVENT
DTSTART;TZID=Asia/Tokyo:20250920T110000
DTEND;TZID=Asia/Tokyo:20250920T130000
DTSTAMP:20260426T114229
CREATED:20250906T173318Z
LAST-MODIFIED:20250906T173321Z
UID:882-1758366000-1758373200@amacma.jp
SUMMARY:子どもも大人も大盛り上がり！フォーク片手に挑戦する「流しスパゲティー」が郷土館で開催されます
DESCRIPTION:沖縄県総合運動公園・郷土館で、ちょっとユニークな食の体験イベント「流しスパゲティー」が行われます。竹を流れるのはそうめんではなくスパゲティ！フォークでキャッチしながら楽しく味わえるユニークな時間が楽しめます。 \n\n\n\n開催日時\n\n\n\n2025年9月20日（土）① 11:00～11:30② 11:45～12:15③ 12:30～13:00 \n\n\n\n※各回30分、3部制。入れ替えや準備のため15分間の休憩があります。 \n\n\n\n会場\n\n\n\n沖縄県総合運動公園 郷土館 \n\n\n\n参加費\n\n\n\n各種1杯300円（トマトソース／クリームソースの2種類） \n\n\n\n注意事項\n\n\n\n\nイベント中は撮影を行い、広報活動に使用される場合があります。撮影が苦手な方はご遠慮ください。\n\n\n\n参加人数の状況によっては待ち時間が発生する場合があります。\n\n\n\n\nお問い合わせ\n\n\n\n沖縄県総合運動公園 総合案内センターTEL：098-932-5114（9:00～17:00、火曜休園）
URL:https://amacma.jp/event/%e5%ad%90%e3%81%a9%e3%82%82%e3%82%82%e5%a4%a7%e4%ba%ba%e3%82%82%e5%a4%a7%e7%9b%9b%e3%82%8a%e4%b8%8a%e3%81%8c%e3%82%8a%ef%bc%81%e3%83%95%e3%82%a9%e3%83%bc%e3%82%af%e7%89%87%e6%89%8b%e3%81%ab%e6%8c%91/
LOCATION:沖縄県総合運動公園\, 比屋根5-3-1\, 沖縄市\, 沖縄県\, 〒904-2173\, Japan
ATTACH;FMTTYPE=image/jpeg:https://amacma.jp/cms/wp-content/uploads/2025/09/535511370_18288884800265212_1330569560061880329_n.jpg
END:VEVENT
BEGIN:VEVENT
DTSTART;TZID=Asia/Tokyo:20250920T130000
DTEND;TZID=Asia/Tokyo:20250920T210000
DTSTAMP:20260426T114229
CREATED:20250916T142823Z
LAST-MODIFIED:20250916T142920Z
UID:959-1758373200-1758402000@amacma.jp
SUMMARY:「かなさエイサー音祭り2025」で宜野湾の海辺に響く太鼓と踊りの一日
DESCRIPTION:沖縄の伝統芸能・エイサーと音楽の魅力をたっぷり味わえる「かなさエイサー音祭り」が、2025年9月20日（土）に宜野湾海浜公園多目的広場で開催されます。力強い太鼓の音と躍動感あふれる踊りが海辺に響き渡り、会場全体が大きな一体感に包まれます。入場は無料なので、どなたでも気軽に楽しめるのも嬉しいポイントです。 \n\n\n\n当日はフードフェスやキッズダンスも行われ、子どもから大人までわくわくできるコンテンツが盛りだくさん。エイサー演舞には地元青年会を中心に7団体が参加し、各地域ごとに受け継がれてきた個性豊かな演舞を披露します。さらに日本一の小禄高校ダンス部も登場し、迫力満点のステージを届けてくれます。 \n\n\n\n大人も子どもも過ごしやすい雰囲気の中でたっぷりとエイサーを堪能できるほか、開放的な広場にはグルメブースも並ぶので食べ歩きをしながら舞台を楽しむのもおすすめ。昼の青空の下で見る迫力ある演舞はもちろん、夕暮れから夜にかけてのライトアップとともに味わう演舞もまた格別です。時間帯によって表情を変えるお祭りの空気を、ぜひご家族や友人と満喫してください。 \n\n\n\n開催情報\n\n\n\n日程：2025年9月20日（土）時間：13:00～21:00場所：宜野湾海浜公園 多目的広場料金：入場無料 \n\n\n\n・フードフェス（15店舗）・キッズダンス（5団体）・エイサー演舞（7団体） \n\n\n\nエイサー演舞出演団体\n\n\n\n大謝名区青年会 / 愛知区青年会 / 栄口区青年会 / 謝苅区青年会 / 高志保青年会 / 津覇青年会 / 為又青年会
URL:https://amacma.jp/event/%e3%80%8c%e3%81%8b%e3%81%aa%e3%81%95%e3%82%a8%e3%82%a4%e3%82%b5%e3%83%bc%e9%9f%b3%e7%a5%ad%e3%82%8a2025%e3%80%8d%e3%81%a7%e5%ae%9c%e9%87%8e%e6%b9%be%e3%81%ae%e6%b5%b7%e8%be%ba%e3%81%ab%e9%9f%bf/
LOCATION:宜野湾海浜公園\, 真志喜4-2-1\, 宜野湾市\, 沖縄県\, 〒901-2224\, Japan
CATEGORIES:お祭り・フェス
ATTACH;FMTTYPE=image/png:https://amacma.jp/cms/wp-content/uploads/2025/09/3e4b8f4d111c0496834270a40f41bcbf.png
END:VEVENT
BEGIN:VEVENT
DTSTART;TZID=Asia/Tokyo:20250920T133000
DTEND;TZID=Asia/Tokyo:20250920T151000
DTSTAMP:20260426T114229
CREATED:20250919T124755Z
LAST-MODIFIED:20250919T124758Z
UID:976-1758375000-1758381000@amacma.jp
SUMMARY:「乳幼児から聴けるジャズコンサート2025」で親子の特別な音楽時間を
DESCRIPTION:小さなお子さんと一緒に安心して音楽に触れられるコンサート「乳幼児から楽しめるジャズコンサート2025」が南城市文化センター・シュガーホールロビーで開かれます。親子で芸術にふれ、心地よいひとときを過ごせる特別な時間です。 \n\n\n\nこのコンサートは、「気軽に芸術にふれる体験を通して子どもの感性を育み、親子で同じ空間で音楽を楽しむ」ことを大切に毎年開催されています。演奏は、子どもたちの耳にやさしい音量に調整されており、ジャズが初めてのご家族でも安心して参加できます。 \n\n\n\n演奏には、ギターの知念嘉哉さん、ドラムの中村亮さん、ベースの高尾英樹さんといった実力派ミュージシャンが登場。それぞれの楽器が織りなす生の音色を、目の前で感じられる贅沢な時間です。 \n\n\n\n演奏時間は各回約40分。小さなお子さんが集中できる長さなので、子育て世代にぴったり。会場ロビーという開放感のある空間で、家族そろってリラックスしながらジャズの世界に浸れます。 \n\n\n\n開催日は2025年9月20日（土）。演奏は13:30と14:30の2回公演です。入場は無料ですが、事前申し込みが必要で各回50組までとなっています。 \n\n\n\n日々の子育ての中で「ちょっと音楽を楽しみたいな」という気持ちに応えてくれる、やさしい雰囲気のコンサート。お子さんの「はじめてのジャズ体験」として、ぜひ足を運んでみてはいかがでしょうか。 \n\n\n\n【開催情報】日時：2025年9月20日（土） 13:30〜／14:30〜（各回約40分）会場：南城市文化センター シュガーホール ロビー料金：無料（要事前申込、各回50組）問い合わせ：南城市文化センター シュガーホール（098-947-1100）
URL:https://amacma.jp/event/%e3%80%8c%e4%b9%b3%e5%b9%bc%e5%85%90%e3%81%8b%e3%82%89%e8%81%b4%e3%81%91%e3%82%8b%e3%82%b8%e3%83%a3%e3%82%ba%e3%82%b3%e3%83%b3%e3%82%b5%e3%83%bc%e3%83%882025%e3%80%8d%e3%81%a7%e8%a6%aa%e5%ad%90/
LOCATION:南城市文化センター・シュガーホール\, 佐敷字佐敷307\, 南城市\, 沖縄県\, 〒901-1403
CATEGORIES:室内イベント,無料イベント
ATTACH;FMTTYPE=image/jpeg:https://amacma.jp/cms/wp-content/uploads/2025/09/Nyuyoji-2025.jpg
END:VEVENT
BEGIN:VEVENT
DTSTART;TZID=Asia/Tokyo:20250920T153000
DTEND;TZID=Asia/Tokyo:20250921T210000
DTSTAMP:20260426T114229
CREATED:20250830T160839Z
LAST-MODIFIED:20250830T161010Z
UID:794-1758382200-1758488400@amacma.jp
SUMMARY:「第25回 久米島まつり」が9月20日・21日開催！親子で楽しめるステージや花火も
DESCRIPTION:久米島の夏を締めくくる恒例イベント「第25回 久米島まつり」が、2025年9月20日（土）・21日（日）の2日間にわたり、ふれあい公園で開催されます。両日とも午後3時30分からスタートし、夜には打ち上げ花火が予定されています。 \n\n\n\n親子で楽しめる見どころ\n\n\n\n小さなお子さんから学生まで楽しめるプログラムが用意されているのが、このまつりの魅力です。 \n\n\n\n\n小中学校対抗 大縄跳び大会（20日）　地域の子どもたちが参加する競技で、家族で応援しながら盛り上がれます。\n\n\n\nかいじゅうステップワンダバショー SDGs大作戦ショー（21日）　人気キャラクターが登場するステージは、子どもに大人気の内容。\n\n\n\n久米島ハンドコーラス＆スペシャルバンド（21日）　音楽や歌を一緒に楽しめるので、親子で会場の雰囲気を満喫できます。\n\n\n\n花火（両日 20:40頃）　まつりのフィナーレを飾る花火は、子どもたちにとって忘れられない夏の思い出になりそうです。\n\n\n\n\nもうひとつの楽しみ「久米島シアター」\n\n\n\nまつりにあわせて、9月19日（金）と20日（土）には「久米島シアター」も開催されます！上映作品は、子どもに人気のアニメ映画「ミニオンズフィーバー」や「はたらく細胞」。屋内で楽しめるので、天候に左右されず安心して参加できます。 \n\n\n\n開催概要\n\n\n\n\n開催日：2025年9月20日（土）・21日（日）\n\n\n\n時間：15:30～21:00\n\n\n\n場所：ふれあい公園（沖縄県島尻郡久米島町大田517）\n\n\n\n入場料：無料\n\n\n\n問い合わせ：久米島まつり実行委員会事務局（098-985-7131）\n\n\n\n駐車場：まつり臨時駐車場あり\n\n\n\n\nステージ、ショー、映画、そして花火まで、家族で一緒に楽しめるプログラムが満載の「久米島まつり」。子どもと一緒に夏の思い出を作りに訪れてみてはいかがでしょうか。
URL:https://amacma.jp/event/%e7%ac%ac25%e5%9b%9e%e4%b9%85%e7%b1%b3%e5%b3%b6%e3%81%be%e3%81%a4%e3%82%8a%e8%a6%aa%e5%ad%90%e3%81%a7%e6%a5%bd%e3%81%97%e3%82%81%e3%82%8b%e3%82%b9%e3%83%86%e3%83%bc%e3%82%b8%e3%82%84%e8%8a%b1%e7%81%ab/
LOCATION:久米島町ふれあい公園\, 大田517\, 島尻郡久米島町\, 沖縄県\, 〒901-3123\, Japan
CATEGORIES:お祭り・フェス
ATTACH;FMTTYPE=image/jpeg:https://amacma.jp/cms/wp-content/uploads/2025/08/fes1.jpg
END:VEVENT
END:VCALENDAR