BEGIN:VCALENDAR
VERSION:2.0
PRODID:-//amacma（アマクマ） - ECPv6.15.17.1//NONSGML v1.0//EN
CALSCALE:GREGORIAN
METHOD:PUBLISH
X-WR-CALNAME:amacma（アマクマ）
X-ORIGINAL-URL:https://amacma.jp
X-WR-CALDESC:amacma（アマクマ） のイベント
REFRESH-INTERVAL;VALUE=DURATION:PT1H
X-Robots-Tag:noindex
X-PUBLISHED-TTL:PT1H
BEGIN:VTIMEZONE
TZID:Asia/Tokyo
BEGIN:STANDARD
TZOFFSETFROM:+0900
TZOFFSETTO:+0900
TZNAME:JST
DTSTART:20240101T000000
END:STANDARD
END:VTIMEZONE
BEGIN:VEVENT
DTSTART;TZID=Asia/Tokyo:20250922T113000
DTEND;TZID=Asia/Tokyo:20250922T200000
DTSTAMP:20260426T114227
CREATED:20250918T132831Z
LAST-MODIFIED:20250918T132837Z
UID:967-1758540600-1758571200@amacma.jp
SUMMARY:子育て世代を応援！女性向け交流会 in CAFEソイラボ
DESCRIPTION:2025年9月22日（月）、西原町の「CAFEソイラボ」で子育て世代を応援する女性向け交流会が開かれます。1部は11:30〜14:00、2部は18:00〜20:00の二部制で、どちらも軽食とドリンク付きで参加できます。お子さま連れも歓迎なので、育児中のママも安心して参加できる雰囲気です。 \n\n\n\nこの会では、6人のお子さんを育てるシングルマザー・なるみさんと、そのご縁で出会った方との特別なお話を聞きながら交流します。テーマは「3ヶ月で人生大逆転劇」。日々の生活に追われる中で一歩を踏み出すヒントや、前向きな気持ちになれるきっかけが見つかるかもしれません。 \n\n\n\n話し手は、女性の自立を応援して活動している奥原菜瑠美さん。当日は会場を温かい空気で包み込みながら、心に響くお話を届けてくれます。 \n\n\n\n参加費は1\,000円（軽食＆ドリンク付き）。リラックスできるカフェ空間で、同じ子育て世代の仲間と交流したい方にぴったりのイベントです。 \n\n\n\n開催情報\n\n\n\n\n日時：2025年9月22日（月）　1部 11:30〜14:00　2部 18:00〜20:00\n\n\n\n会場：CAFEソイラボ（西原町池田86-1）\n\n\n\n参加費：1\,000円（軽食＆ドリンク付き）\n\n\n\n話し手：奥原菜瑠美さん\n\n\n\nご予約：InstagramのDMまたはLINEから受付
URL:https://amacma.jp/event/%e5%ad%90%e8%82%b2%e3%81%a6%e4%b8%96%e4%bb%a3%e3%82%92%e5%bf%9c%e6%8f%b4%ef%bc%81%e5%a5%b3%e6%80%a7%e5%90%91%e3%81%91%e4%ba%a4%e6%b5%81%e4%bc%9a-in-cafe%e3%82%bd%e3%82%a4%e3%83%a9%e3%83%9c/
LOCATION:CAFE ソイラボ\, 池田86-1\, 中頭郡西原町\, 沖縄県\, 〒903-0115\, Japan
ATTACH;FMTTYPE=image/jpeg:https://amacma.jp/cms/wp-content/uploads/2025/09/549499576_18368312041147687_1077675978695063135_n.jpg
END:VEVENT
END:VCALENDAR