BEGIN:VCALENDAR
VERSION:2.0
PRODID:-//amacma（アマクマ） - ECPv6.15.17.1//NONSGML v1.0//EN
CALSCALE:GREGORIAN
METHOD:PUBLISH
X-ORIGINAL-URL:https://amacma.jp
X-WR-CALDESC:amacma（アマクマ） のイベント
REFRESH-INTERVAL;VALUE=DURATION:PT1H
X-Robots-Tag:noindex
X-PUBLISHED-TTL:PT1H
BEGIN:VTIMEZONE
TZID:Asia/Tokyo
BEGIN:STANDARD
TZOFFSETFROM:+0900
TZOFFSETTO:+0900
TZNAME:JST
DTSTART:20240101T000000
END:STANDARD
END:VTIMEZONE
BEGIN:VEVENT
DTSTART;TZID=Asia/Tokyo:20250927T000000
DTEND;TZID=Asia/Tokyo:20250928T235959
DTSTAMP:20260426T114338
CREATED:20250805T131400Z
LAST-MODIFIED:20250917T001531Z
UID:524-1758931200-1759103999@amacma.jp
SUMMARY:お仕事体験で未来のヒントを見つけよう♪「沖縄観光こどもみらいお仕事体験イベント2025」
DESCRIPTION:🌺 小学生のためのお仕事体験イベント「沖縄観光こどもみらいお仕事体験イベント2025」！将来の夢がふくらむ、子どもたちのワクワクが詰まった2日間！ \n\n\n\n観光立県・沖縄ならではの体験ができる「沖縄観光こどもみらいお仕事体験イベント2025」が、9月27日（土）・28日（日）の2日間、宜野湾市の沖縄コンベンションセンターで開催されます。 \n\n\n\n対象は 小学生、参加費は 無料！観光・宿泊・航空・飲食・交通など、観光にまつわるさまざまな職業を 最大2つまで体験できる、特別なイベントです。 \n\n\n\n\n\n\n\n🧑‍🍳 体験できるお仕事（一部）ホテル／レンタカー／貸切バス／空港関連業／リゾートウェディング／マリンレジャー／自動車販売・整備／農業／メディア関係などなど！※事前申込制・抽選あり \n\n\n\n\n\n\n\n🎟 申込期間：2025年8月1日(木)〜8月24日(日)当選発表は9月5日（木）予定です。 \n\n\n\n申込はフライヤー記載のQRコード、または公式X（旧Twitter）から！【@kodomomirai0923】で検索してみてください。 \n\n\n\n\n\n\n\n🔍 開催概要 \n\n\n\n\n日時：2025年9月27日（土）・28日（日）\n\n\n\n会場：沖縄コンベンションセンター 展示棟（宜野湾市）\n\n\n\n対象：小学生（保護者同伴）\n\n\n\n参加費：無料（事前申込制／抽選）\n\n\n\n\n\n\n\n\nお子さんの「やってみたい！」をカタチにする絶好のチャンス。この機会に、観光業の舞台裏やお仕事のやりがいを楽しく学ばせてみませんか？家族でのお出かけにもぴったりです♪
URL:https://amacma.jp/event/%e6%b2%96%e7%b8%84%e8%a6%b3%e5%85%89%e3%81%93%e3%81%a9%e3%82%82%e3%81%bf%e3%82%89%e3%81%84%e3%81%8a%e4%bb%95%e4%ba%8b%e4%bd%93%e9%a8%93%e3%82%a4%e3%83%99%e3%83%b3%e3%83%882025/
LOCATION:沖縄コンベンションセンター\, 真志喜4-3-1\, 宜野湾市\, 沖縄県\, 〒901-2224\, Japan
CATEGORIES:特別開催
ATTACH;FMTTYPE=image/png:https://amacma.jp/cms/wp-content/uploads/2025/08/children_future_2025_01.png
END:VEVENT
BEGIN:VEVENT
DTSTART;TZID=Asia/Tokyo:20250927T000000
DTEND;TZID=Asia/Tokyo:20250928T235959
DTSTAMP:20260426T114338
CREATED:20250825T035542Z
LAST-MODIFIED:20250825T123342Z
UID:753-1758931200-1759103999@amacma.jp
SUMMARY:第48回 はごろも祭り ～沖縄の伝統と花火を楽しもう～
DESCRIPTION:今年も宜野湾市の人気イベント「はごろも祭り」が開催されます！伝統芸能、ステージショー、そして夜には迫力の花火まで、親子で一日中楽しめる内容が目白押しです。 \n\n\n\n開催概要\n\n\n\n\n日程：2025年9月27日（土）・28日（日）\n\n\n\n会場：宜野湾海浜公園 多目的広場（沖縄県宜野湾市真志喜4-2-1）\n\n\n\n入場料：無料\n\n\n\n\n見どころのご紹介\n\n\n\n\nはごろもエキサイティングステージ　豪華アーティストによるライブパフォーマンスで会場が盛り上がります！\n\n\n\n第33回 飛衣羽衣カチャーシー大会　華やかな舞とリズムに包まれ、観る人も自然と笑顔で手を上げてしまうカチャーシー。まさに“祭りの熱気を体感する”ひとときです！\n\n\n\nはごろも花火フェスタ2025　祭りのフィナーレにふさわしい、迫力ある花火が夜空を彩ります！\n\n\n\n\nおすすめポイント\n\n\n\n\n伝統芸能と現代ステージ、2日間にわたる充実のプログラム※プログラムや祭りの詳細等については、宜野湾市ホームページ及び宜野湾市観光振興協会ホームページで随時公開予定です。\n\n\n\n家族みんなで楽しめる屋台・屋外アクティビティも多数開催予定\n\n\n\n花火は無料鑑賞可能なので、気軽にお出かけの思い出づくりができます\n\n\n\n\n関連動画：祭りの雰囲気を事前にチェック！\n\n\n\n\n\n\n\n\n\n第46回はごろも祭りの「琉球風車」によるエイサー演舞の様子です。 \n\n\n\n\n\n\n\n\n\n第36回はごろも祭りのカチャーシー大会の様子です。 \n\n\n\n\n\n\n\n親子で踊って楽しめる「カチャーシー」や、花火にわくわくするステージイベントを通じて、思い出に残るひとときを「はごろも祭り」でお過ごしください。
URL:https://amacma.jp/event/%e7%ac%ac48%e5%9b%9e-%e3%81%af%e3%81%94%e3%82%8d%e3%82%82%e7%a5%ad%e3%82%8a-%ef%bd%9e%e6%b2%96%e7%b8%84%e3%81%ae%e4%bc%9d%e7%b5%b1%e3%81%a8%e8%8a%b1%e7%81%ab%e3%82%92%e6%a5%bd%e3%81%97%e3%82%82/
LOCATION:宜野湾海浜公園\, 真志喜4-2-1\, 宜野湾市\, 沖縄県\, 〒901-2224\, Japan
CATEGORIES:お祭り・フェス
ATTACH;FMTTYPE=image/jpeg:https://amacma.jp/cms/wp-content/uploads/2025/08/b561b0d7ca9c0ec2869542e4f8b483d1.jpg
END:VEVENT
BEGIN:VEVENT
DTSTART;TZID=Asia/Tokyo:20250927T180000
DTEND;TZID=Asia/Tokyo:20250928T180000
DTSTAMP:20260426T114338
CREATED:20250925T131955Z
LAST-MODIFIED:20250925T132020Z
UID:1004-1758996000-1759082400@amacma.jp
SUMMARY:読谷の夜を熱く彩る「第42回青年エイサーまつり」
DESCRIPTION:読谷村で長く受け継がれてきた伝統行事「青年エイサーまつり」。毎年村内外から多くの人が訪れ、秋の夜を賑やかに盛り上げる大人気イベントです。力強い太鼓の響き、勇ましい掛け声、そして躍動感あふれる踊りは、観る人の心を一気に引き込みます。 \n\n\n\nステージでは各青年会が日頃の練習の成果を披露し、息の合った演舞を繰り広げます。太鼓が鳴り響くたびに観客席からは歓声や拍手が沸き起こり、会場全体が一体感に包まれる瞬間は感動的。子どもたちにとっては、村の文化や伝統を肌で感じられる貴重な体験にもなります。 \n\n\n\n夕暮れから夜へと移り変わる時間帯に響く太鼓の音は格別で、夏の名残を感じながら秋の風を楽しめるのも魅力のひとつ。親子で一緒に会場を歩けば、模擬店のにぎわいや地域の人々の笑顔にも出会え、まつりならではの温かい雰囲気を味わえます。 \n\n\n\n今年で42回目を迎える青年エイサーまつり。伝統を大切にしながらも、観客を楽しませようと工夫を凝らした演舞が毎年見どころになっています。地元の方はもちろん、観光で訪れる方にもおすすめできるイベントです。 \n\n\n\n開催概要\n\n\n\n\n日程：2025年9月27日（土）、28日（日）\n\n\n\n時間：両日とも18:00開演\n\n\n\n会場：オキハム読谷平和の森球場\n\n\n\n主催：読谷村青年団協議会\n\n\n\n\n関連動画
URL:https://amacma.jp/event/%e8%aa%ad%e8%b0%b7%e3%81%ae%e5%a4%9c%e3%82%92%e7%86%b1%e3%81%8f%e5%bd%a9%e3%82%8b%e7%ac%ac42%e5%9b%9e%e9%9d%92%e5%b9%b4%e3%82%a8%e3%82%a4%e3%82%b5%e3%83%bc%e3%81%be%e3%81%a4%e3%82%8a/
LOCATION:オキハム読谷平和の森球場\, 座喜味2901\, 中頭郡読谷村\, 沖縄県\, 〒904-0301\, Japan
ATTACH;FMTTYPE=image/jpeg:https://amacma.jp/cms/wp-content/uploads/2025/09/523863241_18076887862821455_3370318400938666022_n.jpg
END:VEVENT
BEGIN:VEVENT
DTSTART;TZID=Asia/Tokyo:20250928T110000
DTEND;TZID=Asia/Tokyo:20250928T160000
DTSTAMP:20260426T114338
CREATED:20250911T142219Z
LAST-MODIFIED:20250911T142221Z
UID:899-1759057200-1759075200@amacma.jp
SUMMARY:甘いもの好き必見！「出張！まんちゃーまんちゃーVol.6 amaimonoフェス2」が東風平で開催
DESCRIPTION:東風平の中央公民館に、県内の人気スイーツやお菓子が一堂に集まる「出張！まんちゃーまんちゃーVol.6 amaimonoフェス2」が開催されます。焼き菓子やケーキ、スコーン、米粉のおやつ、タルトや団子、伝統菓子まで、バラエティ豊かに楽しめるお店が大集合。親子で甘い時間を過ごせるお楽しみイベントです。 \n\n\n\n出店予定のスイーツ店\n\n\n\n\nAimer okinawa\n\n\n\nAtelier Hoshino Umi\n\n\n\nBoulangerie enne\n\n\n\nICE oasis 奥武島店\n\n\n\nMAM・MARL\n\n\n\nOkashi iiha\n\n\n\npua-okinawa\n\n\n\nSAMIDARE WORKS 269\n\n\n\nT&K LABO\n\n\n\nTHANKS BREAD and DONUTS\n\n\n\nyum yum hanako…\n\n\n\nzucchero（アイシングクッキー専門店）\n\n\n\nアンズトモモおきなわ\n\n\n\nうさぎの相棒\n\n\n\nうまちーカフェ\n\n\n\nこめる。ーcomeru.-\n\n\n\nさつき菓子店\n\n\n\n3丁目のおやつ\n\n\n\nペストリーうんてん\n\n\n\n琉和菓子とお茶 koti\n\n\n\nルポムのおかし\n\n\n\n\nハンドメイド・キッチンカーも登場\n\n\n\nスイーツだけでなく、刺繍雑貨や小物、アクセサリーなどのハンドメイド作品も楽しめます。さらに、カリガリカレーや旅人レモネード、MY TACOSといったキッチンカーも登場。甘いものの合間に食事を楽しめるのも魅力です。 \n\n\n\n親子で楽しめる企画\n\n\n\nイベント当日は「スタンプラリー・謎解きゲーム」も開催され、豪華賞品が当たるチャンス！amaimonoの詰め合わせセットや謝花昇グッズ、南の駅やえせの割引チケットなどが景品として用意されています。 \n\n\n\n開催概要\n\n\n\n\n日時：2025年9月28日（日）11:00〜16:00\n\n\n\n会場：中央公民館（八重瀬町字東風平1014）\n\n\n\n入場料：無料\n\n\n\n主催：一般社団法人八重瀬町観光物産協会
URL:https://amacma.jp/event/%e7%94%98%e3%81%84%e3%82%82%e3%81%ae%e5%a5%bd%e3%81%8d%e5%bf%85%e8%a6%8b%ef%bc%81%e3%80%8c%e5%87%ba%e5%bc%b5%ef%bc%81%e3%81%be%e3%82%93%e3%81%a1%e3%82%83%e3%83%bc%e3%81%be%e3%82%93%e3%81%a1%e3%82%83/
LOCATION:沖縄県
ATTACH;FMTTYPE=image/jpeg:https://amacma.jp/cms/wp-content/uploads/2025/09/7af3bb876c33b779040f6706e11cc257.jpg
END:VEVENT
BEGIN:VEVENT
DTSTART;TZID=Asia/Tokyo:20250928T110000
DTEND;TZID=Asia/Tokyo:20250928T190000
DTSTAMP:20260426T114338
CREATED:20250918T150755Z
LAST-MODIFIED:20250918T150759Z
UID:970-1759057200-1759086000@amacma.jp
SUMMARY:子どもたちが主役！「CHA-ASHIBI KID’S FESTA 2025」
DESCRIPTION:2025年9月28日（日）、北谷公園サンセットビーチで「CHA-ASHIBI KID’S FESTA 2025」が開催されます。時間は11:00〜19:00。もし雨の場合は10月5日（日）に延期されます。 \n\n\n\nこのイベントは「子どもたちの未来を応援するチャリティイベント」として企画されており、売上の一部は運営費を除いて、子ども居場所活動団体へ寄付されます。子どもたちの笑顔が地域の力に変わる、そんな温かい取り組みです。当日はMCにありんくりんのクリスさんを迎え、会場を楽しく盛り上げてくれます。 \n\n\n\n見どころ\n\n\n\n\nステージ：子どもたちが主役の舞台。元気いっぱいのエイサー演舞などが披露されます。\n\n\n\nフードトラック：子どもたちがキッチンカーで職場体験。普段はできない体験にワクワク！\n\n\n\nワークショップ：遊びながら学べるワークショップで、子どもたちの好奇心を刺激します。\n\n\n\n子ども食堂：本部にて子どもは無料で利用可能。お腹も心も満たされる場所になりそうです。\n\n\n\n\n子どもたちが舞台に立ち、体験し、学び、食べる。まさに一日中「子どもが主役」になれるお祭りです。家族でビーチの雰囲気を楽しみながら、地域の輪も広がりますよ。 \n\n\n\n開催情報\n\n\n\n\n日時：2025年9月28日（日） 11:00〜19:00　※雨天時は10月5日（日）に延期\n\n\n\n会場：北谷公園サンセットビーチ\n\n\n\n主催：一般社団法人 Cha-Ashibi\n\n\n\n後援：美ら浜つーしん
URL:https://amacma.jp/event/%e5%ad%90%e3%81%a9%e3%82%82%e3%81%9f%e3%81%a1%e3%81%8c%e4%b8%bb%e5%bd%b9%ef%bc%81%e3%80%8ccha-ashibi-kids-festa-2025%e3%80%8d/
LOCATION:北谷公園サンセットビーチ\, 美浜2\, 中頭郡北谷町\, 沖縄県\, 〒904-0115\, Japan
ATTACH;FMTTYPE=image/jpeg:https://amacma.jp/cms/wp-content/uploads/2025/09/532382213_17977788212881780_1804059847304797069_n.jpg
END:VEVENT
END:VCALENDAR