BEGIN:VCALENDAR
VERSION:2.0
PRODID:-//amacma（アマクマ） - ECPv6.15.17.1//NONSGML v1.0//EN
CALSCALE:GREGORIAN
METHOD:PUBLISH
X-ORIGINAL-URL:https://amacma.jp
X-WR-CALDESC:amacma（アマクマ） のイベント
REFRESH-INTERVAL;VALUE=DURATION:PT1H
X-Robots-Tag:noindex
X-PUBLISHED-TTL:PT1H
BEGIN:VTIMEZONE
TZID:Asia/Tokyo
BEGIN:STANDARD
TZOFFSETFROM:+0900
TZOFFSETTO:+0900
TZNAME:JST
DTSTART:20240101T000000
END:STANDARD
END:VTIMEZONE
BEGIN:VEVENT
DTSTART;TZID=Asia/Tokyo:20251004T130000
DTEND;TZID=Asia/Tokyo:20251005T210000
DTSTAMP:20260426T101200
CREATED:20250914T174054Z
LAST-MODIFIED:20250914T174057Z
UID:936-1759582800-1759698000@amacma.jp
SUMMARY:親子で文化と歴史を感じる「第45回野國總管まつり」
DESCRIPTION:嘉手納町で「甘藷伝来420年記念 第45回 嘉手納町野國總管まつり」が10月4日（土）・5日（日）の2日間、兼久海浜公園で開催されます。伝統の祭りと家族で楽しめる催しが一同にそろい、歴史を感じながら秋の一日を満喫できるイベントです。 \n\n\n\nステージプログラムは初日、嘉手納中学校吹奏楽部によるオープニングセレモニーで幕を開け、歌やダンス、ミュージックライブが続き、夜には打ち上げ花火で締めくくります。2日目は少年野球大会表彰式、歌謡ショー、野國總管奉納芸能祭、パレードなど、地域文化や芸能が豊かに表現されます。 \n\n\n\n会場イベントには、キックバイク大会、少年野球、相撲角力大会や子ども向けの体験コーナー、働く車の展示などがあり、小さなお子さまから大人まで楽しめます。「カンダバージューシー」の無料提供もあり、食を通して地域の伝統を味わうことができます（提供は午後4時〜、無くなり次第終了）。 \n\n\n\n交通については、祭り期間中町内循環バスが運行され、10月4日は13:00〜21:30、10月5日は10:00〜21:30。公共交通機関またはシャトルバスの利用が便利と案内されています。会場周辺の道路は交通規制がかかりますので、来場時間に余裕をもってお出かけすることをおすすめします。 \n\n\n\n祭りではLED大型ビジョンを設置し、YouTube LIVEでの配信も予定されており、遠方の方や会場の混雑を避けたい方もオンラインで参加可能です。 \n\n\n\n地域の歴史を次世代へ伝える祭典「野國總管まつり」。ご家族で歌と踊り、伝統とふれあうひとときを過ごしてみませんか。 \n\n\n\n\n\n\n\n開催情報詳細\n\n\n\n\n日程：2025年10月4日（土）・5日（日）13:00〜21:00\n\n\n\n会場：兼久海浜公園（嘉手納町）入場無料\n\n\n\n主催：嘉手納町野國總管まつり実行委員会\n\n\n\nプログラム例：吹奏楽、歌謡ショー、パレード、奉納芸能、打ち上げ花火等\n\n\n\n会場イベント例：野球大会、キックバイク大会、相撲角力大会（子ども・大人）、働く車両の展示など\n\n\n\n無料提供：「カンダバージューシー」午後4時より（数量限定）\n\n\n\n交通・アクセス：町内循環バス運行、徒歩・公共交通機関推奨、交通規制あり\n\n\n\n注意点：ステージ内容やプログラムは予告なく変更されることがあります。雨天時などの対応も公式情報をご確認ください。\n\n\n\n\n関連動画
URL:https://amacma.jp/event/%e8%a6%aa%e5%ad%90%e3%81%a7%e6%96%87%e5%8c%96%e3%81%a8%e6%ad%b4%e5%8f%b2%e3%82%92%e6%84%9f%e3%81%98%e3%82%8b%e3%80%8c%e7%ac%ac45%e5%9b%9e%e9%87%8e%e5%9c%8b%e7%b8%bd%e7%ae%a1%e3%81%be%e3%81%a4%e3%82%8a/
LOCATION:兼久海浜公園\, 兼久85-31\, 中頭郡嘉手納町\, 沖縄県\, 〒904-0205\, Japan
CATEGORIES:お祭り・フェス
ATTACH;FMTTYPE=image/jpeg:https://amacma.jp/cms/wp-content/uploads/2025/09/eedc221d5716efd516908ad8c668700a5d7965df-scaled.jpg
END:VEVENT
BEGIN:VEVENT
DTSTART;TZID=Asia/Tokyo:20251004T170000
DTEND;TZID=Asia/Tokyo:20251005T210000
DTSTAMP:20260426T101200
CREATED:20250914T092352Z
LAST-MODIFIED:20250928T235507Z
UID:927-1759597200-1759698000@amacma.jp
SUMMARY:「第20回うるま市エイサーまつり」で本場のエイサーを体感しよう
DESCRIPTION:2025年10月4日（土）と5日（日）、県道75号線（安慶名十字路〜琉球銀行具志川支店交差点）で「第20回うるま市エイサーまつり」が開かれます。市制20周年を祝うこの節目の祭りでは、うるま市内の青年会が太鼓の音とともに迫力の演舞を繰り広げ、見る人の心を強く打つ時間が流れます。 \n\n\n\nエイサー祭りは夕方17時から21時まで実施され、歩行者天国となる会場では道路上で演舞が展開されます。祭りの趣旨には「本物のエイサーを魅せる」「青年会の熱い情熱と伝統の継承」が掲げられており、地域の若者たちが自分たちの文化を誇りにして表現する場ともなっています。 \n\n\n\n会場へは公共交通や臨時シャトルバス・駐車場を利用するのが便利です。シャトルバスは16:30〜22:00の時間帯で、市内の複数の拠点から運行予定。交通規制は15:00〜22:00、なるべく早めの来場・移動計画が安心です。屋台や飲食ブースもあり、伝統文化と地元グルメの両方を楽しむことができます。 \n\n\n\n「第20回 うるま市エイサーまつり」は、地域の人びとが一体となる伝統の祭典。親子で、友達と、エイサーのリズムと熱気を体で感じてみませんか。 \n\n\n\n開催詳細\n\n\n\n\n日時：2025年10月4日（土）・5日（日）17:00〜21:00\n\n\n\n会場：県道75号線（安慶名十字路〜琉球銀行具志川支店交差点）歩行者天国形式\n\n\n\n主催：うるま市エイサーまつり実行委員会\n\n\n\n共催：うるま市青年連合会、うるま市、株式会社沖縄タイムス社\n\n\n\n趣旨：エイサーの魅力発信、青年会の伝統と情熱の継承、20周年の祝祭として地域を盛り上げること\n\n\n\n\nアクセスと駐車・シャトルバス情報\n\n\n\n\n臨時駐車場：石川会館・具志川総合陸上競技場・うるま市民芸術劇場・与那城多種目球技場など複数\n\n\n\nシャトルバス運行時間：16:30〜22:00（会場周辺の駐車場等から）\n\n\n\n交通規制時間：15:00〜22:00、歩行者天国形式なので車での来場時は規制時間を予め確認しておくと安心です\n\n\n\n\n関連動画
URL:https://amacma.jp/event/%e7%ac%ac20%e5%9b%9e%e3%81%86%e3%82%8b%e3%81%be%e5%b8%82%e3%82%a8%e3%82%a4%e3%82%b5%e3%83%bc%e3%81%be%e3%81%a4%e3%82%8a%e3%81%a7%e6%9c%ac%e5%a0%b4%e3%81%ae%e3%82%a8%e3%82%a4%e3%82%b5%e3%83%bc%e3%82%92/
LOCATION:沖縄県
CATEGORIES:お祭り・フェス
ATTACH;FMTTYPE=image/jpeg:https://amacma.jp/cms/wp-content/uploads/2025/09/bb2eadaf152fdb799b1d6178d805797b.jpg
END:VEVENT
BEGIN:VEVENT
DTSTART;TZID=Asia/Tokyo:20251004T170000
DTEND;TZID=Asia/Tokyo:20251005T210000
DTSTAMP:20260426T101200
CREATED:20250926T150236Z
LAST-MODIFIED:20250926T150239Z
UID:1012-1759597200-1759698000@amacma.jp
SUMMARY:宜野湾の夜を彩る「第29回 宜野湾市青年エイサー祭り」
DESCRIPTION:秋の夜風が心地よい季節、宜野湾市のぎのわん海浜公園で「第29回 宜野湾市青年エイサー祭り」が開催されます。太鼓の響きと勇壮な掛け声が夜空に広がり、会場いっぱいにエイサーの熱気が満ちる二日間です。 \n\n\n\n出演するのは、市内各地の青年会をはじめとする団体。仲間と力を合わせた演舞は、見る人の胸を打つ迫力があります。小さなお子さん連れでも安心して楽しめる屋外イベントなので、家族のお出かけにもぴったりです。 \n\n\n\nステージは夕暮れからスタートし、ライトに照らされた舞台で踊る姿は昼間とはまた違った魅力。迫力ある太鼓と息の合った踊りを、ぜひ間近で体感してください。 \n\n\n\n開催概要\n\n\n\n\n日程：2025年10月4日（土）、10月5日（日）\n\n\n\n時間：17:00～21:00\n\n\n\n会場：ぎのわん海浜公園 多目的広場（コンベンションセンター隣）\n\n\n\n主催：宜野湾市青年エイサー祭り実行委員会
URL:https://amacma.jp/event/%e5%ae%9c%e9%87%8e%e6%b9%be%e3%81%ae%e5%a4%9c%e3%82%92%e5%bd%a9%e3%82%8b%e3%80%8c%e7%ac%ac29%e5%9b%9e-%e5%ae%9c%e9%87%8e%e6%b9%be%e5%b8%82%e9%9d%92%e5%b9%b4%e3%82%a8%e3%82%a4%e3%82%b5%e3%83%bc/
LOCATION:宜野湾海浜公園\, 真志喜4-2-1\, 宜野湾市\, 沖縄県\, 〒901-2224\, Japan
CATEGORIES:お祭り・フェス,屋外イベント
ATTACH;FMTTYPE=image/jpeg:https://amacma.jp/cms/wp-content/uploads/2025/09/2025081802.jpg
END:VEVENT
BEGIN:VEVENT
DTSTART;TZID=Asia/Tokyo:20251005T100000
DTEND;TZID=Asia/Tokyo:20251005T170000
DTSTAMP:20260426T101200
CREATED:20250922T081314Z
LAST-MODIFIED:20250922T081317Z
UID:991-1759658400-1759683600@amacma.jp
SUMMARY:わくわくいっぱい！道の駅「ぎのざ」で楽しむ感謝祭
DESCRIPTION:10月5日（日）、道の駅「ぎのざ」で感謝祭が開催されます！時間は10:00から17:00まで、入場は無料。地域の魅力がギュッと詰まった、笑顔あふれるイベントです。 \n\n\n\nステージでは、松田夢宝太鼓や大道芸人けんぢ、すみな～ずの三線演奏など、幅広い世代が楽しめるプログラムが並びます。お笑いショーや迫力のライブもあり、最後までにぎやかな一日になりそうです。 \n\n\n\n会場では子どもから大人まで気軽に参加できるイベントも目白押し。12:00からは「じゃがめん早食い競争」、13:50からは「もずく計量王決定戦」が予定されていて、会場を盛り上げます。勝っても負けても楽しい思い出になること間違いなし。 \n\n\n\nそのほか、もずくのプレゼントや特産品が当たる抽選会もあり、来場者へのお楽しみがたくさん用意されています。 \n\n\n\nプログラム（一部）\n\n\n\n10:00〜10:30　松田夢宝太鼓11:10〜11:40　大道芸人けんぢ13:00〜13:30　すみな～ず15:30〜15:50　お笑いショー（沖縄訛りの喜屋武さん）16:00〜16:30　東渕剛 \n\n\n\n体験イベント12:00　じゃがめん早食い競争13:50　もずく計量王決定戦 \n\n\n\n関連動画\n\n\n\n\n\n\n\n\n\n地元の美味しいもの、楽しいステージ、家族で参加できる体験企画。道の駅「ぎのざ」を丸ごと楽しめる感謝祭、休日のお出かけにぴったりのイベントです。
URL:https://amacma.jp/event/%e3%82%8f%e3%81%8f%e3%82%8f%e3%81%8f%e3%81%84%e3%81%a3%e3%81%b1%e3%81%84%ef%bc%81%e9%81%93%e3%81%ae%e9%a7%85%e3%80%8c%e3%81%8e%e3%81%ae%e3%81%96%e3%80%8d%e3%81%a7%e6%a5%bd%e3%81%97%e3%82%80%e6%84%9f/
LOCATION:道の駅「ぎのざ」\, 漢那1633\, 国頭郡宜野座村\, 沖縄県\, 〒904-1304\, Japan
ATTACH;FMTTYPE=image/jpeg:https://amacma.jp/cms/wp-content/uploads/2025/09/a8f63456ead015630161b75c881c0477.jpg
END:VEVENT
END:VCALENDAR