BEGIN:VCALENDAR
VERSION:2.0
PRODID:-//amacma（アマクマ） - ECPv6.15.17.1//NONSGML v1.0//EN
CALSCALE:GREGORIAN
METHOD:PUBLISH
X-ORIGINAL-URL:https://amacma.jp
X-WR-CALDESC:amacma（アマクマ） のイベント
REFRESH-INTERVAL;VALUE=DURATION:PT1H
X-Robots-Tag:noindex
X-PUBLISHED-TTL:PT1H
BEGIN:VTIMEZONE
TZID:Asia/Tokyo
BEGIN:STANDARD
TZOFFSETFROM:+0900
TZOFFSETTO:+0900
TZNAME:JST
DTSTART:20240101T000000
END:STANDARD
END:VTIMEZONE
BEGIN:VEVENT
DTSTART;TZID=Asia/Tokyo:20251101T150000
DTEND;TZID=Asia/Tokyo:20251101T200000
DTSTAMP:20260426T084557
CREATED:20251012T135037Z
LAST-MODIFIED:20251012T135039Z
UID:1102-1762009200-1762027200@amacma.jp
SUMMARY:笑顔あふれる秋の一日 「うらそえオータムフェスタ」
DESCRIPTION:世界の文化とグルメを楽しみながら、家族みんなで秋の一日を過ごせるイベント「うらそえオータムフェスタ」が、2025年11月1日（土）に浦添大公園南エントランス駐車場で開催されます。多彩なステージパフォーマンスや世界の料理が勢ぞろいし、子どもから大人まで笑顔になれる一日です。 \n\n\n\n世界を感じるステージプログラム\n\n\n\nJICA沖縄や各国の文化団体による華やかなステージが見どころ。フラダンス、バイオリン演奏、台湾ダンス、フラメンコなど、国際色豊かなパフォーマンスが次々と登場します。夕方にはライブステージも行われ、会場全体が音楽とダンスの熱気に包まれます。 \n\n\n\n主なステージ出演団体\n\n\n\n\nJICA沖縄\n\n\n\nうらそえぐすく児童センター\n\n\n\n琉球台湾婦人会\n\n\n\n浦添市文化協会 ハワイアンカルチャー部会\n\n\n\nスタジオ・サルー\n\n\n\nSolunaほか\n\n\n\n\n世界の味が楽しめるキッチンカーグルメ\n\n\n\n世界各国のグルメが並ぶキッチンカーエリアも見逃せません。タイ、韓国、台湾、アメリカ、メキシコ、エジプト、日本、ペルーなど、バラエティ豊かな味が一度に楽しめます。異国の香りに包まれながら、食べ歩き気分でおいしい時間を過ごしてみてください。 \n\n\n\n出店予定\n\n\n\n\nBAAN（タイ料理／グリーンカレー）\n\n\n\nsmoco okinawa（韓国料理／サムギョプサル）\n\n\n\nHitotoki coffee（アメリカ／ベーグルサンド）\n\n\n\nMY TACOS（メキシコ／タコス）\n\n\n\nLaki（日本／沖縄そば）\n\n\n\nLa.Sambita（ペルー／エンパナーダ）\n\n\n\n\n子どもも夢中！体験・ワークショップコーナー\n\n\n\n家族連れに人気の「くじら折り紙ワークショップ」では、かわいいくじらを作って持ち帰ることができます。また、会場内では世界の衣装や文化に触れる体験も予定されており、親子で一緒に異文化に親しむ絶好のチャンスです。 \n\n\n\n開催概要\n\n\n\n開催日：2025年11月1日（土）時間：15:00〜20:00会場：浦添大公園南エントランス駐車場主催：浦添市問い合わせ：浦添市観光協会（TEL：098-874-0145）
URL:https://amacma.jp/event/%e7%ac%91%e9%a1%94%e3%81%82%e3%81%b5%e3%82%8c%e3%82%8b%e7%a7%8b%e3%81%ae%e4%b8%80%e6%97%a5-%e3%80%8c%e3%81%86%e3%82%89%e3%81%9d%e3%81%88%e3%82%aa%e3%83%bc%e3%82%bf%e3%83%a0%e3%83%95%e3%82%a7%e3%82%b9/
LOCATION:浦添大公園\, 伊祖115-1\, 浦添市\, 沖縄県\, 〒901-2132\, Japan
CATEGORIES:お祭り・フェス
ATTACH;FMTTYPE=image/jpeg:https://amacma.jp/cms/wp-content/uploads/2025/10/chirashi.jpg
END:VEVENT
END:VCALENDAR