BEGIN:VCALENDAR
VERSION:2.0
PRODID:-//amacma（アマクマ） - ECPv6.15.17.1//NONSGML v1.0//EN
CALSCALE:GREGORIAN
METHOD:PUBLISH
X-WR-CALNAME:amacma（アマクマ）
X-ORIGINAL-URL:https://amacma.jp
X-WR-CALDESC:amacma（アマクマ） のイベント
REFRESH-INTERVAL;VALUE=DURATION:PT1H
X-Robots-Tag:noindex
X-PUBLISHED-TTL:PT1H
BEGIN:VTIMEZONE
TZID:Asia/Tokyo
BEGIN:STANDARD
TZOFFSETFROM:+0900
TZOFFSETTO:+0900
TZNAME:JST
DTSTART:20240101T000000
END:STANDARD
END:VTIMEZONE
BEGIN:VEVENT
DTSTART;TZID=Asia/Tokyo:20251108T120000
DTEND;TZID=Asia/Tokyo:20251108T180000
DTSTAMP:20260426T084512
CREATED:20251030T184955Z
LAST-MODIFIED:20251030T185044Z
UID:1190-1762603200-1762624800@amacma.jp
SUMMARY:ゆいレールに乗って、てだこ浦西駅へ遊びに行こう！「ゆいレールまつり2025」
DESCRIPTION:11月8日（土）、てだこ浦西駅の駅前交通広場で「ゆいレールまつり2025」が開催されます。毎年人気のイベントで、家族みんなで楽しめる企画が盛りだくさんです。会場では、ゆいレールの運転士体験や運転台での記念撮影、ゆいレールグッズや廃品販売など、鉄道ファンにはたまらないコーナーがずらり。キッズコーナーでは金魚すくいやくじ引き、ボール入れゲームなど、小さな子どもたちも夢中になれる遊びがいっぱいです。 \n\n\n\nお腹がすいたら、キッチンカーや軽食ブースでひと休み。ソフトドリンクやアルコール、わたあめなど、にぎやかな屋台の雰囲気も楽しめます。そのほか、看護師体験や妊婦体験、交通安全教室などのワークショップも予定されており、遊びながら学べる一日になりそうです。 \n\n\n\nまた、ゆいレール乗車券の提示で、キッズプレイランドの割引も。「沖縄MaaS」の利用で、飲食ブースでも使える特典が付くそうです。ぜひゆいレールに乗って、おでかけ気分で出かけてみてくださいね。 \n\n\n\n開催日2025年11月8日（土）12:00〜18:00（飲食は11:00〜オープン） \n\n\n\n会場てだこ浦西駅 駅前交通広場 \n\n\n\nポイント・運転体験や工作車見学はWEBで先着予約制・ゆいレール乗車券提示で特典あり
URL:https://amacma.jp/event/%e3%82%86%e3%81%84%e3%83%ac%e3%83%bc%e3%83%ab%e3%81%ab%e4%b9%97%e3%81%a3%e3%81%a6%e3%80%81%e3%81%a6%e3%81%a0%e3%81%93%e6%b5%a6%e8%a5%bf%e9%a7%85%e3%81%b8%e9%81%8a%e3%81%b3%e3%81%ab%e8%a1%8c%e3%81%93/
LOCATION:てだこ浦西駅\, 前田3-22\, 浦添市\, 沖縄県\, 〒901-2102\, Japan
ATTACH;FMTTYPE=image/jpeg:https://amacma.jp/cms/wp-content/uploads/2025/10/d80c2ccddc36815991a130e3827116b7.jpg
END:VEVENT
END:VCALENDAR