BEGIN:VCALENDAR
VERSION:2.0
PRODID:-//amacma（アマクマ） - ECPv6.15.17.1//NONSGML v1.0//EN
CALSCALE:GREGORIAN
METHOD:PUBLISH
X-ORIGINAL-URL:https://amacma.jp
X-WR-CALDESC:amacma（アマクマ） のイベント
REFRESH-INTERVAL;VALUE=DURATION:PT1H
X-Robots-Tag:noindex
X-PUBLISHED-TTL:PT1H
BEGIN:VTIMEZONE
TZID:Asia/Tokyo
BEGIN:STANDARD
TZOFFSETFROM:+0900
TZOFFSETTO:+0900
TZNAME:JST
DTSTART:20240101T000000
END:STANDARD
END:VTIMEZONE
BEGIN:VEVENT
DTSTART;TZID=Asia/Tokyo:20251115T090000
DTEND;TZID=Asia/Tokyo:20251116T170000
DTSTAMP:20260426T084634
CREATED:20251109T104944Z
LAST-MODIFIED:20251109T104946Z
UID:1208-1763197200-1763312400@amacma.jp
SUMMARY:【11月15日・16日開催】宜野湾湾の魅力を再発見！「第36回 宜野湾市産業まつり 2025」
DESCRIPTION:宜野湾の産業とグルメが集結する2日間\n\n\n\n2025年11月15日（土）・16日（日）の2日間、宜野湾海浜公園で「第36回 宜野湾市産業まつり」が開催されます。農業・水産業・商工業の各ブースに加え、音楽ライブや体験コーナーも盛りだくさん。家族みんなで楽しめる秋の恒例イベントです。 \n\n\n\n開催概要\n\n\n\n\n開催日：2025年11月15日（土）・16日（日）\n\n\n\n時間：9:00～17:00\n\n\n\n会場：宜野湾海浜公園\n\n\n\n入場料：無料\n\n\n\n主催：宜野湾市産業まつり実行委員会\n\n\n\nお問い合わせ：098-893-4464（宜野湾市役所内）\n\n\n\n\n主なイベント内容\n\n\n\nステージイベント\n\n\n\n両日ともに、メインステージでは多彩なライブやダンス、伝統芸能が楽しめます。出演アーティストには、D-51、ナナイロノート、よしもと沖縄お笑いライブ、Zephyr Dance Studio などのパフォーマーが登場します。 \n\n\n\n体験・ふれあいコーナー\n\n\n\n\nミニヤギふれあいコーナー\n\n\n\n魚つかみ取り体験（子どもに大人気！）\n\n\n\n木育キャラバン（木の温もりを感じるワークショップ）\n\n\n\n黒糖づくり実演試食会\n\n\n\n\n展示・販売コーナー\n\n\n\n\n農産物や工芸品などの 各種展示販売\n\n\n\n畜産共進会（牛・山羊の引付審査）\n\n\n\n\nグルメ＆キッチンカー\n\n\n\n地元の味覚を堪能できるグルメブースがずらり。話題のキッチンカーも多数出店し、家族や友人と秋の味覚を楽しめます。 \n\n\n\n家族みんなで楽しめる秋の産業まつり\n\n\n\n体験・発見・食のすべてが詰まった2日間。地域の魅力にふれながら、子どもから大人まで一緒に過ごせるイベントです。ぜひご家族・お友達を誘って「宜野湾市産業まつり2025」へ！
URL:https://amacma.jp/event/%e3%80%9011%e6%9c%8815%e6%97%a5%e3%83%bb16%e6%97%a5%e9%96%8b%e5%82%ac%e3%80%91%e5%ae%9c%e9%87%8e%e6%b9%be%e6%b9%be%e3%81%ae%e9%ad%85%e5%8a%9b%e3%82%92%e5%86%8d%e7%99%ba%e8%a6%8b%ef%bc%81%e3%80%8c/
LOCATION:宜野湾海浜公園\, 真志喜4-2-1\, 宜野湾市\, 沖縄県\, 〒901-2224\, Japan
CATEGORIES:お祭り・フェス
ATTACH;FMTTYPE=image/jpeg:https://amacma.jp/cms/wp-content/uploads/2025/11/r7ri-hurettozentai_page-0001.jpg
END:VEVENT
BEGIN:VEVENT
DTSTART;TZID=Asia/Tokyo:20251115T100000
DTEND;TZID=Asia/Tokyo:20251115T160000
DTSTAMP:20260426T084634
CREATED:20251020T144501Z
LAST-MODIFIED:20251020T144504Z
UID:1155-1763200800-1763222400@amacma.jp
SUMMARY:第13回 久辺テクノフェスタ2025｜名護市久辺3区で楽しむ体験型イベント
DESCRIPTION:名護市久辺3区にある金融・IT関連企業や団体が集まり、最新の技術や研究に触れられる体験型イベント「久辺テクノフェスタ2025」が開催されます。普段は入ることのできない施設の見学や、デジタル技術に触れられる貴重なチャンスです。子どもから大人まで楽しめる企画が盛りだくさんです。 \n\n\n\n開催日時・会場\n\n\n\n開催日：2025年11月15日（土）時間：午前10時〜午後4時（9時45分〜オープニングセレモニー）会場：名護市マルチメディア館（名護市字豊原224-3）主催：久辺テクノフェスタ事務局（特定非営利活動法人NDA）お問い合わせ：0980-55-3333 \n\n\n\nイベントの見どころ\n\n\n\n久辺テクノフェスタのテーマは「きて・みて・さわって・体験しよう」。それぞれのエリアで、来場者が楽しみながら学べる工夫がされています。 \n\n\n\nきて たのしい！\n\n\n\n久辺3区について楽しみながら調べて地域の魅力を発見。屋台村やステージイベントも予定されています。 \n\n\n\nみて たのしい！\n\n\n\n金融やITの最新技術にふれられる展示や体験コーナーを開催。普段見学できない施設も特別に公開されます。 \n\n\n\nさわって たのしい！\n\n\n\nものづくり体験やお仕事体験コーナーでは、子どもたちが自分の手で挑戦できるプログラムを用意。大人も一緒に楽しめます。 \n\n\n\nスタンプラリーでプレゼント\n\n\n\n会場をまわってスタンプを集めると、素敵な景品がもらえるスタンプラリーも実施予定。名護親方も登場予定で、親子での参加にもぴったりです。
URL:https://amacma.jp/event/%e7%ac%ac13%e5%9b%9e-%e4%b9%85%e8%be%ba%e3%83%86%e3%82%af%e3%83%8e%e3%83%95%e3%82%a7%e3%82%b9%e3%82%bf2025%ef%bd%9c%e5%90%8d%e8%ad%b7%e5%b8%82%e4%b9%85%e8%be%ba3%e5%8c%ba%e3%81%a7%e6%a5%bd%e3%81%97/
LOCATION:名護市マルチメディア館\, 豊原224-3\, 名護市\, 沖縄県\, 〒905-2172\, Japan
ATTACH;FMTTYPE=image/jpeg:https://amacma.jp/cms/wp-content/uploads/2025/10/9a8ffc4f6576a075f0719475fb4ce063_page-0001-scaled.jpg
END:VEVENT
END:VCALENDAR